BEGIN:VCALENDAR
VERSION:2.0
PRODID:-//Οδοντιατρικό Βήμα - ECPv6.0.1.1//NONSGML v1.0//EN
CALSCALE:GREGORIAN
METHOD:PUBLISH
X-ORIGINAL-URL:https://odvima.gr
X-WR-CALDESC:Events for Οδοντιατρικό Βήμα
REFRESH-INTERVAL;VALUE=DURATION:PT1H
X-Robots-Tag:noindex
X-PUBLISHED-TTL:PT1H
BEGIN:VTIMEZONE
TZID:UTC
BEGIN:STANDARD
TZOFFSETFROM:+0000
TZOFFSETTO:+0000
TZNAME:UTC
DTSTART:20260101T000000
END:STANDARD
END:VTIMEZONE
BEGIN:VEVENT
DTSTART;TZID=UTC:20260425T093000
DTEND;TZID=UTC:20260425T170000
DTSTAMP:20260420T014507
CREATED:20260401T081634Z
LAST-MODIFIED:20260401T081833Z
UID:16409-1777109400-1777136400@odvima.gr
SUMMARY:Σύγχρονες προσεγγίσεις στην προληπτική οδοντιατρική και την ενδοδοντία
DESCRIPTION:Ο Οδοντιατρικός Σύλλογος Ρεθύμνου διοργανώνει μια επιστημονική ημερίδα με θέμα: «Σύγχρονες προσεγγίσεις στην προληπτική οδοντιατρική και την ενδοδοντία» \n📅 Σάββατο 25 Απριλίου 2026\n📍 Theartemis Palace – Conference Center\, Ρέθυμνο \nΜια ολοήμερη επιστημονική εκδήλωση με κορυφαίους ομιλητές που θα παρουσιάσουν τις σύγχρονες εξελίξεις στην περιοδοντολογία και την ενδοδοντία. \nΟμιλητές\n• Ιωάννης Φουρμούζης – Περιοδοντολόγος\, Επίκουρος Καθηγητής ΕΚΠΑ\n• Κωνσταντίνος Χ. Καλογερόπουλος – Ενδοδοντολόγος\n• Αρετή Βροχάρη – Ενδοδοντολόγος \nΘεματολογία ημερίδας:\n– Σύγχρονη θεραπεία περιοδοντίτιδας & περιεμφυτευματίτιδας\n– Guided Biofilm Therapy (GBT) στην καθημερινή κλινική πράξη\n– Σύγχρονες τεχνικές μηχανικής επεξεργασίας ριζικών σωλήνων\n– Κλινικά περιστατικά και πρακτικά tips \nΗ ημερίδα μοριοδοτείται με 7 Μόρια Επαγγελματικής Επιμόρφωσης Οδοντιάτρων (ΜΕΕΟ). \nΚόστος συμμετοχής: 30€ \nΓια εγγραφές & πληροφορίες:\nΤηλ.: 2831029016\ne-mail: info@osr.gr
URL:https://odvima.gr/event/sygchrones-prosengiseis-stin-proliptiki-odontiatriki-kai-tin-endodontia/
LOCATION:Theartemis Palace\, Markou Portaliou 26\, Rethymno\, ΡΕΘΥΜΝΟΥ\, 741 00\, Greece
ATTACH;FMTTYPE=image/jpeg:https://odvima.gr/wp-content/uploads/2026/04/rethimno.jpg
ORGANIZER;CN="%CE%9F%CE%B4%CE%BF%CE%BD%CF%84%CE%B9%CE%B1%CF%84%CF%81%CE%B9%CE%BA%CF%8C%CF%82%20%CE%A3%CF%8D%CE%BB%CE%BB%CE%BF%CE%B3%CE%BF%CF%82%20%CE%A1%CE%B5%CE%B8%CF%8D%CE%BC%CE%BD%CE%BF%CF%85":MAILTO:info@OSR.gr
END:VEVENT
END:VCALENDAR