BEGIN:VCALENDAR
VERSION:2.0
PRODID:-//Οδοντιατρικό Βήμα - ECPv6.0.1.1//NONSGML v1.0//EN
CALSCALE:GREGORIAN
METHOD:PUBLISH
X-WR-CALNAME:Οδοντιατρικό Βήμα
X-ORIGINAL-URL:https://odvima.gr
X-WR-CALDESC:Events for Οδοντιατρικό Βήμα
REFRESH-INTERVAL;VALUE=DURATION:PT1H
X-Robots-Tag:noindex
X-PUBLISHED-TTL:PT1H
BEGIN:VTIMEZONE
TZID:UTC
BEGIN:STANDARD
TZOFFSETFROM:+0000
TZOFFSETTO:+0000
TZNAME:UTC
DTSTART:20240101T000000
END:STANDARD
END:VTIMEZONE
BEGIN:VEVENT
DTSTART;TZID=UTC:20240921T093000
DTEND;TZID=UTC:20240921T150000
DTSTAMP:20260426T001451
CREATED:20240902T105711Z
LAST-MODIFIED:20240902T120136Z
UID:11641-1726911000-1726930800@odvima.gr
SUMMARY:«Βήματα επιτυχίας για την ψηφιακή αποτύπωση»
DESCRIPTION:H Στοματολογική Εταιρεία Βορείου Ελλάδος διοργανώνει στις 21/9/2024 πρακτικό σεμινάριο με θέμα «Βήματα επιτυχίας για την ψηφιακή αποτύπωση». To σεμινάριο θα πραγματοποιηθεί στο ξενοδοχείο “Monastry” στη Θεσσαλονίκη (Αίθουσα Empress Theodora\, 1ος όροφος). \nΗ ενσωμάτωση των νέων ψηφιακών τεχνολογιών\, στην αποτύπωση και σχεδίαση των προσθετικών αποκαταστάσεων\, έχει δημιουργήσει καινούρια δεδομένα στην καθημερινότητα της κλινικής οδοντιατρικής πράξης. Η αλματώδης ανάπτυξη που πραγματοποιήθηκε την τελευταία δεκαετία αναφορικά με το επίπεδο της ακρίβειας και της πιστότητας του σκαναρίσματος\, καθώς και με την εισαγωγή νέων λογισμικών με τεχνολογία τεχνητής νοημοσύνης\, έχει οδηγήσει στην αυξανόμενη αποδοχή τους από την οδοντιατρική κοινότητα. Τα τρισδιάστατα ψηφιακά αποτυπώματα καλύπτουν πλέον όλο το φάσμα της προσθετικής από περιπτώσεις ενθέτων και γεφυρών έως επιεμφυτευματικών αποκαταστάσεων πλήρους φραγμού και ολικών οδοντοστοιχιών. \nΣκοπός του σεμιναρίου είναι η πρακτική εξάσκηση στην λειτουργία και χρήση των ενδοστοματικών σαρωτών TRIOS της εταιρείας 3Shape. Οι συμμετέχοντες θα ενημερωθούν για τις δυνατότητες του λογισμικού 3Shape Unite\, που απλοποιεί την καθημερινή κλινική πράξη\, ενσωματώνοντας όλα τα ψηφιακά αρχεία των ασθενών (φωτογραφίες\, ακτινογραφίες\, αποτυπώματα\, εντολές εργασίας εργαστηρίου) σε μία εύχρηστη πλατφόρμα. Ταυτόχρονα\, θα εκπαιδευτούν στις διαδικασίες της ψηφιακής αποτύπωσης κολοβωμάτων δοντιών και εμφυτευμάτων\, καθώς και στην ψηφιακή καταγραφή της σύγκλεισης.
URL:https://odvima.gr/event/vimata-epitychias-gia-tin-psifiaki-apotyposi/
LOCATION:Ξενοδοχείο Monastry\, Βασ. Ηρακλείου 45\, Θεσσαλονίκη\, 546 23\, Ελλάδα
ATTACH;FMTTYPE=image/jpeg:https://odvima.gr/wp-content/uploads/2024/09/Praktiko_Seminario.jpg
ORGANIZER;CN="%CE%A3%CF%84%CE%BF%CE%BC%CE%B1%CF%84%CE%BF%CE%BB%CE%BF%CE%B3%CE%B9%CE%BA%CE%AE%20%CE%95%CF%84%CE%B1%CE%B9%CF%81%CE%B5%CE%AF%CE%B1%20%CE%92%CE%BF%CF%81%CE%B5%CE%AF%CE%BF%CF%85%20%CE%95%CE%BB%CE%BB%CE%AC%CE%B4%CE%BF%CF%82":MAILTO:info@sebe.gr
END:VEVENT
END:VCALENDAR