BEGIN:VCALENDAR
VERSION:2.0
PRODID:-//Οδοντιατρικό Βήμα - ECPv6.0.1.1//NONSGML v1.0//EN
CALSCALE:GREGORIAN
METHOD:PUBLISH
X-WR-CALNAME:Οδοντιατρικό Βήμα
X-ORIGINAL-URL:https://odvima.gr
X-WR-CALDESC:Events for Οδοντιατρικό Βήμα
REFRESH-INTERVAL;VALUE=DURATION:PT1H
X-Robots-Tag:noindex
X-PUBLISHED-TTL:PT1H
BEGIN:VTIMEZONE
TZID:UTC
BEGIN:STANDARD
TZOFFSETFROM:+0000
TZOFFSETTO:+0000
TZNAME:UTC
DTSTART:20240101T000000
END:STANDARD
END:VTIMEZONE
BEGIN:VEVENT
DTSTART;TZID=UTC:20240914T083000
DTEND;TZID=UTC:20240915T190000
DTSTAMP:20260423T053958
CREATED:20240711T140154Z
LAST-MODIFIED:20240711T140346Z
UID:11612-1726302600-1726426800@odvima.gr
SUMMARY:«Η τέχνη και η σοφία της Ενδοδοντίας στα μονοπάτια των Κενταύρων»
DESCRIPTION:Ο Σύλλογος Ελλήνων Ενδοδοντολόγων και ο Οδοντιατρικός Σύλλογος Μαγνησίας διοργανώνουν  Διημερίδα με τίτλο «Η τέχνη και η σοφία της Ενδοδοντίας στα μονοπάτια των Κενταύρων»\, που θα πραγματοποιηθεί στις 14 & 15 Σεπτεμβρίου 2024 στο ξενοδοχείο Volos Palace. \nΗ Οργανωτική και Επιστημονική Επιτροπή διαμόρφωσαν με ιδιαίτερη επιμέλεια ένα επιστημονικό πρόγραμμα υψηλότατου επιπέδου με ομιλητές γνωστούς στην οδοντιατρική κοινότητα για την κατάρτιση\, τον επαγγελματισμό και την αξιοπιστία τους. \nΤο Σάββατο 14 Σεπτεμβρίου\, οι συμμετέχοντες θα έχουν τη δυνατότητα να παρακολουθήσουν 6 θεωρητικές διαλέξεις με θεματολογία που καλύπτει όλο το φάσμα της σύγχρονης Ενδοδοντίας και όχι μόνο\, καθώς και ένα Στρογγυλό Τραπέζι με θέμα: «Διεπιστημονική προσέγγιση Οδοντικού Τραύματος: Θεραπεία και Πρόληψη». Το θεωρητικό μέρος της Διημερίδας προσδίδει 9 Μόρια Επαγγελματικής Επιμόρφωσης Οδοντιάτρων από το ΙΕΘΕ. \nΤην Κυριακή 15 Σεπτεμβρίου\, οι συμμετέχοντες θα έχουν τη δυνατότητα να εκπαιδευτούν σε 3 διαφορετικά συστήματα μηχανοκινούμενων εργαλείων και ένα εξειδικευμένο πρακτικό σεμινάριο για την Απομόνωση\, υπό την καθοδήγηση έμπειρων και με υψηλή επιστημονική κατάρτιση συναδέλφων. \nΤο πρακτικό μέρος της Διημερίδας προσδίδει 8.25 Μόρια Επαγγελματικής Επιμόρφωσης Οδοντιάτρων από το ΙΕΘΕ. \nΕπωφεληθείτε από την έκπτωση Early Bird πραγματοποιώντας την εγγραφή σας έως τις 20/7/2024 στο https://apr.com.gr/endo-seminarvolos-2024/  \nΗ Διημερίδα πραγματοποιείται με την υποστήριξη της ΕΕΑΘΛΟ. \nΠρόγραμμα- Περισσότερες Πληροφορίες: https://greekendodontists.gr/i-techni-kai-i-sofia-tis-endodontias/
URL:https://odvima.gr/event/i-techni-kai-i-sofia-tis-endodontias-sta-monopatia-ton-kentavron/
LOCATION:Volos Palace Hotel\, Ξενοφώντος & Θράκων\, Βόλος\, Μαγνησίας\, 383 33\, Ελλάδα
ATTACH;FMTTYPE=image/jpeg:https://odvima.gr/wp-content/uploads/2024/07/SEE.jpg
ORGANIZER;CN="%CE%A3%CF%8D%CE%BB%CE%BB%CE%BF%CE%B3%CE%BF%CF%82%20%CE%95%CE%BB%CE%BB%CE%AE%CE%BD%CF%89%CE%BD%20%CE%95%CE%BD%CE%B4%CE%BF%CE%B4%CE%BF%CE%BD%CF%84%CE%BF%CE%BB%CF%8C%CE%B3%CF%89%CE%BD":MAILTO:info@greekendodontists.gr
END:VEVENT
END:VCALENDAR