BEGIN:VCALENDAR
VERSION:2.0
PRODID:-//Οδοντιατρικό Βήμα - ECPv6.0.1.1//NONSGML v1.0//EN
CALSCALE:GREGORIAN
METHOD:PUBLISH
X-WR-CALNAME:Οδοντιατρικό Βήμα
X-ORIGINAL-URL:https://odvima.gr
X-WR-CALDESC:Events for Οδοντιατρικό Βήμα
REFRESH-INTERVAL;VALUE=DURATION:PT1H
X-Robots-Tag:noindex
X-PUBLISHED-TTL:PT1H
BEGIN:VTIMEZONE
TZID:UTC
BEGIN:STANDARD
TZOFFSETFROM:+0000
TZOFFSETTO:+0000
TZNAME:UTC
DTSTART:20230101T000000
END:STANDARD
END:VTIMEZONE
BEGIN:VEVENT
DTSTART;TZID=UTC:20230204T080000
DTEND;TZID=UTC:20230205T170000
DTSTAMP:20260419T163506
CREATED:20230110T110724Z
LAST-MODIFIED:20230124T122244Z
UID:6533-1675497600-1675616400@odvima.gr
SUMMARY:Διήμερο Συμπόσιο RISING STARS
DESCRIPTION:Στις 4 & 5 Φεβρουαρίου 2023\, η Ελληνική Προσθετική Εταιρεία διοργανώνει το 2ήμερο Συμπόσιο RISING STARS στην Οδοντιατρική Σχολή της Αθήνας με ομιλίες νέων επιστημόνων\, εξαιρετικές συνεδρίες του European Association of Osseointegration Junior Committee και του Μεταπτυχιακού Προγράμματος Προσθετικής ΕΚΠΑ. \nΤο Σάββατο 4 Φεβρουαρίου η Ελληνική Προσθετική Εταιρεία διοργανώνει Πρακτικό Σεμινάριο με θέμα «Από την Ενδοστοματική Σάρωση στην τελική αποκατάσταση» με ομιλητή τον Οδοντίατρο Προσθετολόγο Δρ. Γεώργιο Σιαβίκη. Οι συμμετέχοντες θα έχουν τη δυνατότητα να δουν ζωντανά το ολοκληρωμένο συγκρότημα κατασκευής ολοκεραμικών αποκαταστάσεων στο ιατρείο (CEREC) και να κάνουν πρακτική άσκηση με τον ενδοστοματικό σαρωτή CEREC Primescan του εργοστασίου SIRONA.
URL:https://odvima.gr/event/diimero-sybosio-rising-stars/
LOCATION:Οδοντιατρική Σχολή Αθήνας\, Θηβών 2\, Γουδή\, Αθήνα\, Αττική\, 11527
ATTACH;FMTTYPE=image/jpeg:https://odvima.gr/wp-content/uploads/2023/01/Rising-Stars.jpg
ORGANIZER;CN="%CE%95%CE%BB%CE%BB%CE%B7%CE%BD%CE%B9%CE%BA%CE%AE%20%CE%A0%CF%81%CE%BF%CF%83%CE%B8%CE%B5%CF%84%CE%B9%CE%BA%CE%AE%20%CE%95%CF%84%CE%B1%CE%B9%CF%81%CE%B5%CE%AF%CE%B1":MAILTO:grprosthsociety@gmail.com
END:VEVENT
BEGIN:VEVENT
DTSTART;VALUE=DATE:20230210
DTEND;VALUE=DATE:20230211
DTSTAMP:20260419T163506
CREATED:20230130T101547Z
LAST-MODIFIED:20230130T101829Z
UID:6792-1675987200-1676073599@odvima.gr
SUMMARY:Πανοδοντιατρική απεργία
DESCRIPTION:Η Ελληνική Οδοντιατρική Ομοσπονδία (ΕΟΟ) έχει προκηρύξει 24ωρη πανοδοντιατρική απεργία την Παρασκευή 10 Φεβρουαρίου 2023 και την ίδια ημέρα και ώρα 11.30 καλεί σε συγκέντρωση διαμαρτυρίας στο Υπουργείο Εργασίας. \nΑιχμή του δόρατος για την κινητοποίηση είναι το ασφαλιστικό\, με βασικά αιτήματα: \n\nΕξίσωση των συντάξεων των υγειονομικών με των λοιπών επιστημόνων\nΑύξηση του επιδόματος μητρότητας στις μη μισθωτές αυτοαπασχολούμενες μητέρες\n\n 
URL:https://odvima.gr/event/panodontiatriki-apergia/
LOCATION:Αττικής
ATTACH;FMTTYPE=image/jpeg:https://odvima.gr/wp-content/uploads/2023/01/afisaEOO.jpg
END:VEVENT
BEGIN:VEVENT
DTSTART;TZID=UTC:20230211T090000
DTEND;TZID=UTC:20230211T150000
DTSTAMP:20260419T163506
CREATED:20221226T163621Z
LAST-MODIFIED:20230124T122244Z
UID:6416-1676106000-1676127600@odvima.gr
SUMMARY:Από την Αναγεννητική Ενδοδοντία στη μη-χειρουργική επανάληψη μιας ενδοδοντικής θεραπείας
DESCRIPTION:Ο Οδοντιατρικός Σύλλογος Πειραιά διοργανώνει στις 11 Φεβρουαρίου 2023 ημερίδα με θέμα: «Από την Αναγεννητική Ενδοδοντία στη μη-χειρουργική επανάληψη μιας ενδοδοντικής θεραπείας». Τόπος διεξαγωγής: Ράλλειο Γυμνάσιο Θηλέων\, Πειραιώς και Επονιτών 21\, 18547 Πειραιάς. \nΠΡΟΓΡΑΜΜΑ\n09:00 – 09:30 Προσέλευση – Εγγραφές\n09:30 – 10:20 Τα βιοκεραμικά υλικά στην Ενδοδοντία\, Μέρος Α’. Hugo Sousa Dias\n10:30 – 11:20 Τα βιοκεραμικά υλικά στην Ενδοδοντία\, Μέρος Β’. Hugo Sousa Dias\n11:30 – 12:00 ΔΙΑΛΕΙΜΜΑ\n12:00 – 13:30 Η μη-χειρουργική επανάληψη της ενδοδοντικής θεραπείας στην καθημερινή οδοντιατρική πράξη. Τεχνικές\, περιορισμοί και δυνατότητες\, Μέρος Α’. Χανιώτης Αντώνης\n13:40 – 14:30 Η μη-χειρουργική επανάληψη της ενδοδοντικής θεραπείας στην καθημερινή οδοντιατρική πράξη. Τεχνικές\, περιορισμοί και δυνατότητες Μέρος Β’. Χανιώτης Αντώνης\n14:30 – 15:00 ΣΥΖΗΤΗΣΗ \nΤα βιοκεραμικά υλικά στην Ενδοδοντία\nDr. Hugo Sousa Dias\, DDS\, Κλινική πρακτική άσκηση εξειδικευμένη στην Ενδοδοντία\nΜε μια γρήγορη αναζήτηση στο Pubmed μπορούμε να βρούμε περισσότερα από 2500 άρθρα σχετικά με τη χρήση των Βιοκεραμικών υλικών στην οδοντιατρική\, γεγονός που αμέσως μας δείχνει τη σημασία που έχει αποκτήσει αυτή η κατηγορία υλικών στον τομέα μας την τελευταία δεκαετία. Οι ενδείξεις τους έχουν αυξηθεί από τότε που εισήχθησαν στην αγορά τη δεκαετία του 1990. Έχουν πολυάριθμες κλινικές εφαρμογές\, από τη θεραπεία ζωντανού πολφού μέχρι τη χρήση τους ως υλικό έμφραξης της ενδοδοντίας. Αποτελούν μέρος της κατηγορίας των απαραίτητων υλικών για την καθημερινή κλινική χρήση\, υποσχόμενα έτσι την έναρξη μιας νέας εποχής στην αναγεννητική ενδοδοντική θεραπεία. Η χρήση τους έδωσε νέες ελπίδες σε πολλαπλές κλινικές καταστάσεις\, οι οποίες μέχρι την εμφάνισή τους θα ήταν καταδικασμένες σε αποτυχία. Σε αυτή την εισήγηση σκοπεύουμε να δώσουμε μια επισκόπηση των βιοκεραμικών υλικών που χρησιμοποιούνται στην ενδοδοντία παρουσιάζοντας μερικές από τις κλινικές εφαρμογές τους. \nΗ μη-χειρουργική επανάληψη της ενδοδοντικής θεραπείας στην καθημερινή οδοντιατρική πράξη. Τεχνικές\, περιορισμοί και δυνατότητες\nDr. Χανιώτης Αντώνης\, Χειρουργός Οδοντίατρος\, MSc Ενδοδοντίας ΕΚΠΑ\nΗ ενδοδοντική θεραπεία είναι μια καλά δοκιμασμένη διαδικασία που έχει προσφέρει ανακούφιση από τον πόνο και έχει αποκαταστήσει λειτουργικά και αισθητικά τους ασθενείς για πολλές δεκαετίες. Αν και η αρχική ενδοδοντική θεραπεία κατέχει υψηλά ποσοστά επιτυχίας\, μπορεί να μην έχει πάντα ως αποτέλεσμα την επούλωση ή την πρόληψη της ακρορριζικής περιοδοντίτιδας. Τέτοιες περιπτώσεις περιακρορριζικής νόσου που δεν επιλύεται μετά τη θεραπεία ονομάζονται ενδοδοντικές αποτυχίες. Είναι γενικά αποδεκτό ότι οι περισσότερες αποτυχίες συμβαίνουν όταν οι αρχικές ενδοδοντικές θεραπείες αποτυγχάνουν να επιτύχουν επαρκές επίπεδο ελέγχου της μόλυνσης των ριζικών σωλήνων. Αν η απολύμανση των ριζικών σωλήνων μπορεί να αποτύχει κατά τη διάρκεια των αρχικών ενδοδοντικών θεραπειών\, τότε πόσο προβλέψιμη μπορεί να είναι μια επανάληψη της ενδοδοντικής θεραπείας; Σε αυτή τη διάλεξη έχει προγραμματιστεί να συζητηθούν τα όρια και οι δυνατότητες των διαδικασιών που μπορεί να εμπλέκονται στην επανάληψη μιας ενδοδοντικής θεραπείας και να περιγράφουν βασικές τεχνικές για την επίτευξή της. \nΗ συμμετοχή είναι δωρεάν | Παράλληλη μετάφραση στα Ελληνικά\nΧΟΡΗΓΟΥΝΤΑΙ 6 ΜΟΡΙΑ ΕΠΑΓΓΕΛΜΑΤΙΚΗΣ ΕΠΙΜΟΡΦΩΣΗΣ ΟΔΟΝΤΙΑΤΡΩΝ (Μ.Ε.Ε.Ο)\nΔΗΛΩΣΕΙΣ ΣΥΜΜΕΤΟΧΗΣ: sales@tsaprazis.gr\, τηλ.: 210 7716416\nΧορηγός της εκδήλωσης είναι η εταιρεία Ιωάνης Τσαπράζης Α.Ε.
URL:https://odvima.gr/event/apo-tin-anagennitiki-endodontia-sti-m/
LOCATION:Ράλλειο Γυμνάσιο Θηλέων\, Πειραιώς και Επονιτών 21\, Πειραιάς\, 18547\, Ελλάδα
ATTACH;FMTTYPE=image/jpeg:https://odvima.gr/wp-content/uploads/2022/12/osp.jpg
END:VEVENT
BEGIN:VEVENT
DTSTART;TZID=UTC:20230211T090000
DTEND;TZID=UTC:20230211T163000
DTSTAMP:20260419T163506
CREATED:20221227T120446Z
LAST-MODIFIED:20221227T120446Z
UID:6428-1676106000-1676133000@odvima.gr
SUMMARY:Peri-Implantitis: A relay race of prevention and therapy – Linking Science with Practice
DESCRIPTION:One-Day Conference. February 11th\, 2023\, “Electra Palace Hotel”\, Thessaloniki \nPeri-Implantitis: A relay race of prevention and therapy – Linking Science with Practice \nIn a relay race\, runners must pass the baton from one to the next within a predefined zone. If they fail to make the handoff within that zone they are disqualified. At the same time the runner receiving the baton cannot start their leg of the race from a complete stop. The amount of time lost and a poor handoff could have detrimental effects on the outcome. The number of patients receiving or carrying dental implants worldwide has increased. As current data suggests\, peri-implantitis is more common than originally thought and its therapy resembles a relay race including a set number of stages passing the baton from prevention to therapy and backwards. The last runner in the race of peri-implantitis therapy\, is often the periodontist who is usually considered to take the project over the winning-line. As the last runner\, we often deal with the worst case scenarios and we have somehow to turn around and fetch the baton on many issues to neutralize the discrepancies between the previous handoffs. In this conference we will discuss the different dynamic zones/aspects of peri-implantitis therapy to achieve a better treatment outcome. \nPROGRAM \n09.00 – 09.30 Registration & Welcome Coffee\n09.30 – 10.00 Opening remarks\nMorning Session 10.00 – 12.00 | Moderator: Dimitra Sakellari\n10.00 – 11.30 Caspar Wohlfahrt – Maria Balta:\n• Primordial Prevention (processes put in place before the implant is placed\, educating the patient\, assessing systemic and local factors on the patient level affecting susceptibility for peri-implant disease)\n• Primary Prevention (processes put in place after the implant is placed to prevent the development of peri-implant disease)\n• Diagnosis and prevalence of peri-implant diseases\n11.30 – 12.00 Discussion\n12.00 – 13.00 Lunch Break\nMidday Session 13.00 – 15.30 | Moderator: Charalampos Kalaitzakis\n13.00 – 15.00 Maria Balta – Caspar Wohlfahrt:\n• Non- surgical treatment (mechanical aspect & adjunctive therapies\, treatment outcomes/ limitations and timing of re-evaluation)\n• Surgical treatment (devices and adjunctives for surface decontamination\, chemical methods\, decision making on implantoplasty\, reconstructive and regenerative procedures)\n• Secondary Prevention (processes put in place once the disease is treated to prevent recurrence\, soft tissue management\, supportive therapy)\n15.00 – 15.30 Discussion and closing remarks\n15.30 – 16.30 General Assembly \nORGANIZING COMMITTEE: L. Tsalikis\, W. Papaioannou\, L. Batas \nRegistration Fees (Subscriptions until February 7th) HSP\nMembers: 70 € – Non Members: 90 € – Students: 50 € \nInformation / Registration: e-mail: helperio@periodontology.gr – Web site: www.periodontology.gr – Tel./Fax: +30 210 7484167
URL:https://odvima.gr/event/peri-implantitis-a-relay-race-of-prevention-and-therapy-linking-science-with-practice/
LOCATION:Electra Palace Hotel\, Αριστοτέλους 9\, Θεσσαλονίκη\, 54624\, Ελλάδα
ATTACH;FMTTYPE=image/jpeg:https://odvima.gr/wp-content/uploads/2022/12/epe.jpg
ORGANIZER;CN="%CE%95%CE%BB%CE%BB%CE%B7%CE%BD%CE%B9%CE%BA%CE%AE%20%CE%95%CF%84%CE%B1%CE%B9%CF%81%CE%B5%CE%AF%CE%B1%20%CE%A0%CE%B5%CF%81%CE%B9%CE%BF%CE%B4%CE%BF%CE%BD%CF%84%CE%BF%CE%BB%CE%BF%CE%B3%CE%AF%CE%B1%CF%82%20%CE%BA%CE%B1%CE%B9%20%CE%9F%CE%B4%CE%BF%CE%BD%CF%84%CE%B9%CE%BA%CF%8E%CE%BD%20%CE%95%CE%BC%CF%86%CF%85%CF%84%CE%B5%CF%85%CE%BC%CE%AC%CF%84%CF%89%CE%BD":MAILTO:helperio@periodontology.gr
END:VEVENT
BEGIN:VEVENT
DTSTART;TZID=UTC:20230211T091500
DTEND;TZID=UTC:20230211T140000
DTSTAMP:20260419T163506
CREATED:20221227T135804Z
LAST-MODIFIED:20230124T122244Z
UID:6433-1676106900-1676124000@odvima.gr
SUMMARY:Νεότερες θεραπευτικές προσεγγίσεις στην οδοντιατρική κλινική πράξη με έμφαση στην αισθητική αποκατάσταση
DESCRIPTION:H 9η Ημερίδα της Επιστημονικής Εταιρείας Χειρουργικής Στόματος\, με τίτλο «Νεότερες θεραπευτικές προσεγγίσεις στην οδοντιατρική κλινική πράξη με έμφαση στην αισθητική αποκατάσταση» πρόκειται να πραγματοποιηθεί στην Αθήνα\, την 11η Φεβρουαρίου 2023 στο ξενοδοχείο Divani Caravel (αίθουσα Ολυμπία). Η θεματολογία καλύπτει τις σύγχρονες απαιτήσεις της οδοντιατρικής κλινικής πράξης\, με ιδιαίτερη έμφαση στην αισθητική αποκατάσταση\, που άλλωστε είναι και το ζητούμενο σήμερα. Οι καταξιωμένοι ομιλητές με τα θέματα που θα αναπτύξουν θα ικανοποιήσουν με τον καλύτερο τρόπο τις προσδοκίες σας. \nΠΡΟΓΡΑΜΜΑ \n09:15 – 09:30 Προσφωνήσεις. Φραγκίσκος Δ. Φραγκίσκος\, Κίττας Χρήστος\n09:30 -11:00 A ́ Eπιστημονική Συνεδρία\nΠΡΟΕΔΡΟΙ: Βασίλειος Πανής\, Γεώργιος Μασούλας\n09:30-09:55 Η χρήση των ενδοστοματικών συσκευών (νάρθηκες κ.ά.) στην καθημερινή οδοντιατρική πράξη. Μιχάλης Τζάκης\n9:55-10:20 Ελάχιστης επέμβασης αποκαταστάσεις καταγμάτων σκληρών οδοντικών ιστών. Κοσμάς Τολίδης\n10:20-10:45 Μονήρεις πρόσθιες αισθητικές αποκαταστάσεις και η επίδραση τους στο χαμόγελο. Άμεσες και έμμεσες επιλογές. Στρατής Παπάζογλου\nΣυζήτηση\n11:00-11:30 Διάλειμμα\n11:30 -12:30 B ́ Eπιστημονική Συνεδρία\n    ΠΡΟΕΔΡΟΙ: Ελεάνα Στουφή\, Ιωάννης Φουρμούζης\nΑισθητική αποκατάσταση χειλικού περιγράμματος και ρητίδων περιστοματικής περιοχής (θεωρητική ανάπτυξη και ζωντανή επέμβαση σε ασθενή). Ανδρέας Φουστάνος\nΣυζήτηση\n12:30 -13:00 Διάλειμμα\n13.00 -13:15 Video-ταινία: Αφαίρεση οδοντικού εμφυτεύματος από το ιγμόρειο άντρο. Φραγκίσκος Φραγκίσκος\, Παναγιώτα Παπανικολάου\, Γεώργιος Νεόφυτος\, Νεκτάριος Λεστάρης\n13:15-13:40 Αποτυχία εμφυτεύματος στην αισθητική ζώνη: αίτια και αντιμετώπιση. Γεώργιος Νεόφυτος\n13:40 – 14:00 Συζήτηση – Εξαγωγή συμπερασμάτων – Προτάσεις
URL:https://odvima.gr/event/neoteres-therapeftikes-prosengise/
LOCATION:Divani Caravel\, Λεωφ. Βασιλέως Ἀλεξάνδρου 2\, Αθήνα\, Αττικής\, 16121\, Ελλάδα
ATTACH;FMTTYPE=image/jpeg:https://odvima.gr/wp-content/uploads/2022/12/eexs.jpg
ORGANIZER;CN="%CE%95%CF%80%CE%B9%CF%83%CF%84%CE%B7%CE%BC%CE%BF%CE%BD%CE%B9%CE%BA%CE%B7%CC%81%20%CE%95%CF%84%CE%B1%CE%B9%CF%81%CE%B5%CE%B9%CC%81%CE%B1%20%CE%A7%CE%B5%CE%B9%CF%81%CE%BF%CF%85%CF%81%CE%B3%CE%B9%CE%BA%CE%B7%CC%81%CF%82%20%CE%A3%CF%84%CE%BF%CC%81%CE%BC%CE%B1%CF%84%CE%BF%CF%82":MAILTO:info@ssos.gr
END:VEVENT
BEGIN:VEVENT
DTSTART;TZID=UTC:20230213T130000
DTEND;TZID=UTC:20230213T140000
DTSTAMP:20260419T163506
CREATED:20221215T095959Z
LAST-MODIFIED:20230210T093130Z
UID:6401-1676293200-1676296800@odvima.gr
SUMMARY:Απεικονιστικά ευρήματα συστηματικών νόσων στη Γναθοπροσωπική περιοχή
DESCRIPTION:Webinar της Στοματολογικής Εταιρείας Ελλάδας με ομιλητή τον κ. Κ. Τσιχλάκη\, Ομότιμο Καθηγητή ΕΚΠΑ.\nΧορηγείται 1 ΜΕΕΟ \n 
URL:https://odvima.gr/event/apeikonistika-evrimata-systimatikon/
LOCATION:Αττικής
ATTACH;FMTTYPE=image/jpeg:https://odvima.gr/wp-content/uploads/2022/12/see-web.jpg
ORGANIZER;CN="%CE%A3%CF%84%CE%BF%CE%BC%CE%B1%CF%84%CE%BF%CE%BB%CE%BF%CE%B3%CE%B9%CE%BA%CE%AE%20%CE%95%CF%84%CE%B1%CE%B9%CF%81%CE%B5%CE%AF%CE%B1%20%CF%84%CE%B7%CF%82%20%CE%95%CE%BB%CE%BB%CE%AC%CE%B4%CE%BF%CF%82":MAILTO:info@stomatologia.gr
END:VEVENT
BEGIN:VEVENT
DTSTART;TZID=UTC:20230217T080000
DTEND;TZID=UTC:20230218T170000
DTSTAMP:20260419T163506
CREATED:20221215T115946Z
LAST-MODIFIED:20230124T122244Z
UID:6407-1676620800-1676739600@odvima.gr
SUMMARY:Πρόγραμμα Επαγγελματικής Επιμόρφωσης στην Ουλοβλεννογόνια Πλαστική χειρουργική του περιοδοντίου
DESCRIPTION:Η Εταιρεία Οδοντοστοματολογικής Ερεύνης διοργανώνει\, για πρώτη φορά\, ένα ολοκληρωμένο Πρόγραμμα Επαγγελματικής Επιμόρφωσης που αφορά στην Ουλοβλεννογόνια Πλαστική χειρουργική του περιοδοντίου. \nΤο πρόγραμμα είναι 8ήμερο\, μοιρασμένο σε 3 Ενότητες (2 τριήμερες και μία διήμερη). Στο διάστημα αυτό μια ομάδα από 13 εξειδικευμένους έμπειρους περιοδοντολόγους και 2 προσθετολόγους θα εκπαιδεύσει τους συμμετέχοντες τόσο σε θεωρητικό όσο και σε πρακτικό επίπεδο. \nΟι συμμετέχοντες στο πρόγραμμα θα έχουν πρόσβαση στη σύγχρονη σχετική βιβλιογραφία\, ενώ μέσω μιας σειράς από πέντε hands-on σε γνάθους χοίρων θα έχουν την δυνατότητα να εξασκηθούν σε διάφορες χειρουργικές τεχνικές. Το σημαντικότερο όμως είναι ότι οι συμμετέχοντες θα έχουν τη δυνατότητα κλινικής άσκησης σε ασθενείς που θα φέρουν οι ίδιοι στην κλινική της Εταιρείας και θα δουλέψουν με την καθοδήγηση και υπό την επίβλεψη έμπειρων εκπαιδευτών στο νέο ανακαινισμένο και πλήρως εξοπλισμένο οδοντιατρείο της. \nΕπίσης\, οι συμμετέχοντες οδοντίατροι διατηρούν το δικαίωμα να προσκομίσουν ασθενή για κλινική άσκηση έως και 6 μήνες μετά το πέρας του προγράμματος (κατόπιν συνεννόησης με τους συντονιστές). \nΤο πρώτο μέρος θα πραγματοποιηθεί 17-18 Φεβρουαρίου 2023\, ενώ η δεύτερη ενότητα θα ακολουθήσει στις 16-17 Μαρτίου και η τρίτη στις 4-5 Μαΐου.
URL:https://odvima.gr/event/programma-epangelmatikis-epimorfosi/
LOCATION:Αττικής
ATTACH;FMTTYPE=image/jpeg:https://odvima.gr/wp-content/uploads/2022/12/eoe.jpg
ORGANIZER;CN="%CE%95%CF%84%CE%B1%CE%B9%CF%81%CE%B5%CE%AF%CE%B1%20%CE%9F%CE%B4%CE%BF%CE%BD%CF%84%CE%BF%CF%83%CF%84%CE%BF%CE%BC%CE%B1%CF%84%CE%BF%CE%BB%CE%BF%CE%B3%CE%B9%CE%BA%CE%AE%CF%82%20%CE%95%CF%81%CE%B5%CF%8D%CE%BD%CE%B7%CF%82":MAILTO:eoe@otenet.gr
END:VEVENT
BEGIN:VEVENT
DTSTART;TZID=UTC:20230218T080000
DTEND;TZID=UTC:20230219T170000
DTSTAMP:20260419T163506
CREATED:20230102T135457Z
LAST-MODIFIED:20230124T101241Z
UID:6464-1676707200-1676826000@odvima.gr
SUMMARY:Meet the Legends
DESCRIPTION:Η Ακαδημία Κλινικής Οδοντιατρικής διοργανώνει στις 18-19 Φεβρουαρίου 2023 το διήμερο συνέδριο “Meet the Legends” με προσκεκλημένους ομιλητές τον Dr. Stephen Chu και τον Dr. Federico Ferraris. \nO Dr.  Stephen Chu  είναι Adjunct Clinical Professor στο New York University College of Dentistry στα τμήματα της Περιοδοντολογίας\, της Οδοντιατρικής Εμφυτευμάτων και της Προσθετικής. Διατηρεί ιδιωτικό ιατρείο στη Νέα Υόρκη με εξειδίκευση στην Ακίνητη Προσθετική\, την Αισθητική και την Οδοντιατρική Εμφυτευμάτων. Έχει περισσότερες από 100 δημοσιεύσεις\, συμπεριλαμβανομένων 7 βιβλίων και έχει δώσει διαλέξεις σε εθνικό και διεθνές επίπεδο σχετικά με θέματα Αισθητικής\, Επανορθωτικής και Οδοντιατρικής Εμφυτευμάτων. \nΟ Dr. Federico Ferraris ασκεί την οδοντιατρική ως ελεύθερος επαγγελματίας στην Αλεξάνδρεια της Ιταλίας. Είναι μέλος πολυάριθμων οδοντιατρικών εταιρειών και διδάσκει σε πολλά Πανεπιστήμια. Έχει δημοσιεύσει πολυάριθμες εργασίες κι είναι συν-συγγραφέας του βιβλίου “Precision in Dental Esthetics” των D. Massironi\, R. Pascetta\, και G. Romeo .Είναι ιδρυτής του ADHESTHETICS και διεξάγει σειρά σεμιναρίων στον τομέα της Αισθητικής Οδοντιατρικής\, τόσο στην Ιταλία όσο και στο εξωτερικό (περισσότερες από 30 χώρες). \nΟ κάθε ομιλητής θα έχει μια πλήρη ημέρα στη διάθεσή του\, προκειμένου να αναλύσει το θέμα που του έχει ανατεθεί\, με άνεση χρόνου. Εκτός από τις θεωρητικές παρουσιάσεις\, θα γίνουν και πρακτικές επιδείξεις που θα τις παρακολουθήσουν όλοι οι συμμετέχοντες\, ώστε να προκύψει το μέγιστο δυνατό διδακτικό αποτέλεσμα. \nΤο συνέδριο θα γίνει στο ξενοδοχείο Divani Caravel\, στη μεγαλύτερη αίθουσα Olympia στο υπόγειο. Oι παρουσιάσεις κι οι πρακτικές επιδείξεις των ομιλητών θα προβάλλονται σε μεγάλου εύρους οθόνη\, με προβολέα υψηλών προδιαγραφών\, ενώ παράλληλα θα υπάρχει ταυτόχρονη μετάφραση από τα αγγλικά στα ελληνικά. Τέλος\, με τη λήξη του συνεδρίου\, θα δοθεί δίπλωμα παρακολούθησης στους συμμετέχοντες. \nΣτη διάρκεια του συνεδρίου θα υπάρχει συνεχόμενο διάλειμμα καφέ\, διαθέσιμο στους συμμετέχοντες κατά την προσέλευσή τους στο συνέδριο\, πριν την έναρξη του συνεδρίου και μέχρι τη λήξη του. Στους συμμετέχοντες\, επίσης\, θα διατεθεί ελαφρύ γεύμα το μεσημέρι. Τόσο τα διαλείμματα του καφέ όσο και το ελαφρύ γεύμα\, θα προσφερθούν στην αίθουσα\, παραπλεύρως της αίθουσας Olympia\, όπου θα λειτουργεί έκθεση οδοντιατρικών εταιρειών σε όλη τη διάρκεια του συνεδρίου. \nΠρόγραμμα \nΗμέρα 1η – 18 Φεβρουρίου 2023.\nDr. Stephen Chu.\nΑισθητικοί καθοριστικοί παράγοντες για δόντια και εμφυτεύματα. \n09:00-10:30     Επιλογή δοντιών σε ενόδοντες ασθενείς.\nΑποκλίσεις στο μέγεθος των δοντιών σε σχέση με την αισθητική\, τη σύγκλειση και την ανάλυση Bolton.\nΤελευταίες μελέτες για το μέγεθος και το σχήμα των δοντιών και εάν υπάρχει διαφοροποίηση ανάλογα με το φύλο. \n10:30-11:00     Διάλειμμα – Καφέ. \n11:00-12:30     Απομυθοποιώντας την Ροζ Αισθητική σε Αποκαταστάσεις: Περιοδοντικές-Επανορθωτικές Αλληλεπιδράσεις.\nΠοιοι είναι οι νέοι αισθητικοί παράγοντες που καθορίζουν την ροζ αισθητική;\nΠοιο είναι το χρωματικό όριο του ροζ ιστού;\nΤο χρώμα των μεσοδόντιων ιστών ποικίλλει περισσότερο από τα παρακείμενα μαλακά μόρια;\nΠότε μπορούν να χρησιμοποιηθούν μακρο και μίνι ροζ προσθετικές διορθώσεις στην αισθητική ζώνη; \n12:30-13:30     Ελαφρύ Γεύμα. \n13:00-15:00     Άμεση Αντικατάσταση Δοντιού στην Αισθητική Ζώνη: Κίνδυνοι\, Επιπλοκές και Λύσεις. Μέρος 1ο.\nΕπιπλοκές και κίνδυνοι των εμφυτευμάτων στην αισθητική ζώνη.\nΗ Βιολογία πίσω από τον περιφερικό όγκο οστού για μακροχρόνια συντήρηση και πρόληψη κατάρρευσης της φατνιακής ακρολογίας\, υφιζήσεων και απώλειας θηλών. \n15:00-15:30     Διάλειμμα – Καφέ. \n15:30-17:00     Άμεση Αντικατάσταση Δοντιού στην Αισθητική Ζώνη: Κίνδυνοι\, Επιπλοκές και Λύσεις. Μέρος 2ο.\nΈννοια ανάστροφης μετατόπισης σώματος διπλού άξονα (inverted body-shift dual-axis) σε μακρο-υβριδικό σχέδιο εμφυτεύματος.\nΚλινικές ενδείξεις και αντενδείξεις για τη χρήση του εμφυτεύματος Inverta Co-Axis. \nΗμέρα 2η – 19 Φεβρουρίου 2023.\nDr. Federico Ferraris.\nΠρωτόκολλα Τελειότητας στην Αισθητική Οδοντιατρική σε Συνεργασία με την Επανορθωτική Οδοντιατρική. \n09:00-10:30 Προσέγγιση αισθητικών περιστατικών από την άποψη του μάρκετινγκ και της επικοινωνίας.\nΚανόνες αισθητικής: μορφολογία\, υφή και χρώμα.Το χαμόγελο στην αρμονία του προσώπου.Θεραπευτικές επιλογές στη συγκολλητική αισθητική επανορθωτική οδοντιατρική.\nΆμεσες αποκαταστάσεις σύνθετης ρητίνης για μονήρεις αποκαταστάσεις μερική κάλυψης.\nΕνδείξεις και σχέδιο θεραπείας.Συγκόλληση.Υπερώιο κέλυφος και όμορα τοιχώματα.Φάσεις διαστρωμάτωσης (σώμα\, διαφάνειες και αδαμαντίνες).\nΤελείωση και στίλβωση. \n10:30-11:00 Διάλειμμα – Καφέ. \n11:00-12:30 Ζωντανή Επίδειξη: Πρόσθια Άμεση Αποκατάσταση IV ομάδας.\nΑναλυτικές Τεχνικές Διαστρωμάτωσης σύμφωνα με Πρωτόκολλα που συνδυάζουν Συγκόλληση & Αισθητική (Adhesthetics). \n12:30-13:30 Ελαφρύ Γεύμα. \n13:00-15:00 Προσέγγιση αισθητικών περιστατικών από την άποψη του μάρκετινγκ και της επικοινωνίας.\nΟι 7 θεμελιώδεις κανόνες επικοινωνίας στην αισθητική.Η επανορθωτική αλληλουχία στην επικοινωνία και την αποδοχή του σχεδίου θεραπείας.\nΤροποποίηση χαμόγελου με άμεσες όψεις σύνθετης ρητίνης.\nΕνδείξεις και σχέδιο θεραπείας.\nΤεχνική υπερώιου κέλυφους. Φάσεις διαστρωμάτωσης. Τελείωση και λείανση.\nΤροποποίηση χαμόγελου με έμμεσες κεραμικές όψεις. Ενδείξεις και κλινικές εκτιμήσεις.Χρονικός σχεδιασμός κεραμικών όψεων.Ενδοστοματική προσομοίωση διαγνωστικού κερώματος (Mock up).Παρασκευή (χωρίς παρασκευή\, ελάχιστη παρασκευή και κλασσικές παρασκευές) – Αποτύπωση και Προσωρινές Αποκαταστάσεις.Αισθητική δοκιμή. \n15:00-15:30 Διάλειμμα – Καφέ. \n15:30-17:00 Ζωντανή Επίδειξη: Παρασκευή για Έμμεσες Όψεις.\nΚλασσική και Ελάχιση Παρασκευή σύμφωνα τα Πρωτόκολλα που συνδυάζουν Συγκόλληση & Αισθητική (Adhesthetics).
URL:https://odvima.gr/event/meet-the-legends/
LOCATION:Divani Caravel\, Λεωφ. Βασιλέως Ἀλεξάνδρου 2\, Αθήνα\, Αττικής\, 16121\, Ελλάδα
ATTACH;FMTTYPE=image/jpeg:https://odvima.gr/wp-content/uploads/2022/11/mtl2023.jpg
END:VEVENT
BEGIN:VEVENT
DTSTART;TZID=UTC:20230218T090000
DTEND;TZID=UTC:20230218T140000
DTSTAMP:20260419T163506
CREATED:20230127T140210Z
LAST-MODIFIED:20230127T140343Z
UID:6782-1676710800-1676728800@odvima.gr
SUMMARY:Σύγχρονες απόψεις για τη θεραπεία πολφού νεογιλών και νεαρών μόνιμων δοντιών σε παιδιά και εφήβους
DESCRIPTION:Η Στοματολογική Εταιρεία της Ελλάδος διοργανώνει ημερίδα με θέμα: «Σύγχρονες απόψεις για τη θεραπεία πολφού νεογιλών και νεαρών μόνιμων δοντιών σε παιδιά και εφήβους» το Σάββατο 18 Μαρτίου 2023 και ώρα 09:00-14:00 στο Επιστημονικό Κέντρο της Εταιρείας \nΣκοπός της Ημερίδας είναι να παρουσιαστούν οι πιο πρόσφατες εξελίξεις\, με αλλαγές στα υλικά και στην κλινική μεθοδολογία\, στην θεραπεία του πολφού των νεογιλών και των νεαρών μονίμων δοντιών με ανοικτό ακρορρίζιο\, σύμφωνα με διεθνείς μελέτες και τις κλινικές οδηγίες της Ευρωπαϊκής και της Αμερικανικής Ακαδημίας Παιδοδοντιατρικής και τις αντίστοιχες της Ενδοδοντολογίας. Θα συζητηθούν η άμεση και έμμεση κάλυψης του νεογιλού πολφού\, σε περιπτώσεις βαθιάς τερηδονικής βλάβης. Επίσης η πολφοτομή και η πολφεκτομή των νεογιλών και μονίμων τραυματισμένων αδιάπλαστων προσθίων δοντιών\, σε περιπτώσεις μη αντιστρεπτής πολφίτιδας ή νεκρού πολφού. Τέλος θα αναλυθούν εκτενώς οι σύγχρονες προσεγγίσεις\, με χρήση βιοενεργών υλικών και αντίστοιχων τεχνικών\, για τη συντηρητική θεραπεία του φλεγμαίνοντος/μολυσμένου αλλά ζωντανού πολφού των νεαρών μονίμων αδιάπλαστων οπισθίων δοντιών\, συχνά απαραίτητη σε βαθιά τερηδονική βλάβη. \nΕισηγητές:\nΝίκος Α. Λυγιδάκης\, Υφηγητής Παιδοδοντιατρικής Παν/μίου Leeds\, UK\nΓιώργος Τζανετάκης\, Επίκουρος Καθηγητής Ενδοδοντίας\, ΕΚΠΑ\nΝίκος Ν. Λυγιδάκης\, Δρ. Παιδοδοντίατρος MPaedDentRCS (Engl) \nΠΡΟΓΡΑΜΜΑ  \n09.00 – 09.30 Εγγραφές και παραλαβή υλικού\n09.30 – 10.15 Σύγχρονες απόψεις για την άμεση και έμμεση κάλυψη του νεογιλού πολφού. Νίκος Ν. Λυγιδάκης\n10.15 – 11.00 Πολφοτομή και πολφεκτομή στα νεογιλά δόντια. Πότε και Πως. Νίκος Α. Λυγιδάκης \n11.00 – 11.30 Διάλειμμα-καφές \n11.30 – 12.15 Συντηρητική θεραπεία φλεγμαίνοντα/ζωντανού πολφού σε νεαρά μόνιμα οπίσθια δόντια με βαθιά τερηδονική βλάβη. Γιώργος Τζανετάκης\n12.15 – 13.00 Κλινική αντιμετώπιση φλεγμαίνοντα/ζωντανού και νεκρού πολφού σε νεαρά μόνιμα πρόσθια δόντια μετά από τραυματισμό. Νίκος Α. Λυγιδάκης\n13.00 – 14.00 Συζήτηση \nΗ είσοδος είναι ελεύθερη.
URL:https://odvima.gr/event/sygchrones-apopseis-gia-ti-therapeia-polfou-neogilon-kai-nearon-monimon-dontion-se-paidia-kai-efivous/
LOCATION:Στοματολογική Εταιρεία της  Ελλάδος\, Καλλιρόης 17\, Αθήνα\, Αττικής\, 11743\, Ελλάδα
ATTACH;FMTTYPE=image/jpeg:https://odvima.gr/wp-content/uploads/2023/01/see.jpg
ORGANIZER;CN="%CE%A3%CF%84%CE%BF%CE%BC%CE%B1%CF%84%CE%BF%CE%BB%CE%BF%CE%B3%CE%B9%CE%BA%CE%AE%20%CE%95%CF%84%CE%B1%CE%B9%CF%81%CE%B5%CE%AF%CE%B1%20%CF%84%CE%B7%CF%82%20%CE%95%CE%BB%CE%BB%CE%AC%CE%B4%CE%BF%CF%82":MAILTO:info@stomatologia.gr
END:VEVENT
BEGIN:VEVENT
DTSTART;TZID=UTC:20230218T090000
DTEND;TZID=UTC:20230218T153000
DTSTAMP:20260419T163506
CREATED:20230131T151248Z
LAST-MODIFIED:20230131T151248Z
UID:6890-1676710800-1676734200@odvima.gr
SUMMARY:Ο ασθενής με δυσλειτουργία του στοματογναθικού: Σπάνιο φαινόμενο καθημερινός επισκέπτης στο ιατρείο μας. Βασικές αρχές διάγνωσης και αντιμετώπισης πριν συμβούν τα χειρότερα.
DESCRIPTION:Η 1η επιστημονική ημερίδα του Οδοντιατρικού Συλλόγου Αττικής για το 2023 με θέμα: «Ο ασθενής με δυσλειτουργία του στοματογναθικού: Σπάνιο φαινόμενο καθημερινός επισκέπτης στο ιατρείο μας. Βασικές αρχές διάγνωσης και αντιμετώπισης πριν συμβούν τα χειρότερα.» θα διεξαχθεί το Σάββατο 18 Φεβρουαρίου 2023\, στο ξενοδοχείο Novotel Athenes. \nΕΙΣΗΓΗΤΕΣ:\nΑ. Κανελλοπούλου\, Επίκ. Καθηγήτρια ΕΚΠΑ\nΔ.Δ. Μητσικώστας\, Καθηγητής Νευρολογίας ΕΚΠΑ\nΕ. Σαρλάνη\, Ειδικευθείσα στην Αντιμετώπιση Στοματοπροσωπικού Πόνου\nΜ. Τζάκης\, Ομότιμος Καθηγητής ΕΚΠΑ \nΣΥΝΟΝΙΣΤΗΣ:\nBασίλειος Ψάρρας\, Επίκ. Καθηγητής\, Διευθυντής Κλινικής Αντιμετώπισης Στοματοπροσωπικού Πόνου\, ΕΚΠΑ \nΕΓΓΡΑΦΕΣ: 9:00 – 9:30\nΔΙΑΡΚΕΙΑ ΗΜΕΡΙΔΑΣ: 9:30 – 15.30 \nΟ Στοματοπροσωπικός πόνος και η Δυσλειτουργία του Στοματογναθικού –δηλαδή η μυοσκελετική συνιστώσα του– είναι διεθνώς ένα πρόβλημα δημόσιας υγείας\, που επηρεάζει έως και το 15% του ενήλικου πληθυσμού και το 7% των εφήβων. Τα συμπτώματα της Δυσλειτουργίας είναι πολλές φορές ασαφή και συγκεχυμένα. Συχνά παραμένουν υποκλινικά\, κι ενεργοποιούνται με αφορμή κάποια οδοντιατρική διαδικασία\, εκθέτοντας το κλινικό οδοντίατρο και φέρνοντας τον απέναντι στον ασθενή του. \nΆλλες φορές\, στο μεγάλο πληθυσμό των συμπτωματικών ασθενών\, πολλοί υποβάλλονται –με καλή πρόθεση μεν\, αλλά εντελώς λανθασμένα– σε εκτεταμένη μηχανιστική θεραπεία\, ενώ η αιτία του προβλήματος πολύ απέχει από τα δόντια. Και η κατάσταση όταν παραμένει αθεράπευτη ή υποθεραπευμένη ή με καινούργια προβλήματα να προστίθενται -ιατρογενή αυτή τη φορά- εξελίσσεται και χρονίζει\, γινόμενη διαρκώς δυσκολότερη τόσο σωματικά\, όσο και ψυχοσυναισθηματικά. Περίπου το 15%-18% των ασθενών με Δυσλειτουργία και Στοματοπροσωπικό πόνο καταλήγουν σε αυτήν την δύσκολη κατηγορία. \nΣκοποί της ημερίδας αυτής είναι να διευκρινισθούν οι:\n• βασικές αρχές που διέπουν την έγκαιρη αναγνώριση της Δυσλειτουργίας\,\n• οι βασικές αρχές διαφοροδιάγνωσης -σε σχέση με το πόνο οδοντικής αιτιολογίας- και διάγνωσης του Στοματοπροσωπικού πόνου και\n• οι βασικές αρχές που πρέπει να διέπουν την αντιμετώπιση του.
URL:https://odvima.gr/event/o-asthenis-me-dysleitourgia-tou-stomatognathikou-spanio-fainomeno-kathimerinos-episkeptis-sto-iatreio-mas-vasikes-arches-diagnosis-k/
LOCATION:Novotel Athenes\, Μιχαήλ Βόδα 4\, Αθήνα\, Αττικής\, 10439
ATTACH;FMTTYPE=image/jpeg:https://odvima.gr/wp-content/uploads/2023/01/osa1.jpg
END:VEVENT
BEGIN:VEVENT
DTSTART;TZID=UTC:20230220T130000
DTEND;TZID=UTC:20230220T140000
DTSTAMP:20260419T163506
CREATED:20221215T100312Z
LAST-MODIFIED:20230124T122244Z
UID:6403-1676898000-1676901600@odvima.gr
SUMMARY:Η έγκυος στο οδοντιατρείο: ως ιατρός\, ως ασθενής
DESCRIPTION:Webinar της Στοματολογικής Εταιρείας Ελλάδας με τους εξής ομιλητές: \n\nE. Βολτίδη\, Οδοντίατρος\, MSc\, ειδικευθείσα στην Προσθετική και στη Γναθοπροσωπική Προσθετική και Οδοντιατρική Ογκολογία στις ΗΠΑΔ.\nΔ. Μπαλαφούτας\, Γυναικολόγος – Μαιευτήρας\, Διδάκτωρ ΕΚΠΑ\, Ακαδημαϊκός Υπότροφος Β’ Μαιευτικής – Γυναικολογικής Κλινικής ΕΚΠΑ
URL:https://odvima.gr/event/i-egkyos-sto-odontiatreio-os-iatros-os/
LOCATION:Αττικής
ATTACH;FMTTYPE=image/jpeg:https://odvima.gr/wp-content/uploads/2022/12/see-web.jpg
ORGANIZER;CN="%CE%A3%CF%84%CE%BF%CE%BC%CE%B1%CF%84%CE%BF%CE%BB%CE%BF%CE%B3%CE%B9%CE%BA%CE%AE%20%CE%95%CF%84%CE%B1%CE%B9%CF%81%CE%B5%CE%AF%CE%B1%20%CF%84%CE%B7%CF%82%20%CE%95%CE%BB%CE%BB%CE%AC%CE%B4%CE%BF%CF%82":MAILTO:info@stomatologia.gr
END:VEVENT
END:VCALENDAR