BEGIN:VCALENDAR
VERSION:2.0
PRODID:-//Οδοντιατρικό Βήμα - ECPv6.0.1.1//NONSGML v1.0//EN
CALSCALE:GREGORIAN
METHOD:PUBLISH
X-ORIGINAL-URL:https://odvima.gr
X-WR-CALDESC:Events for Οδοντιατρικό Βήμα
REFRESH-INTERVAL;VALUE=DURATION:PT1H
X-Robots-Tag:noindex
X-PUBLISHED-TTL:PT1H
BEGIN:VTIMEZONE
TZID:UTC
BEGIN:STANDARD
TZOFFSETFROM:+0000
TZOFFSETTO:+0000
TZNAME:UTC
DTSTART:20260101T000000
END:STANDARD
END:VTIMEZONE
BEGIN:VEVENT
DTSTART;TZID=UTC:20260206T090000
DTEND;TZID=UTC:20260207T160000
DTSTAMP:20260425T223209
CREATED:20251217T110358Z
LAST-MODIFIED:20251217T111525Z
UID:15480-1770368400-1770480000@odvima.gr
SUMMARY:Περιοδοντολογία για τον γενικό οδοντίατρο: Σύγχρονες απόψεις και τεχνικές
DESCRIPTION:Πρακτικό σεμινάριο Περιοδοντολογίας από την Εταιρεία Οδοντοστοματολογικής Ερεύνης\, την Παρασκευή 6/2 και Σάββατο 7/2/2026 \nΣΥΝΤΟΝΙΣΤΕΣ: Α. Ξηροπαΐδης\, Κ. Παπαϊωάννου\nΔΙΔΑΣΚΟΝΤΕΣ: Ε. Βλάχος\, Α. Κοτσάνη\, Π. Ντόκου\, Α. Ξηροπαΐδης\, Α. Παπαδημητρίου\, Β. Παπαϊωάννου\, Κ. Παπαϊωάννου\, Ι. Φουρμούζης \nΚΟΣΤΟΣ ΣΥΜΜΕΤΟΧΗΣ\nΟδοντίατροι: 200 ευρώ\nΠροεγγραφές: 170 ευρώ (έως 30 Ιανουαρίου 2026) \nΠληροφορίες – Εγγραφές: 210 7780671\, 210 7716671\ne-mail: eoe@otenet.gr
URL:https://odvima.gr/event/periodontologia-gia-ton-geniko-odontiatro-sygchrones-apopseis-kai-technikes/
LOCATION:Εταιρεία Οδοντοστοματολογικής Ερεύνης\, Μικράς Ασίας 70\, Αθήνα\, Αττικής\, 115 27\, Greece
ATTACH;FMTTYPE=image/jpeg:https://odvima.gr/wp-content/uploads/2025/12/EOE-1.jpg
ORGANIZER;CN="%CE%95%CF%84%CE%B1%CE%B9%CF%81%CE%B5%CE%AF%CE%B1%20%CE%9F%CE%B4%CE%BF%CE%BD%CF%84%CE%BF%CF%83%CF%84%CE%BF%CE%BC%CE%B1%CF%84%CE%BF%CE%BB%CE%BF%CE%B3%CE%B9%CE%BA%CE%AE%CF%82%20%CE%95%CF%81%CE%B5%CF%8D%CE%BD%CE%B7%CF%82":MAILTO:eoe@otenet.gr
END:VEVENT
BEGIN:VEVENT
DTSTART;TZID=UTC:20260207T090000
DTEND;TZID=UTC:20260207T140000
DTSTAMP:20260425T223209
CREATED:20260127T125304Z
LAST-MODIFIED:20260127T125304Z
UID:15764-1770454800-1770472800@odvima.gr
SUMMARY:Απλά βήματα για όμορφες και λειτουργικές ολικές οδοντοστοιχίες
DESCRIPTION:Ο Οδοντιατρικός Σύλλογος Αιτωλοακαρνανίας διοργανώνει ημερίδα στην όμορφη πόλη της Ναυπάκτου στις 7 Φεβρουαρίου 2026. \nΑΝΑΛΥΤΙΚΟ ΠΡΟΓΡΑΜΜΑ – ΠΛΗΡΟΦΟΡΙΕΣ
URL:https://odvima.gr/event/apla-vimata-gia-omorfes-kai-leitourgikes-olikes-odontostoichies/
LOCATION:Πνευματικό Κέντρο Ιεράς Μητροπόλεως Ναυπάκτου και Αγίου Βλασίου\, Ναύπακτος\, Αιτωλοακαρνανία\, 303 00
ATTACH;FMTTYPE=image/jpeg:https://odvima.gr/wp-content/uploads/2026/01/osaitoloakarnania.jpg
END:VEVENT
BEGIN:VEVENT
DTSTART;TZID=UTC:20260207T090000
DTEND;TZID=UTC:20260207T140000
DTSTAMP:20260425T223209
CREATED:20260205T120938Z
LAST-MODIFIED:20260206T075205Z
UID:15877-1770454800-1770472800@odvima.gr
SUMMARY:Προσθετική σήμερα. Τι αλλάζει και τι παραμένει ίδιο;
DESCRIPTION:Ο Οδοντιατρικός Σύλλογος Έβρου διοργανώνει ημερίδα προσθετικής με θέμα:«Προσθετική σήμερα. Τι αλλάζει και τι παραμένει ίδιο;». Ομιλητές της ημερίδες είναι οι κ.κ. Ασπασία Σαραφιανού\, Επικ. καθηγήτρια ΕΚΠΑ\, Πάρις Ραβάνης\, ειδικευθείς στην προσθετική Πανεπιστημίου ΕΚΠΑ και Στράτος Χατζηχρήστος\, CDT \nΑΝΑΛΥΤΙΚΟ ΠΡΟΓΡΑΜΜΑ – ΠΛΗΡΟΦΟΡΙΕΣ
URL:https://odvima.gr/event/prosthetiki-simera-ti-allazei-kai-ti-paramenei-idio/
LOCATION:Astir Egnatia Alexandroupolis\, Πάρκο Εγνατίας\, Αλεξανδρούπολη\, Έβρου\, 68100\, Ελλάδα
ATTACH;FMTTYPE=image/jpeg:https://odvima.gr/wp-content/uploads/2026/02/evros.jpg
END:VEVENT
BEGIN:VEVENT
DTSTART;TZID=UTC:20260207T090000
DTEND;TZID=UTC:20260207T163000
DTSTAMP:20260425T223209
CREATED:20251209T134204Z
LAST-MODIFIED:20251209T134320Z
UID:15366-1770454800-1770481800@odvima.gr
SUMMARY:Η Οδοντιατρική ματιά στην Αισθητική του Προσώπου
DESCRIPTION:Το επιστημονικό πρόγραμμα της Εταιρείας Σύγχρονης Οδοντιατρικής για το 2026 θα εγκαινιάσει η ημερίδα με θέμα «Η Οδοντιατρική ματιά στην Αισθητική του Προσώπου»\, η οποία θα πραγματοποιηθεί στο ξενοδοχείο «Radisson ParkHotel» (Λεωφ. Αλεξάνδρας 10\, Πεδίο Άρεως\, Αθήνα)\, το Σάββατο\, 7 Φεβρουαρίου 2026\, με συντονίστρια την Επίκ. καθηγήτρια κ. Χαρίκλεια Παξιμαδά. Η Ημερίδα παρέχεται στους Οδοντιάτρους ΔΩΡΕΑΝ. \nΤο χαμόγελο είναι καθοριστικό στοιχείο της αισθητικής ολόκληρου του προσώπου. Ηαισθητική δεν περιορίζεται μόνο στην εμφάνισή \, αλλά καθορίζει και επηρεάζει τον ψυχισμόκαι την κοινωνική συμπεριφορά των ατόμων. Στις μέρες μας\, η εξωτερική τελειότητα συνιστά«επιτακτική ανάγκη» και όχι πολυτέλεια γι αυτό και η επιθυμία για ένα όμορφο χαμόγελοοδηγεί πολλούς ασθενείς στα οδοντιατρεία.\nΣτην Ημερίδα θα συζητηθεί η ανάγκη επικοινωνίας με τον ασθενή\, πριν από οποιαδήποτεαισθητική παρέμβαση\, αφού η επιτυχία της δεν εξαρτάται μόνο από τις τεχνικές δεξιότητεςκαι τις γνώσεις του Οδοντίατρου\, αλλά και από την αποτελεσματική επικοινωνία με τονασθενή του.\nΗ σύγχρονη εποχή της τεχνητής νοημοσύνης και των ραγδαίων εξελίξεων απαιτεί τακαλύτερα δυνατά μέσα επικοινωνίας ανάμεσα σε όλα τα μέλη της οδοντιατρικής ομάδας καικυρίως με τους ασθενείς. Η Οδοντιατρική Φωτογραφία μπορεί να βοηθήσει καθοριστικά σεαυτό.\nΤο Περιοδόντιο έχει σημαντική συμμετοχή στην αισθητική της πρόσθιας περιοχής. ΣτηνΗμερίδα θα συζητηθούν οι θεραπευτικές δυνατότητες\, η αποτελεσματικότητα και οι τρόποιπου αντιμετωπίζονται τέτοια αισθητικά προβλήματα του περιοδοντίου(ροζ αισθητική)\, καθώςκαι η διεπιστημονική συνεργασία διαφόρων ειδικοτήτων προς τον σκοπό αυτό.\nΠολλές φορές\, πριν την παρέμβαση στα δόντια\, είναι απαραίτητη η συνεργασία της Ορθοδοντικής προκειμένου να γίνουν οι αναγκαίες διευθετήσεις των δοντιών\, των γνάθων καιτων μαλακών ιστών. Οι διαφανείς νάρθηκες όλο και περισσότερο αντικαθιστούν τις παραδοσιακές μεθόδους με μεγάλη επιτυχία στο τελικό αποτέλεσμα.\nΗ σύγχρονη αισθητική οδοντιατρική εξελίσσεται διαρκώς\, με τις Σύνθετες Ρητίνες νααποτελούν πλέον υλικά υψηλής απόδοσης τόσο σε μηχανικές ιδιότητες όσο και σε αισθητικήσυμπεριφορά. Στην Ημερίδα θα παρουσιαστούν τα νεότερα δεδομένα σχετικά με τις μονοχρωματικές σύνθετες ρητίνες\, οι κλινικές εφαρμογές της τεχνικής injectionmouldingtechnique\, καθώς και τα πλεονεκτήματα και περιορισμοί σε σχέση με τις παραδοσιακέςμεθόδους διαστρωμάτωσης.\nΤα Κεραμικά Υλικά επίσης εξελίσσονται\, και είναι αναγκαία η γνώση των κριτηρίων επιλογήςτους και των ενδείξεων που έχουν\, ώστε να διασφαλίσουμε \, εκτός από το καλό αισθητικόαποτέλεσμα\, μια μακροχρόνια άριστη κλινική συμπεριφορά.\nΤέλος η Περιστοματική Περιοχή και τα χείλη\, είναι επίσης καθοριστικά στην αισθητική τουχαμόγελου και ολόκληρου του προσώπου. Στην Ημερίδα θα συζητηθούν οι αρχές και οιτεχνικές της εφαρμογής του Υαλουρονικού οξέος\, σε αυτή την περιοχή\, με απόλυτο σεβασμόστην λειτουργικότητα την ανατομία και της αρχές αισθητικής της περιοχής. \nΠΡΟΓΡΑΜΜΑ \n9.00-9.30: Εγγραφές \n9.30-9.45: Εισαγωγή στην Αισθητική. Χαρίκλεια Παξιμαδά\n9.45-10.15: Ο ρόλος της επικοινωνίας οδοντιάτρου – ασθενή στην αισθητικηοδοντιατρική: Από την επιθυμία στην πραγματικότητα. Ιωάννα Γιάτση\n10.15-11.00: Αισθητική μαλακών μορίων- Εφαρμογή Υαλουρονικού οξέος. Γεράσιμος Δουβίτσας\n11.00-11.45: Η Φωτογραφία στην Οδοντιατρική. Ορέστης Χαραλάμπους \n11.45-12.30: Διάλειμμα brunch \n12.30-13.15: Αισθητική του Περιοδοντίου.Σωτήρης Ζησόπουλος\n13.15-14-00  Η ορθοδοντική\, το χαμόγελο\, και οι διαφανείς νάρθηκες σήμερα. Κωνσταντίνος Μάρκου \n14.00-14.30:  Διάλειμμα καφές \n14.30-15.15: Νέα δεδομένα για τις σύνθετες ρητίνες: Μονοχρωματικές ρητίνες – Τεχνικές έγχυσης ρητίνης. Γρηγορία Γκαβέλα\, Κόκλα Ευθαλία\, Κωνσταντίνος Τζίμας\n15.15- 16.00: Κεραμικά υλικά: Κριτήρια Επιλογής και Ενδείξεις.  Κοσμίν Σάβα \n16.00-16.30: Συζήτηση εφ όλης της ύλης
URL:https://odvima.gr/event/i-odontiatriki-matia-stin-aisthitiki-tou-prosopou/
LOCATION:Radison Park Hotel\, Λεωφ. Αλεξάνδρας 10\, Αθήνα\, Αττικής\, 10682\, Ελλάδα
ATTACH;FMTTYPE=image/jpeg:https://odvima.gr/wp-content/uploads/2025/12/eso-banner.jpg
END:VEVENT
BEGIN:VEVENT
DTSTART;TZID=UTC:20260207T090000
DTEND;TZID=UTC:20260207T170000
DTSTAMP:20260425T223209
CREATED:20260107T094259Z
LAST-MODIFIED:20260107T094259Z
UID:15621-1770454800-1770483600@odvima.gr
SUMMARY:Ημερίδα Στοματολογία και Χειρουργικής Στόματος
DESCRIPTION:Η Στοματολογική Εταιρεία Κρήτης διοργανώνει ημερίδα Στοματολογίας και Χειρουργικής Στόματος το Σάββατο 7 Φεβρουαρίου 2026\, στο ξενοδοχείο Ibis\, Ηράκλειο\, με τους κ.κ. Ελεάνα Στουφή\, Μάνο Βάρδα και Νικόλαο Νικητάκη.\n-Η κ. Ελεάνα Στουφή (Στοματολόγος) θα παρουσιάσει\, μέσα από κλινικά περιστατικά την επιλογή τοπικής ή συστηματικής θεραπείας σε συχνά στοματολογικά νοσήματα\, τις ενδείξεις/αντενδείξεις εμφυτευμάτων σε ασθενείς με συστηματικά νοσήματα και τα συχνότερα διαγνωστικά λάθη στην εκτίμηση περιστατικών.\n-Ο Αν. Καθηγητής κ. Μάνος Βάρδας θα αναπτύξει επίκαιρα θέματα Χειρουργικής Στόματος\, ενώ ο Καθηγητής κ. Νικόλαος Νικητάκης θα παρουσιάσει βασικές αρχές Στοματολογίας με έμφαση στη σύγχρονη διαγνωστική προσέγγιση. \nΗ ημερίδα απευθύνεται σε οδοντιάτρους όλων των ειδικοτήτων που επιθυμούν μια ουσιαστική\, πρακτική ανανέωση γνώσεων\, με έμφαση στην ασφαλή διάγνωση και στην τεκμηριωμένη θεραπευτική στρατηγική.
URL:https://odvima.gr/event/imerida-stomatologia-kai-cheirourgikis-stomatos/
LOCATION:Ibis Styles Heraklion Central Hotel\, Αγίου Τίτου 24\, Ηράκλειο\, Ηράκλειο Κρήτης\, 712 02\, Greece
ATTACH;FMTTYPE=image/jpeg:https://odvima.gr/wp-content/uploads/2026/01/sekritis-1.jpg
ORGANIZER;CN="%CE%A3%CF%84%CE%BF%CE%BC%CE%B1%CF%84%CE%BF%CE%BB%CE%BF%CE%B3%CE%B9%CE%BA%CE%AE%20%CE%95%CF%84%CE%B1%CE%B9%CF%81%CE%B5%CE%AF%CE%B1%20%CE%9A%CF%81%CE%AE%CF%84%CE%B7%CF%82":MAILTO:info@stomatologikikritis.gr
END:VEVENT
BEGIN:VEVENT
DTSTART;TZID=UTC:20260207T090000
DTEND;TZID=UTC:20260208T190000
DTSTAMP:20260425T223209
CREATED:20250904T122453Z
LAST-MODIFIED:20251217T120649Z
UID:14434-1770454800-1770577200@odvima.gr
SUMMARY:27o Πανελλήνιο Συμπόσιο Ενδοδοντίας
DESCRIPTION:Η Ελληνική Ενδοδοντική Εταιρεία (Ε.Ε.Ε.) με την Ενδοδοντολογική Εταιρεία Κύπρου σας προσκαλούν στο 27ο Πανελλήνιο Συμπόσιο Ενδοδοντίας στην πόλη της Θεσσαλονίκης\, στο  Κέντρο Διάδοσης Ερευνητικών Αποτελεσμάτων Αριστοτέλειου Πανεπιστημίου Θεσσαλονίκης (ΚΕΔΕΑ)\, στις 7 και 8 Φεβρουαρίου 2026\, με κεντρικό θέμα «From Regeneration to Transplantation». \nΔΕΙΤΕ ΤΟ ΑΝΑΛΥΤΙΚΟ ΠΡΟΓΡΑΜΜΑ \nΜπορείτε να προχωρήσετε στην προεγγραφή σας\, συμπληρώνοντας την ηλεκτρονική φόρμα εγγραφής. \nΥΠΟΒΟΛΗ ΠΕΡΙΛΗΨΕΩΝ\nΥποβολή περιλήψεων για ελεύθερες ανακοινώσεις ή επιτοίχιες ανακοινώσεις / poster έως: 12/01/2026 ηλεκτρονικά στη φόρμα υποβολής περιλήψεων. \nΠΛΗΡΟΦΟΡΙΕΣ ΣΥΝΕΔΡΙΟΥ & ΧΟΡΗΓΙΩΝ\nInventics A.E.\nΔήμητρα Βαβλούκη || Υπεύθυνη Συνεδρίων || τηλ: 697 9794336 || email: info@medevents.gr\nΔώρα Αναστασιάδου || Χορηγίες || τηλ: 210 220 28 39 || email: sponsors@medevents.gr
URL:https://odvima.gr/event/27o-panellinio-sybosio-endodontias/
LOCATION:Κέντρο Διάδοσης Ερευνητικών Αποτελεσμάτων ΚΕ.Δ.Ε.Α.\, 3ης Σεπτεμβρίου Πανεπιστημιούπολη\,\, Θεσσαλονίκη\, Θεσσαλονίκης\, 546 36\, Greece
ATTACH;FMTTYPE=image/jpeg:https://odvima.gr/wp-content/uploads/2025/09/EEE-27o.jpg
ORGANIZER;CN="%CE%95%CE%BB%CE%BB%CE%B7%CE%BD%CE%B9%CE%BA%CE%AE%20%CE%95%CE%BD%CE%B4%CE%BF%CE%B4%CE%BF%CE%BD%CF%84%CE%B9%CE%BA%CE%AE%20%CE%95%CF%84%CE%B1%CE%B9%CF%81%CE%B5%CE%AF%CE%B1":MAILTO:info@endodontics.gr
END:VEVENT
END:VCALENDAR