BEGIN:VCALENDAR
VERSION:2.0
PRODID:-//Οδοντιατρικό Βήμα - ECPv6.0.1.1//NONSGML v1.0//EN
CALSCALE:GREGORIAN
METHOD:PUBLISH
X-ORIGINAL-URL:https://odvima.gr
X-WR-CALDESC:Events for Οδοντιατρικό Βήμα
REFRESH-INTERVAL;VALUE=DURATION:PT1H
X-Robots-Tag:noindex
X-PUBLISHED-TTL:PT1H
BEGIN:VTIMEZONE
TZID:UTC
BEGIN:STANDARD
TZOFFSETFROM:+0000
TZOFFSETTO:+0000
TZNAME:UTC
DTSTART:20250101T000000
END:STANDARD
END:VTIMEZONE
BEGIN:VEVENT
DTSTART;TZID=UTC:20250131T143000
DTEND;TZID=UTC:20250202T153000
DTSTAMP:20260423T114346
CREATED:20250114T122619Z
LAST-MODIFIED:20250115T132257Z
UID:12996-1738333800-1738510200@odvima.gr
SUMMARY:Endo & Friends: Η Δύναμη της Συνεργασίας
DESCRIPTION:Το Ετήσιο Συνέδριο του Σύλλογος Ελλήνων Ενδοδοντολόγων με θέμα «Endo & Friends: Η Δύναμη της Συνεργασίας»\, θα πραγματοποιηθεί στις 31 Ιανουαρίου έως τις 2 Φεβρουαρίου 2025 στο ξενοδοχείο Stratos Vassilikos. \nΗ Οργανωτική Επιτροπή έχει σχεδιάσει ένα επιστημονικό πρόγραμμα εξαιρετικά υψηλού επιπέδου\, με καταξιωμένους ομιλητές από την οδοντιατρική κοινότητα\, συμπεριλαμβανομένων δύο διεθνώς αναγνωρισμένων επιστημόνων\, του Michael Solomonov και του Roeland DeMoor. \nΟι συμμετέχοντες θα έχουν την ευκαιρία να παρακολουθήσουν θεωρητικές διαλέξεις που καλύπτουν όλο το φάσμα της σύγχρονης Ενδοδοντίας και άλλων σχετικών επιστημονικών πεδίων και να συμμετάσχουν σε πρακτικά εργαστήρια (hands-on workshops) για να εμπλουτίσουν τις δεξιότητές τους. \nΓια πληροφορίες εγγραφής πατήστε εδώ.
URL:https://odvima.gr/event/endo-friends-i-dynami-tis-synergasias/
LOCATION:Stratos Vassilikos\, Μιχαλακοπούλου 114\, Αθήνα\, 115 27\, Greece
ATTACH;FMTTYPE=image/jpeg:https://odvima.gr/wp-content/uploads/2025/01/EndoFriends_Save_the_date.jpg
ORGANIZER;CN="%CE%A3%CF%8D%CE%BB%CE%BB%CE%BF%CE%B3%CE%BF%CF%82%20%CE%95%CE%BB%CE%BB%CE%AE%CE%BD%CF%89%CE%BD%20%CE%95%CE%BD%CE%B4%CE%BF%CE%B4%CE%BF%CE%BD%CF%84%CE%BF%CE%BB%CF%8C%CE%B3%CF%89%CE%BD":MAILTO:info@greekendodontists.gr
END:VEVENT
BEGIN:VEVENT
DTSTART;TZID=UTC:20250201T090000
DTEND;TZID=UTC:20250201T140000
DTSTAMP:20260423T114346
CREATED:20241213T105802Z
LAST-MODIFIED:20250109T121756Z
UID:12740-1738400400-1738418400@odvima.gr
SUMMARY:Αυτοάνσοα Νοσήματα και Οδοντιατρική
DESCRIPTION:Το επιστημονικό πρόγραμμα της Εταιρείας Σύγχρονης Οδοντιατρικής για το 2025 θα εγκαινιάσει η ημερίδα με θέμα «Αυτοάνσοα Νοσήματα και Οδοντιατρική»\, η οποία θα πραγματοποιηθεί στο ξενοδοχείο «Wyndham Grand Athens» (Μεγ. Αλεξάνδρου 2\, Μεταξουργείο)\, το Σάββατο\, 1 Φεβρουαρίου 2025\, με κεντρικούς συντονιστές τους κ.κ. Γερ. Δουβίτσα\, Κ. Τόσιο και Γ. Μελακόπουλο. \nΤα αυτοάνοσα νοσήματα είναι συχνά στην Ελλάδα και μπορούν να επηρεάσουν σημαντικά τη στοματογναθική περιοχή. Νοσήματα όπως το πεμφιγοειδές\, η πέμφιγα\, ο ερυθηματώδης λύκος και η φλεγμονώδης νόσος του εντέρου μπορεί να προκαλέσουν βλάβες στο στοματικό βλεννογόνο\, είτε ως άμεση εκδήλωση της νόσου είτε ως ανεπιθύμητες ενέργειες της θεραπείας τους. Άλλα αυτοάνοσα νοσήματα διαταράσσουν την ομοιόσταση του στόματος\, όπως το σύνδρομο Sjögren\, ή επηρεάζουν τα οστά των γνάθων και την κροταφογναθική διάρθρωση\, όπως η ρευματοειδής αρθρίτιδα\, η ψωριασική αρθρίτιδα και η αγκυλοποιητική σπονδυλαρθρίτιδα. \nΠΡΟΓΡΑΜΜΑ \nΜέρος Ι\, Συντονιστής: Γερ. Δουβίτσας\n09.30-10.00: Αυτοανοσία και αυτοάνοσα νοσήματα. Ε. Ζαμπέλη\n10.00-10.20: Εκδηλώσεις αυτοάνοσων νοσημάτων στο βλεννογόνο του στόματος. Κ. Τόσιος\n10.20-10.40: Εκδηλώσεις αυτοάνοσων νοσημάτων στο περιοδόντιο. Γ. Χαραλαμπάκης \n10.40-11.30: Διάλειμμα \nΜέρος ΙΙ\, Συντονιστής: Κ. Τόσιος\n11.30-11.50: Το στόμα στο σύνδρομο Sjogren. Ε-Μ Καλογήρου\n11.50-12.10: Αυτοάνοσα νοσήματα και κροταφογναθική διάρθρωση. Μ. Κούτρης\n12.10-12.30: Απεικονιστικά ευρήματα στις γνάθους σε ασθενείς με αυτοάνοσα νοσήματα. Ν. Μητσέα \n12.30-13.00: Διάλειμμα \nΜέρος ΙΙΙ\, Συντονιστής: Γ. Μελακόπουλος\n13.00-13.20: Χειρουργική στόματος σε ασθενείς με αυτοάνοσα νοσήματα. Γ. Μελακόπουλος\n13.20-13.40: Οδοντιατρικές ανάγκες των ασθενών με αυτοάνοσα νοσήματα. Χ. Ραχιώτης\n13.40-14.00: Stress και αυτοάνοσα νόσημα. Ι. Γιάτση
URL:https://odvima.gr/event/aftoansoa-nosimata-kai-odontiatriki/
LOCATION:Wyndham Grand Athens\, Μεγ. Αλεξάνδρου 2\, Αθήνα\, Αττική\, 104 37
ATTACH;FMTTYPE=image/jpeg:https://odvima.gr/wp-content/uploads/2024/12/eso.jpg
END:VEVENT
BEGIN:VEVENT
DTSTART;TZID=UTC:20250201T090000
DTEND;TZID=UTC:20250201T143000
DTSTAMP:20260423T114346
CREATED:20250108T121615Z
LAST-MODIFIED:20250115T132045Z
UID:12958-1738400400-1738420200@odvima.gr
SUMMARY:Ειδικά θέματα Κινητής Προσθετικής
DESCRIPTION:Ο Οδοντιατρικός Σύλλογος Κορινθίας διοργανώνει το Σάββατο 1 Φεβρουαρίου 2025 ημερίδα με θέμα: «Ειδικά θέματα Κινητής Προσθετικής». Η εκδήλωση θα πραγματοποιηθεί στην αίθουσα εκδηλώσεων του Επιμελητηρίου Κορινθίας. Ομιλητές τις ημερίδας θα είναι οι κ.κ. Νικήτας Συκαράς\, Αναπλ. Καθηγητής ΕΚΠΑ και Νίκος Πολυχρονάκης Αναπλ. Καθηγητής ΕΚΠΑ. \nΠΡΟΚΑΤΑΡΚΤΙΚΟ ΠΡΟΓΡΑΜΜΑ\n09:00-9:30: Προσέλευση – εγγραφές\n09:30-10:00: Χαιρετισμοί\, Προσφωνήσεις\,\n10:00-11:00: Ανατομία νωδής γνάθου – Τεχνικές αποτύπωσης. Ν. Συκαράς\n11:00 -12:00: Επένθετες οδοντοστοιχίες επί εμφυτευμάτων. Απαντήσεις σε προβληματισμούς της καθημερινής κλινικής πράξης. Ν. Πολυχρονάκης \n12:00 -12:30: Διάλειμμα – Κοπή πρωτοχρονιάτικης πίτας του Ο.Σ. Κορινθίας \n12:30-13:30: Η συμβολή της Κινητής Προσθετικής στις ακίνητες εμφυτευματικές  αποκαταστάσεις ολικού τόξου. Ν. Συκαράς\n13:30-14:30: Θραύσεις  ολικών και αναπροσαρμογές ολικών και μερικών οδοντοστοιχιών. Ν. Πολυχρονάκης\n14:30:  Συζήτηση \nΣτο πλαίσιο της ημερίδας θα πραγματοποιηθεί η κοπή της Πρωτοχρονιάτικης πίτας του Συλλόγου. \nΑΝΑΛΥΤΙΚΟ ΠΡΟΓΡΑΜΜΑ
URL:https://odvima.gr/event/eidika-themata-kinitis-prosthetiki/
LOCATION:Επιμελητήριο Κορινθίας\, Ερμού 2\, Κόρινθος\, 201 31\, Ελλάδα
ATTACH;FMTTYPE=image/jpeg:https://odvima.gr/wp-content/uploads/2025/01/osk.jpg
ORGANIZER;CN="%CE%9F%CE%B4%CE%BF%CE%BD%CF%84%CE%B9%CE%B1%CF%84%CF%81%CE%B9%CE%BA%CF%8C%CF%82%20%CE%A3%CF%8D%CE%BB%CE%BB%CE%BF%CE%B3%CE%BF%CF%82%20%CE%9A%CE%BF%CF%81%CE%B9%CE%BD%CE%B8%CE%AF%CE%B1%CF%82":MAILTO:oskorinthias@gmail.com
END:VEVENT
END:VCALENDAR