BEGIN:VCALENDAR
VERSION:2.0
PRODID:-//Οδοντιατρικό Βήμα - ECPv6.0.1.1//NONSGML v1.0//EN
CALSCALE:GREGORIAN
METHOD:PUBLISH
X-ORIGINAL-URL:https://odvima.gr
X-WR-CALDESC:Events for Οδοντιατρικό Βήμα
REFRESH-INTERVAL;VALUE=DURATION:PT1H
X-Robots-Tag:noindex
X-PUBLISHED-TTL:PT1H
BEGIN:VTIMEZONE
TZID:UTC
BEGIN:STANDARD
TZOFFSETFROM:+0000
TZOFFSETTO:+0000
TZNAME:UTC
DTSTART:20240101T000000
END:STANDARD
END:VTIMEZONE
BEGIN:VEVENT
DTSTART;TZID=UTC:20240419T090000
DTEND;TZID=UTC:20240421T200000
DTSTAMP:20260424T145418
CREATED:20240305T085544Z
LAST-MODIFIED:20240404T084621Z
UID:10173-1713517200-1713729600@odvima.gr
SUMMARY:31η Πανθεσσαλική Οδοντοστοματολογική Σύνοδος
DESCRIPTION:Στα Τρίκαλα θα πραγματοποιηθεί η 31η Πανθεσσαλική Οδοντοστοματολογική Σύνοδος στις 19-21 Απριλίου 2024
URL:https://odvima.gr/event/31i-panthessaliki-odontostomatologiki-synodos/
LOCATION:Μύλος Ματσόπουλου\, Κλεινού 10\, Τρίκαλα\, Τρικάλων\, 421 00\, Ελλάδα
ATTACH;FMTTYPE=image/jpeg:https://odvima.gr/wp-content/uploads/2024/03/ΤΡΙΚΑΛΑ.jpg
ORGANIZER;CN="%CE%9F%CE%B4%CE%BF%CE%BD%CF%84%CE%B9%CE%B1%CF%84%CF%81%CE%B9%CE%BA%CF%8C%CF%82%20%CE%A3%CF%8D%CE%BB%CE%BB%CE%BF%CE%B3%CE%BF%CF%82%20%CE%A4%CF%81%CE%B9%CE%BA%CE%AC%CE%BB%CF%89%CE%BD":MAILTO:odo_silogos@yahoo.com
END:VEVENT
BEGIN:VEVENT
DTSTART;TZID=UTC:20240420T080000
DTEND;TZID=UTC:20240421T170000
DTSTAMP:20260424T145418
CREATED:20240410T101101Z
LAST-MODIFIED:20240410T101101Z
UID:10660-1713600000-1713718800@odvima.gr
SUMMARY:Πρακτική Εκπαίδευση Πρώτων Βοηθειών απ' τον Οδοντιατρικό Σύλλογο Αχαΐας
DESCRIPTION:O Οδοντιατρικός Σύλλογος Αχαΐας σε συνεργασία με το Τμήμα Εκπαίδευσης του Τομέα Σαμαρειτών\, Διασωστών και Ναυαγοσωστών του Ελληνικού Ερυθρού Σταυρού Παράρτημα Πατρών διοργανώνουν «Πρακτική Εκπαίδευση Πρώτων Βοηθειών»\, στις 20-21 Απριλίου 2024\, στην αίθουσα του Ερυθρού Σταυρού.\n\n\n\nΤο πρόγραμμα αποτελείται από 5 ενότητες\, συμπεριλαμβανομένης της αξιολόγησης. Η επιτυχής παρακολούθηση του συνόλου του προγράμματος εκπαίδευσης αποτελεί προϋπόθεση για την πιστοποίηση του εκπαιδευόμενου.\n\n\n\n1. ΕΙΣΑΓΩΓΗ – ΒΑΣΙΚΕΣ ΑΡΧΕΣ ΠΡΩΤΩΝ ΒΟΗΘΕΙΩΝ\n\n2. ΚΑΡΔΙΟΑΝΑΠΝΕΥΣΤΙΚΗ ΑΝΑΖΩΟΓΟΝΗΣΗ\n\n3. ΑΙΜΟΡΡΑΓΙΕΣ-ΤΡΑΥΜΑΤΑ-ΕΓΚΑΥΜΑΤΑ-ΚΑΤΑΓΜΑΤΑ\n\n4. ΕΠΕΙΓΟΝΤΑ ΠΕΡΙΣΤΑΤΙΚΑ\n\n5. ΑΞΙΟΛΟΓΗΣΗ\n\n\n\n· Διάρκεια 12 ώρες (2 ημέρες)\n\n· Με την επιτυχή ολοκλήρωση του προγράμματος ο εκπαιδευόμενος αποκτά Πιστοποιητικό Εκπαίδευσης\, με ισχύ για 5 χρόνια.\n\n\n\nΟι ενδιαφερόμενοι θα πρέπει να δηλώσουν συμμετοχή\, επικοινωνώντας με την γραμματεία του Συλλόγου (2610223585) έως στις 10/4/2024 προκειμένου να ενταχθούν στο πρόγραμμα.\n\n\n\nΗ δήλωση συμμετοχής είναι απαραίτητη μαζί με την καταβολή του ποσού.\nΣε περίπτωση απουσίας δεν υπάρχει δυνατότητα επιστροφής των χρημάτων
URL:https://odvima.gr/event/praktiki-ekpaidefsi-proton-voitheion-ap-ton-odontiatriko-syllogo-achaias/
LOCATION:Ελληνικός Ερυθρός Σταυρός παράρτμημα Πάτρας\, 28ης Οκτωβρίου\, 8\, Πάτρα\, Αχαΐας
ATTACH;FMTTYPE=image/png:https://odvima.gr/wp-content/uploads/2024/04/OSAX.png
END:VEVENT
BEGIN:VEVENT
DTSTART;TZID=UTC:20240420T083000
DTEND;TZID=UTC:20240421T193000
DTSTAMP:20260424T145419
CREATED:20240410T102619Z
LAST-MODIFIED:20240410T102619Z
UID:10667-1713601800-1713727800@odvima.gr
SUMMARY:Πρακτικό σεμινάριο οδοντικής χειρουργικής
DESCRIPTION:Η Εταιρεία Οδοντοστοματολογικής Ερεύνης διοργανώνει σεμινάριο Οδοντικής Χειρουργικής την Παρασκευή 19 και το Σάββατο 20 Απριλίου\, με τίτλο «Επιβίωση στον κόσμο της αποκαταστατικής οδοντιατρικής». \nΣΥΝΤΟΝΙΣΤΗΣ: Τολίδης Κ. \nΔΙΔΑΣΚΟΝΤΕΣ:\nΤολίδης Κ. Καθηγητής Οδοντιατρικής Σχολής Αριστοτελείου Πανεπιστημίου Θεσσαλονίκης \nΔιευθυντής Εργαστηρίου Οδοντικής Χειρουργικής Αριστοτελείου Πανεπιστημίου Θεσσαλονίκης \nΔουφεξή Α.Ε. Επίκουρη Καθηγήτρια Περιοδοντολογίας Αριστοτελείου Πανεπιστημίου Θεσσαλονίκης \nΚούρος Π. Επίκουρος Καθηγητής Οδοντικής Χειρουργικής Αριστοτελείου Πανεπιστημίου Θεσσαλονίκης \nΜουρούζης Π. Επίκουρος Καθηγητής Οδοντικής Χειρουργικής Αριστοτελείου Πανεπιστημίου Θεσσαλονίκης \nΠασσαλίδου Σ. Ενδοδοντολόγος\, Πλωτάρχης (ΥΟ)\, Ναυτικό Νοσοκομείο Αθηνών \nΣίσκα Ι. Ακτινολόγος\, Ειδικευθείσα στο Πανεπιστήμιο Αθηνών Αντισμήναρχος ΥΟ \nΤο συγκεκριμένο πρόγραμμα φιλοδοξεί να προσφέρει γνώσεις ενταγμένες κυρίως στην κλινική πραγματικότητα και όχι μόνο στη θεωρητική προσέγγιση.\nΟλοκληρώνοντας το σεμινάριο\, οι συμμετέχουσες/συμμετέχοντες θα μπορούν να έχουν:\n– κατανόηση των αναγκών\, των μεθόδων και υλικών αντιμετώπισης προβλημάτων αποκαταστατικής/αισθητικής οδοντιατρικής\n– ικανότητα διάγνωσης και σχεδιασμού θεραπείας διαφόρου βαθμού δυσκολίας κλινικών περιστατικών \n-δεξιότητα στη χρήση σύγχρονων συσκευών όπως οι συσκευές cad/cam\n– πρακτική εφαρμογή σε προσομοιωτές ευρύτατου φάσματος όλων των παραπάνω κλινικών καταστάσεων \nΚόστος συμμετοχής\nΟδοντίατροι: 250 ευρώ\nΑκόλουθοι-φίλοι της Εταιρείας: 200 ευρώ\nΦοιτητές: 200 ευρώ (περιορισμένος αριθμός συμμετεχόντων)\nΠροεγγραφές: 220 ευρώ (έως 12 Απριλίου 2024) \nΠΛΗΡΟΦΟΡΙΕΣ – ΕΓΓΡΑΦΕΣ\n210 7780671\, 210 7716671\nwww.proodoseoe.gr\ne-mail: eoe@otenet.gr
URL:https://odvima.gr/event/praktiko-seminario-odontikis-cheirourgikis/
LOCATION:Αττικής
ATTACH;FMTTYPE=image/jpeg:https://odvima.gr/wp-content/uploads/2023/12/EOE-2024.jpg
ORGANIZER;CN="%CE%95%CF%84%CE%B1%CE%B9%CF%81%CE%B5%CE%AF%CE%B1%20%CE%9F%CE%B4%CE%BF%CE%BD%CF%84%CE%BF%CF%83%CF%84%CE%BF%CE%BC%CE%B1%CF%84%CE%BF%CE%BB%CE%BF%CE%B3%CE%B9%CE%BA%CE%AE%CF%82%20%CE%95%CF%81%CE%B5%CF%8D%CE%BD%CE%B7%CF%82":MAILTO:eoe@otenet.gr
END:VEVENT
BEGIN:VEVENT
DTSTART;TZID=UTC:20240420T090000
DTEND;TZID=UTC:20240420T153000
DTSTAMP:20260424T145419
CREATED:20240208T093410Z
LAST-MODIFIED:20240208T093410Z
UID:9998-1713603600-1713627000@odvima.gr
SUMMARY:Αποφεύγοντας το λάθος στη Χειρουργική των Eμφυτευμάτων
DESCRIPTION:Η ιλιγγιώδης ανάπτυξη της εμφυτευματολογίας\, η αλόγιστη χρήση υλικών και μεθόδων σε συνδυασμό με την πλημμελή\, πολλές φορές τα τελευταία χρόνια\, εκπαίδευση των συναδέλφων έχει σαν αποτέλεσμα την εμφάνιση επιπλοκών που αφορούν κύρια το χειρουργικό μέρος. Στην ημερίδα αυτή\, οι εισηγητές θα προσπαθήσουν να κωδικοποιήσουν τα συνήθη λάθη που οδηγούν σε επιπλοκές\, να προσδιορίσουν την αιτιολογία και στη συνέχεια\, να ενημερώσουν τους συναδέλφους για την πρόληψη και την αντιμετώπισή τους. \nΣυγκεκριμένα θα συζητηθούν οι παρακάτω παράμετροι:\n1. Βιολογικοί μηχανισμοί που σχετίζονται με την αποτυχία του εμφυτεύματος\n2. Λάθη στην επιλογή τεχνικών και οστικών υποκατάστατων στην Προεμφυτευματική Χειρουργική\n3. Επιλογή εμφυτευμάτων και τεχνικών που οδηγούν σε αποτυχία\n4. Χειρουργικοί χειρισμοί που ευθύνονται για την αποτυχία του εμφυτεύματος\n5. Ανατομικοί λόγοι ( ποσοτική και ποιοτική ανεπάρκεια του οστικού υποστρώματος) που ευθύνονται για την αποτυχία του εμφυτεύματος\n6. Συστηματικές παθήσεις και παθήσεις του βλεννογόνου και των οστών των γνάθων που ευθύνονται για την αποτυχία της οστεοενσωμάτωσης \nΣΥΝΤΟΝΙΣΤΕΣ:\nΚαλύβας Δήμος\, Αναπλ. Καθηγητής\, Ποδαρόπουλος Λεωνίδας\, Dr. Odont. \nΟΜΙΛΗΤΕΣ:\nΠοδαρόπουλος Λεωνίδας\, Χειρουργός Στόματος\, Μετεκπαιδευθείς στο Παν/μιο Sheffield\, UK\, Dr Odont\nΚαλύβας Γ. Δήμος\, Αναπλ. Καθηγητής Χειρουργικής Στόματος ΕΚΠΑ\nΠαπαβασιλείου Δανάη\, MSc Οδοντοφατνιακής Χειρουργικής\, ΕΚΠΑ Αλεξάνδρα Σπανού\, Χειρουργός Στόματος\, MSc Παν. Freibourg DE\, Δρ Παν. Freibourg\nΧλιαουτάκης Αγαμέμνων\, MSc Οδοντοφατνιακής Χειρουργικής\, ΕΚΠΑ\nΚαμπέρος Γιώργος\, MSc Χειρουργικής Στόματος και Παθολογίας Στόματος ΕΚΠΑ\, Δρ ΕΚΠΑ
URL:https://odvima.gr/event/apofevgontas-to-lathos-sti-cheirourgiki-ton-emfytevmaton/
LOCATION:Novotel Athenes\, Μιχαήλ Βόδα 4\, Αθήνα\, Αττικής\, 10439
ATTACH;FMTTYPE=image/jpeg:https://odvima.gr/wp-content/uploads/2024/02/ΟΣΑ3_2024.jpg
END:VEVENT
BEGIN:VEVENT
DTSTART;TZID=UTC:20240420T090000
DTEND;TZID=UTC:20240420T170000
DTSTAMP:20260424T145419
CREATED:20240402T103411Z
LAST-MODIFIED:20240403T125124Z
UID:10561-1713603600-1713632400@odvima.gr
SUMMARY:Ημερίδα ΟΣΚ για τις αισθητικές αποκαταστάσεις περιοδοντικά και ενδοδοντικά θεραπευμένων δοντιών
DESCRIPTION:Ο Οδοντιατρικός Σύλλογος Κορινθίας και το Athens 2 ITI Stdy Club διοργανώνουν επιστημονική ημερίδα με θέμα «Αισθητικές αποκαταστάσεις περιοδοντικά και ενδοδοντικά θεραπευμένων δοντιών» το Σάββατο 20/4/24\, στον συνεδριακό χώρο του ξενοδοχείου Sikyon Coast στη Συκιά Ξυλοκάστρου. \nΣτην ημερίδα έχουν προσκληθεί να μιλήσουν ο καθηγητής του Πανεπιστημίου της Γένοβα\, Βασίλης Καΐτσας και ο Δρ. Αλέξανδρος Γκρους\, χειρουργός οδοντίατρος με ειδίκευση στην Προσθετική. \nΤο θεωρητικό μέρος είναι δωρεάν\, ενώ η συμμετοχή στο πρακτικό είναι 80 ευρώ.\nΔηλώσεις συμμετοχής στη γραμματεία του ΟΣ Κορινθίας κατά τις ώρες λειτουργίας των γραφείων του συλλόγου.\nΠΛΗΡΟΦΟΡΙΕΣ-ΑΝΑΛΥΤΙΚΟ ΠΡΟΓΡΑΜΜΑ ΕΔΩ
URL:https://odvima.gr/event/imerida-osk-gia-tis-aisthitikes-apokatastaseis-periodontika-kai-endodontika-therapevmenon-dontion/
LOCATION:Sikyon Coast\, Σικελιανού\, Συκιά\, Ξυλόκαστρο\, Κορινθία\, 20400
ATTACH;FMTTYPE=image/jpeg:https://odvima.gr/wp-content/uploads/2024/04/ΟΣΚ.jpg
ORGANIZER;CN="%CE%9F%CE%B4%CE%BF%CE%BD%CF%84%CE%B9%CE%B1%CF%84%CF%81%CE%B9%CE%BA%CF%8C%CF%82%20%CE%A3%CF%8D%CE%BB%CE%BB%CE%BF%CE%B3%CE%BF%CF%82%20%CE%9A%CE%BF%CF%81%CE%B9%CE%BD%CE%B8%CE%AF%CE%B1%CF%82":MAILTO:oskorinthias@gmail.com
END:VEVENT
END:VCALENDAR