BEGIN:VCALENDAR
VERSION:2.0
PRODID:-//Οδοντιατρικό Βήμα - ECPv6.0.1.1//NONSGML v1.0//EN
CALSCALE:GREGORIAN
METHOD:PUBLISH
X-ORIGINAL-URL:https://odvima.gr
X-WR-CALDESC:Events for Οδοντιατρικό Βήμα
REFRESH-INTERVAL;VALUE=DURATION:PT1H
X-Robots-Tag:noindex
X-PUBLISHED-TTL:PT1H
BEGIN:VTIMEZONE
TZID:UTC
BEGIN:STANDARD
TZOFFSETFROM:+0000
TZOFFSETTO:+0000
TZNAME:UTC
DTSTART:20240101T000000
END:STANDARD
END:VTIMEZONE
BEGIN:VEVENT
DTSTART;TZID=UTC:20240405T090000
DTEND;TZID=UTC:20240407T183000
DTSTAMP:20260425T112134
CREATED:20240305T085012Z
LAST-MODIFIED:20240305T085012Z
UID:10170-1712307600-1712514600@odvima.gr
SUMMARY:Meet the Greeks
DESCRIPTION:Ο Οδοντιατρικός Σύλλογος Ιωαννίνων υποδέχεται την Ακαδημία Κλινικής Οδοντιατρικής και σας προσκαλεί στο συνέδριο: Meet the Greeks – AKO on tour!\n\n\nΙωάννινα\, 05-07 Απριλίου 2024\, ξενοδοχείο Grand Serai\n\n\nΠρολάβετε την προσφορά της μειωμένης εγγραφής και δηλώστε συμμετοχή ΔΩΡΕΑΝ σε ένα πρακτικό ή κλινικό φροντιστήριο της επιλογής σας!\n\n\nΓια την εγγραφή σας\, πατήστε εδώ : https://mtg.osioanninon.gr/engrafes/
URL:https://odvima.gr/event/meet-the-greeks/
LOCATION:Grand Serai\, Δωδώνης 33\, Ιωάννινα\, Ιωαννίνων\, 45332\, Ελλάδα
ATTACH;FMTTYPE=image/jpeg:https://odvima.gr/wp-content/uploads/2024/03/ΑΚΟ.jpg
END:VEVENT
BEGIN:VEVENT
DTSTART;TZID=UTC:20240407T110000
DTEND;TZID=UTC:20240407T170000
DTSTAMP:20260425T112134
CREATED:20240213T180742Z
LAST-MODIFIED:20240320T095219Z
UID:10033-1712487600-1712509200@odvima.gr
SUMMARY:Στοματική Υγεία και Αθλητισμός κατά τη διάρκεια των Ολυμπιακών Αγώνων
DESCRIPTION:Ένα ταξίδι στην ιστορία μας\, στον πολιτισμό μας\, στον αθλητισμό και στην Οδοντιατρική: η 4η Ημερίδα της ΕΕΑΘΛΟ θα πραγματοποιηθεί κάτω από τον ευεργετικό ήλιο της Αρχαίας Ολυμπίας την πρώτη Κυριακή του Απριλίου\, λίγες μέρες πριν την αφή της Ολυμπιακής Φλόγας. Ξεφεύγοντας από τα στενά όρια ενός αμφιθεάτρου\, θα περπατήσουμε εκεί που οι πρόγονοί μας έγραψαν ιστορία και θα ξεναγηθούμε στο Στάδιο και στο Μουσείο των Ολυμπιακών Αγώνων\, δένοντας τη Οδοντιατρική με τον Αθλητισμό\, τότε και σήμερα. Στην παρέα μας θα συμμετέχουν και οι φοιτητές που παρακολούθησαν για πρώτη φορά το μάθημα της Αθλητικής Οδοντιατρικής\, ΕΚΠΑ. \nΠΕΡΙΣΣΟΤΕΡΕΣ ΠΛΗΡΟΦΟΡΙΕΣ ΕΔΩ
URL:https://odvima.gr/event/stomatiki-ygeia-kai-athlitismos-kata-ti-diarkeia-ton-olybiakon-agonon/
LOCATION:Μουσείο Ολυμπιακών Αγώνων\, Αρχαία Ολυμπία\, Ηλείας\, 27065
ATTACH;FMTTYPE=image/jpeg:https://odvima.gr/wp-content/uploads/2024/02/ΗΛΕΙΑΣ.jpg
END:VEVENT
END:VCALENDAR