BEGIN:VCALENDAR
VERSION:2.0
PRODID:-//Οδοντιατρικό Βήμα - ECPv6.0.1.1//NONSGML v1.0//EN
CALSCALE:GREGORIAN
METHOD:PUBLISH
X-WR-CALNAME:Οδοντιατρικό Βήμα
X-ORIGINAL-URL:https://odvima.gr
X-WR-CALDESC:Events for Οδοντιατρικό Βήμα
REFRESH-INTERVAL;VALUE=DURATION:PT1H
X-Robots-Tag:noindex
X-PUBLISHED-TTL:PT1H
BEGIN:VTIMEZONE
TZID:UTC
BEGIN:STANDARD
TZOFFSETFROM:+0000
TZOFFSETTO:+0000
TZNAME:UTC
DTSTART:20240101T000000
END:STANDARD
END:VTIMEZONE
BEGIN:VEVENT
DTSTART;TZID=UTC:20240405T090000
DTEND;TZID=UTC:20240407T183000
DTSTAMP:20260419T141206
CREATED:20240305T085012Z
LAST-MODIFIED:20240305T085012Z
UID:10170-1712307600-1712514600@odvima.gr
SUMMARY:Meet the Greeks
DESCRIPTION:Ο Οδοντιατρικός Σύλλογος Ιωαννίνων υποδέχεται την Ακαδημία Κλινικής Οδοντιατρικής και σας προσκαλεί στο συνέδριο: Meet the Greeks – AKO on tour!\n\n\nΙωάννινα\, 05-07 Απριλίου 2024\, ξενοδοχείο Grand Serai\n\n\nΠρολάβετε την προσφορά της μειωμένης εγγραφής και δηλώστε συμμετοχή ΔΩΡΕΑΝ σε ένα πρακτικό ή κλινικό φροντιστήριο της επιλογής σας!\n\n\nΓια την εγγραφή σας\, πατήστε εδώ : https://mtg.osioanninon.gr/engrafes/
URL:https://odvima.gr/event/meet-the-greeks/
LOCATION:Grand Serai\, Δωδώνης 33\, Ιωάννινα\, Ιωαννίνων\, 45332\, Ελλάδα
ATTACH;FMTTYPE=image/jpeg:https://odvima.gr/wp-content/uploads/2024/03/ΑΚΟ.jpg
END:VEVENT
BEGIN:VEVENT
DTSTART;TZID=UTC:20240406T090000
DTEND;TZID=UTC:20240406T170000
DTSTAMP:20260419T141206
CREATED:20240401T120415Z
LAST-MODIFIED:20240401T120556Z
UID:10550-1712394000-1712422800@odvima.gr
SUMMARY:Επαγγελματική ημερίδα από τον ΟΣΘ
DESCRIPTION:Το Σάββατο 6 Απριλίου ο Οδοντιατρικός Σύλλογος Θεσσαλονίκης διοργανώνει επαγγελματική ημερίδα\, με θέματα που αφορούν νέα και υφιστάμενα οδοντιατρεία. \nΠέρα από την επιστημονική επιμόρφωση\, οι συνεχώς μεταβαλλόμενες συνθήκες εργασίας επιβάλλουν την ενημέρωση όλων μας και την προσαρμογή σε αυτές. Στην παρούσα ημερίδα θα θιχτούν θέματα φορολογικού\, ασφαλιστικού\, αστικής ευθύνης\, δεοντολογίας\, διαφήμισης\, πειθαρχικού\, καθώς επίσης  βασικές έννοιες στρατηγικής και οργάνωσης χώρου και χρόνου στο οδοντιατρείο. \nΕίσοδος ελεύθερη
URL:https://odvima.gr/event/epangelmatiki-imerida-apo-ton-osth/
LOCATION:Grand Hotel Palace\, Μοναστηρίου 305\, Θεσσαλονίκη\, Θεσσαλονίκης\, 546 28\, Ελλάδα
ATTACH;FMTTYPE=image/png:https://odvima.gr/wp-content/uploads/2024/04/osth.png
ORGANIZER;CN="%CE%9F%CE%B4%CE%BF%CE%BD%CF%84%CE%B9%CE%B1%CF%84%CF%81%CE%B9%CE%BA%CF%8C%CF%82%20%CE%A3%CF%8D%CE%BB%CE%BB%CE%BF%CE%B3%CE%BF%CF%82%20%CE%98%CE%B5%CF%83%CF%83%CE%B1%CE%BB%CE%BF%CE%BD%CE%AF%CE%BA%CE%B7%CF%82":MAILTO:info@osth.gr
END:VEVENT
BEGIN:VEVENT
DTSTART;TZID=UTC:20240406T100000
DTEND;TZID=UTC:20240406T143000
DTSTAMP:20260419T141206
CREATED:20240118T100616Z
LAST-MODIFIED:20240118T100629Z
UID:9834-1712397600-1712413800@odvima.gr
SUMMARY:Λεύκανση δοντιών με ζωντανό πολφό και Ενδοδοντικά Θεραπευμένων. Τι έχει αλλάξει μετά από 30 χρόνια ευρείας εφαρμογής της τεχνικής;
DESCRIPTION:Η Εταιρεία Σύγχρονης Οδοντιατρικής διοργανώνει το Σάββατο 6 Απριλίου 2024 διαδικτυακή ημερίδα με θέμα: «Λεύκανση δοντιών με ζωντανό πολφό και Ενδοδοντικά Θεραπευμένων. Τι έχει αλλάξει μετά από 30 χρόνια ευρείας εφαρμογής της τεχνικής;». Συντονίστρια θα είναι η κ. Ευτυχία Παππά\, Επικ. Καθηγήτρια Οδοντικής Χειρουργικής ΕΚΠΑ και διδάσκοντες οι κ.κ.: Γ. Γκαβέλα\, MSc PhD Μεταπτυχιακή ερευνήτρια στην Οδοντική Χειρουργική ΕΚΠΑ\, Χ. Παξιμαδά\, Επικ. Καθηγήτρια Οδοντικής Χειρουργικής ΕΚΠΑ\, Ε. Παππά\, Επικ. Καθηγήτρια Οδοντικής Χειρουργικής ΕΚΠΑ. \nΗ Λεύκανση δοντιών έχει γίνει μια από τις πλέον ζητούμενες Οδοντιατρικές θεραπείες στα σύγχρονα Οδοντιατρεία. Η δυσχρωμία ενός ή περισσοτέρων δοντιών εκτός από το αισθητικό πρόβλημα που δημιουργεί\, επηρεάζει σημαντικά την ψυχολογία του ατόμου και κατ’ επέκταση την κοινωνική του συμπεριφορά. Στην σύγχρονη επανορθωτική Οδοντιατρική η Λευκή Αισθητική παίζει καθοριστικό ρόλο στο σχέδιο θεραπείας. Η Λεύκανση αποτελεί μια συντηρητική και προβλέψιμη επιλογή για την βελτίωση της αισθητικής του χαμόγελου\, με σεβασμό στην αποκοπή οδοντικών ιστών. \nΣτο webinar θα παρουσιασθούν τα νέα βιβλιογραφικά δεδομένα σχετικά με τις τεχνικές\, τα υλικά\, την αποτελεσματικότητα της θεραπείας\, τις παρενέργειες αλλά και την μακροβιότητα του αποτελέσματος\, για την Λεύκανση δοντιών με ζωντανό πολφό\, ενδοδοντικά θεραπευμένων αλλά και δοντιών με ενασβεστιωμένο ριζικό σωλήνα. \nΜέσα από Κλινικά Περιστατικά\, θα συζητηθεί η εφαρμογή μόνο της τεχνικής της Λεύκανσης\, ή ο συνδυασμός Λεύκανσης και άλλων συντηρητικών αποκαταστατικών τεχνικών\, προκειμένου να βελτιωθεί η αισθητική του χαμόγελου. Τέλος\, θα ακολουθήσει Πρακτική επίδειξη κατασκευής εξατομικευμένου νάρθηκα λεύκανσης.
URL:https://odvima.gr/event/lefkansi-dontion-me-zontano-polfo-kai-endodontika-therapevmenon-ti-echei-allaxei-meta-apo-30-chronia-evreias-efarmogis-tis-technikis/
LOCATION:Αττικής
ATTACH;FMTTYPE=image/jpeg:https://odvima.gr/wp-content/uploads/2024/01/ΕΣΟ-2024-web.jpg
END:VEVENT
END:VCALENDAR