BEGIN:VCALENDAR
VERSION:2.0
PRODID:-//Οδοντιατρικό Βήμα - ECPv6.0.1.1//NONSGML v1.0//EN
CALSCALE:GREGORIAN
METHOD:PUBLISH
X-ORIGINAL-URL:https://odvima.gr
X-WR-CALDESC:Events for Οδοντιατρικό Βήμα
REFRESH-INTERVAL;VALUE=DURATION:PT1H
X-Robots-Tag:noindex
X-PUBLISHED-TTL:PT1H
BEGIN:VTIMEZONE
TZID:UTC
BEGIN:STANDARD
TZOFFSETFROM:+0000
TZOFFSETTO:+0000
TZNAME:UTC
DTSTART:20240101T000000
END:STANDARD
END:VTIMEZONE
BEGIN:VEVENT
DTSTART;TZID=UTC:20240213T130000
DTEND;TZID=UTC:20240213T170000
DTSTAMP:20260420T082121
CREATED:20240130T144823Z
LAST-MODIFIED:20240130T144823Z
UID:9944-1707829200-1707843600@odvima.gr
SUMMARY:Νέο Webinar της TePe!! Championing proactive measures for people\, profit\, and the planet
DESCRIPTION:Στη βιωσιμότητα\, μιλάμε για τους ανθρώπους\, το κέρδος και τον πλανήτη. Η φροντίδα του πλανήτη δεν είναι μόνο ηθική\, αλλά και εξαιρετικά επωφελής για την υγεία μας. Στην υγειονομική περίθαλψη\, θα πρέπει να επικεντρωθούμε σε αυτό που κάνει τους ανθρώπους πιο υγιείς και τι είναι καλό για τον πλανήτη\, λαμβάνοντας παράλληλα υπόψη το κόστος. Θα πρέπει επίσης να σκεφτούμε πώς κατασκευάζονται τα προϊόντα και πώς επηρεάζουν την υγεία των εργαζομένων. Κατάλληλο για όλους τους οδοντιατρικούς επαγγελματίες (συμπεριλαμβανομένου του προσωπικού διαχείρισης ιατρείων) με ενδιαφέρον στον τομέα αυτό. \nΣτόχοι\nΕυαισθητοποίηση: Η παρουσίαση αποσκοπεί στην ευαισθητοποίηση του ακροατηρίου σχετικά με την έννοια των 3 πυλώνων της βιώσιμης ανάπτυξης\, και πώς αυτή εφαρμόζεται στην υγειονομική περίθαλψη. Θα βοηθήσει τους συμμετέχοντες να κατανοήσουν τη διασύνδεση των ανθρώπων\, του κέρδους και του πλανήτη. \nΑνάδειξη του οφέλους: Η παρουσίαση σκοπεύει να αναδείξει τα οφέλη της υιοθέτησης μιας βιώσιμης προσέγγισης τόσο στις επιχειρήσεις όσο και στην υγειονομική περίθαλψη. Αυτό περιλαμβάνει την έμφαση στον τρόπο με τον οποίο οι πρακτικές βιωσιμότητας μπορούν να επηρεάσουν θετικά το περιβάλλον\, την ανθρώπινη υγεία και τα οικονομικά αποτελέσματα. \nΝα εμπνεύσει τη δράση: Τέλος\, η παρουσίαση στοχεύει να εμπνεύσει δράση. Θα πρέπει να παρακινήσει το ακροατήριο\, είτε πρόκειται για ηγέτες επιχειρήσεων είτε για επαγγελματίες του τομέα της υγειονομικής περίθαλψης\, να εξετάσουν και να εφαρμόσουν βιώσιμες πρακτικές στους αντίστοιχους τομείς τους. Στόχος είναι να ενθαρρυνθεί η λήψη υπεύθυνων αποφάσεων που λαμβάνουν υπόψη τους κοινωνικούς\, περιβαλλοντικούς και οικονομικούς παράγοντες. \nΕισηγητής: Dr Brett Duane\, αναπληρωτής καθηγητής στην Οδοντιατρική Δημόσια Υγεία στο Trinity College του Δουβλίνου \nΤρίτη 13 Φεβρουαρίου\, ώρα 13:00 εγραφή ΕΔΩ \nΠέμπτη 15 Φεβρουαρίου\, ώρα 20:00 εγραφή ΕΔΩ \nΔεν είστε σίγουροι αν μπορείτε να μας ακολουθήσετε ζωντανά; \nΠαρακαλούμε εγγραφείτε! Θα λάβετε το μαγνητοσκοπημένο σεμινάριο μετά το ζωντανό σεμινάριο. \nΜετά την εγγραφή σας\, θα λάβετε ένα email επιβεβαίωσης που θα περιέχει πληροφορίες σχετικά με τη συμμετοχή σας στο διαδικτυακό σεμινάριο.
URL:https://odvima.gr/event/neo-webinar-tis-tepe-championing-proactive-measures-for-people-profit-and-the-planet/
LOCATION:Αττικής
ATTACH;FMTTYPE=image/jpeg:https://odvima.gr/wp-content/uploads/2024/01/TePe.jpg
END:VEVENT
END:VCALENDAR