BEGIN:VCALENDAR
VERSION:2.0
PRODID:-//Οδοντιατρικό Βήμα - ECPv6.0.1.1//NONSGML v1.0//EN
CALSCALE:GREGORIAN
METHOD:PUBLISH
X-WR-CALNAME:Οδοντιατρικό Βήμα
X-ORIGINAL-URL:https://odvima.gr
X-WR-CALDESC:Events for Οδοντιατρικό Βήμα
REFRESH-INTERVAL;VALUE=DURATION:PT1H
X-Robots-Tag:noindex
X-PUBLISHED-TTL:PT1H
BEGIN:VTIMEZONE
TZID:UTC
BEGIN:STANDARD
TZOFFSETFROM:+0000
TZOFFSETTO:+0000
TZNAME:UTC
DTSTART:20230101T000000
END:STANDARD
END:VTIMEZONE
BEGIN:VEVENT
DTSTART;TZID=UTC:20230331T083000
DTEND;TZID=UTC:20230401T183000
DTSTAMP:20260419T202728
CREATED:20230301T094421Z
LAST-MODIFIED:20230301T120642Z
UID:7072-1680251400-1680373800@odvima.gr
SUMMARY:Σεμινάριο Πιστοποίησης FAS Pro
DESCRIPTION:Η Ελληνική Ορθοδοντική Εταιρεία διοργανώνει σεμινάριο Πιστοποίησης FAS Pro\, σε συνεργασία με την Forestadent (German Precision in Orthodontics) το διήμερο 31 Μαρτίου – 1 Απριλίου 2023\, στο ξενοδοχείο Royal Olympic Hotel Athens. \nDAY 1. Diagnosis: The FAS ® Concept\n08:30 – 9:30: Registration\n09:30 – 11:30: – 2D and 3D diagnosis\n– Occlusal analysis of digital records\n– Cephalometric analysis for the diagnosis of the sagittal plane- Visual Objective of Treatment \n11:30 – 12:00: Coffee break \n12:00 – 14:00: Perfect Records for precision diagnosis\n– Smile Design Diagnosis in the frontal plane \n14:00 – 15:00: Lunch \n15:00 – 16:30: How to upload treatment instructions\n– FAS Wizard® Vertical\, Transverse and Sagittal\n– Limitations of treatment and procedures\n– Sequence of treatment\n– Predictability with aligners \n16:30 – 17:00: Coffe break \n17:00 – 18:30: Anchor Planning\n– FAS STOP and GO® \nDAY 2. FAS Occlusal Design® FAS Treatment Plan\n09:00 – 11:00: Tools available online\n– Midlines and Arch Shape\n– Tooth size discrepancies – Root segmentation\n– Model Overlay \n11:00 – 11:30: Coffee break \n11:30 – 14:00: FAS® attachments\n– Treatment Sequence \nΠληροφορίες – εγγραφές: wwww.grotho.gr \nΚόστος από 200 ευρώ για εγγραφές έως 10 Μαρτίου και 250-280 ευρώ για εγγραφές μετά. \nΤο σεμινάριο διοργανώνεται με την υποστήριξη της Dentalcom  Γ. ΠΑΠΑΖΟΓΛΟΥ Α.Ε.
URL:https://odvima.gr/event/seminario-pistopoiisis-fas-pro/
LOCATION:Royal Olympic Hotel\, Αθανασίου Διάκου 28\, Αθήνα\, Αττική\, 117 43\, Ελλάδα
ATTACH;FMTTYPE=image/jpeg:https://odvima.gr/wp-content/uploads/2023/03/FAS.jpg
ORGANIZER;CN="%CE%95%CE%BB%CE%BB%CE%B7%CE%BD%CE%B9%CE%BA%CE%AE%20%CE%9F%CF%81%CE%B8%CE%BF%CE%B4%CE%BF%CE%BD%CF%84%CE%B9%CE%BA%CE%AE%20%CE%95%CF%84%CE%B1%CE%B9%CF%81%CE%B5%CE%AF%CE%B1":MAILTO:info@grortho.gr
END:VEVENT
BEGIN:VEVENT
DTSTART;TZID=UTC:20230331T090000
DTEND;TZID=UTC:20230401T170000
DTSTAMP:20260419T202728
CREATED:20221206T133804Z
LAST-MODIFIED:20230314T135807Z
UID:6306-1680253200-1680368400@odvima.gr
SUMMARY:1ο συνέδριο της Ελληνικής Εταιρείας Στοματολογίας
DESCRIPTION:H Ελληνική Εταιρεία Στοματολογίας – ΕΛ.Ε.Σ.\, ανακοινώνει τη διοργάνωση του 1ου Συνεδρίου Στοματολογίας\, που θα πραγματοποιηθεί στις 31 Μαρτίου – 1 Απριλίου 2023\, στο ξενοδοχείο Royal Olympic\, στην Αθήνα. \nΠρόκειται για ένα νεοσύστατο φορέα που αποτελεί συνένωση δύο παλαιότερων φορέων\, της Ελληνικής Εταιρείας Κλινικής Στοματολογίας και της Ελληνικής Εταιρείας Παθολογίας Στόματος\, μια συνένωση με γνώμονα την ευρύτερη εκπροσώπηση της ειδικότητας. \nΤο συνέδριο φιλοδοξεί να παρουσιάσει ένα επιστημονικό πρόγραμμα υψηλού επιπέδου\, με στρογγυλά τραπέζια\, διαλέξεις\, κλινικά φροντιστήρια και hands-on πρακτικά σεμινάρια\, ενώ οι πλέον διακεκριμένοι ομιλητές που άπτονται της συγκεκριμένης ειδικότητας θα παρουσιάσουν όλες τις τελευταίες εξελίξεις στον τομέα της Στοματολογίας. \nΕΠΙΣΤΗΜΟΝΙΚΟ ΠΡΟΓΡΑΜΜΑ\nΠΑΡΑΣΚΕΥΗ 31 ΜΑΡΤΙΟΥ 2023\n8:00-8:30 Προσέλευση – Εγγραφές\nAIΘΟΥΣΑ ΟΛΥΜΠΙΑ\n8:30-9:00 Έναρξη Συνεδρίου\n9:00-10.00 ΣΥΝΕΔΡΙΑ ΕΛΕΥΘΕΡΩΝ ΑΝΑΚΟΙΝΩΣΕΩΝ Ι\nΠροεδρεύοντες: Καλλιφατίδης Α – Ματιάκης Α \n10:00-11:00 ΣΤΡΟΓΓΥΛΟ ΤΡΑΠΕΖΙ Ι\nO ΣΤΟΜΑΤΟΠΡΟΣΩΠΙΚΟΣ ΠΟΝΟΣ ΥΠΟ ΤΟ ΠΡΙΣΜΑ ΤΗΣ ΣΤΟΜΑΤΟΛΟΓΙΑΣ\nΠροεδρεύοντες: Ψάρρας Β – Σαρλάνη Ε\nΟμιλητές:\nΚανελλοπούλου Α: Κρανιογναθικές διαταραχές σε ασθενείς με αυτοάνοσα νοσήματα\nΓώγου Ε: Πρόληψη και αντιμετώπιση του τρισμού μετά από ακτινοθεραπεία της στοματοπροσωπικής περιοχής στον ογκολογικό ασθενή\nΚουρή Μ: Ο πόνος ως επιπλοκή της ακτινοθεραπείας της στοματοπροσωπικής περιοχής στον ογκολογικό ασθενή \n11:00-11:30 ΕΙΣΗΓΗΣΗ I\nΠροεδρεύουσα: Δοντά Αικ.\nΕισηγήτρια: Ζερβού Φ: «Οδοντιατρική Ειδικής Φροντίδας» \n11:30-12:00 ΔΙΑΛΕΙΜΜΑ ΚΑΦΕ \nΣΥΝΕΔΡΙΑ ΑΝΑΡΤΗΜΕΝΩΝ ΑΝΑΚΟΙΝΩΣΕΩΝ Ι\n12:00-13:00 ΣΤΡΟΓΓΥΛΟ ΤΡΑΠΕΖΙ ΙΙ\nΗ ΑΚΤΙΝΟΛΟΓΙΑ ΤΟΥ ΣΤΟΜΑΤΟΣ ΥΠΟ ΤΟ ΠΡΙΣΜΑ ΤΗΣ ΣΤΟΜΑΤΟΛΟΓΙΑΣ\nΠροεδρεύοντες: Αγγελόπουλος Χ – Τσιχλάκης Κ\nΟμιλητές:\nΑλεξίου Κ: Απεικονιστικά χαρακτηριστικά φλεγμονωδών εξεργασιών των γνάθων\nΜητσέα A: Απεικονιστικά χαρακτηριστικά συστηματικών βλαβών των γνάθων\nΔαμάσκος Σ: Απεικονιστικά χαρακτηριστικά καλοήθων και κακοήθων όγκων των γνάθων \n13:00-13:30 ΒΡΑΒΕΥΣΗ ΚΑΘΗΓΗΤΗ Κ. ΤΣΙΧΛΑΚΗ\nΠροσφωνήσεις\nΥπουργός Παιδείας κ. Ν. Κεραμέως\nΟμ. Καθηγήτρια κ. Αικ. Καραγιάννη\nΠρόεδρος Τμήματος Οδοντιατρικής ΕΚΠΑ κ. Ν.Γ. Νικητάκης\nΚαθηγητής κ. Χ. Αγγελόπουλος \n13:30-14:30 ΔΙΑΛΕΙΜΜΑ-ΕΛΑΦΡΥ ΓΕΥΜΑ \n14:30-15:30 ΣΤΡΟΓΓΥΛΟ ΤΡΑΠΕΖΙ ΙΙΙ\nΗ ΠΡΟΣΘΕΤΙΚΗ ΥΠΟ ΤΟ ΠΡΙΣΜΑ ΤΗΣ ΣΤΟΜΑΤΟΛΟΓΙΑΣ\nΠροεδρεύοντες: Κούρτης Σ – Πιπέρη Ε\nΟμιλητές:\nΑρτοπούλου Ι: Γναθοπροσωπική προσθετική αποκατάσταση στον ογκολογικό ασθενή Συκαράς Ν: Συμβατικές και επιεμφυτευματικές αποκαστάσεις σε ασθενείς με συνοδά νοσήματα από τη σκοπιά του προσθετολόγου\nΠαρχαρίδης Ε: Συμβατικές και επιεμφυτευματικές αποκαστάσεις σε ασθενείς με συνοδά νοσήματα από τη σκοπιά του στοματολόγου \n15:30-16:30 ΣΤΡΟΓΓΥΛΟ ΤΡΑΠΕΖΙ ΙV\nΗ ΕΝΔΟΔΟΝΤΙΑ ΥΠΟ ΤΟ ΠΡΙΣΜΑ ΤΗΣ ΣΤΟΜΑΤΟΛΟΓΙΑΣ\nΠροεδρεύοντες: Κερεζούδης Ν – Μαλάμος Δ\nΟμιλητές:\nΑγραφιώτη Α: Η ενδοδοντική θεραπεία και ο ογκολογικός ασθενής\nΠετρίδης Ξ: Δυνατότητες ερευνητικής συνεργασίας μεταξύ Ενδοδοντίας και Στοματολογίας\nΖήσης Β: Μη πολφικής αιτιολογίας περιακρορριζικές αλλοιώσεις \n16:30-17:00 ΔΙΑΛΕΙΜΜΑ ΚΑΦΕ \nΣΥΝΕΔΡΙΑ ΑΝΑΡΤΗΜΕΝΩΝ ΑΝΑΚΟΙΝΩΣΕΩΝ ΙΙ\n17:00-18:00 ΣΤΡΟΓΓΥΛΟ ΤΡΑΠΕΖΙ V\nΗ ΠΑΙΔΟΔΟΝΤΙΑΤΡΙΚΗ ΥΠΟ ΤΟ ΠΡΙΣΜΑ ΤΗΣ ΣΤΟΜΑΤΟΛΟΓΙΑΣ\nΠροεδρεύοντες: Γκιζάνη Σ – Γεωργάκη Μ\nΟμιλητές:\nΑγουρόπουλος Α: Οδοντοστοματολογικά ευρήματα και οδοντιατρική φροντίδα σε παιδιά με ατελή οστεογένεση\nΣερεμίδη Κ: Οι απώτερες επιπλοκές της αντινεοπλασματικής θεραπείας στη στοματική κοιλότητα παιδιών\nΠαπανάκου Σ: Ο ρόλος του παιδοδοντιάτρου στην αντιμετώπιση στοματολογικών παθήσεων σε παιδιά \n18:00-19:00 ΣΤΡΟΓΓΥΛΟ ΤΡΑΠΕΖΙ VI\nΗ ΣΤΟΜΑΤΙΚΗ ΚΑΙ ΓΝΑΘΟΠΡΟΣΩΠΙΚΗ ΧΕΙΡΟΥΡΓΙΚΗ ΥΠΟ ΤΟ ΠΡΙΣΜΑ ΤΗΣ ΣΤΟΜΑΤΟΛΟΓΙΑΣ\nΠροεδρεύοντες: Περισανίδης Χ – Πουλόπουλος Α\nΟμιλητές:\nΘεολόγη-Λυγιδάκη Κ: Οδοντογενείς όγκοι\nΣχοινοχωρίτη Ο: Οδοντογενείς κύστεις\nΓκουτζάνης Λ: Κύστεις μαλακών μορίων στοματικής και γναθοπροσωπικής χώρας \n19:00-20:00 ΣΤΡΟΓΓΥΛΟ ΤΡΑΠΕΖΙ VII\nΗ ΠΕΡΙΟΔΟΝΤΟΛΟΓΙΑ ΥΠΟ ΤΟ ΠΡΙΣΜΑ ΤΗΣ ΣΤΟΜΑΤΟΛΟΓΙΑΣ\nΠροεδρεύοντες: Πεπελάση Ε – Νικητάκης ΝΓ\nΟμιλητές:\nΜπομπέτσης Γ: Αύξηση του όγκου των ούλων\nΚορομάντζος Π: Νεκρωτικές νόσοι του περιοδοντίου\nΑνδρεάδης Δ: Ειδικές ουλίτιδες \n20:00-21:00 ΤΕΛΕΤΗ ΕΝΑΡΞΗΣ\n20:30-21:00 ΕΝΑΡΚΤΗΡΙΑ ΟΜΙΛΙΑ\nΟμ. Καθηγητής Γεώργιος Χρούσος\n21:00-22:30 COCKTAIL ΥΠΟΔΟΧΗΣ \nΣΑΒΒΑΤΟ 1 ΑΠΡΙΛΙΟΥ 2023\nAIΘΟΥΣΑ ΟΛΥΜΠΙΑ \n9:00 – 10:00 ΣΥΝΕΔΡΙΑ ΕΛΕΥΘΕΡΩΝ ΑΝΑΚΟΙΝΩΣΕΩΝ ΙΙ\nΠροεδρεύοντες: Τόσιος Κ – Λούμου Π \n10:00-11.00 INTERNATIONAL SPEAKERS Ι\nChairs: Piperi E – Stoufi E\nSpeakers: Meleti M\, Mignogna M \n11:00-11:30 ΕΙΣΗΓΗΣΗ ΙΙ\nΠροεδρεύων: Παπαδογεωργάκης Ν\nΕισηγητής: Λάσκαρης Γ: «60 χρόνια Στοματολογίας: Εμπειρίες και Προοπτικές» \n11:30-12:00 ΔΙΑΛΕΙΜΜΑ ΚΑΦΕ \nΣΥΝΕΔΡΙΑ ΑΝΑΡΤΗΜΕΝΩΝ ΑΝΑΚΟΙΝΩΣΕΩΝ ΙΙΙ \n12:00-13:30 INTERNATIONAL SPEAKERS ΙI\nChairs: Nikitakis NG – Poulopoulos A\nSpeakers: Porter S\, Carozzo M\, Delli K \n13:30-14:30 ΔΙΑΛΕΙΜΜΑ-ΕΛΑΦΡΥ ΓΕΥΜΑ \n14:30-15:30 ΣΤΡΟΓΓΥΛΟ ΤΡΑΠΕΖΙ VIII\nΕΦΑΡΜΟΓΕΣ LASER ΣΤΗ ΣΤΟΜΑΤΟΛΟΓΙΑ\nΠροεδρεύοντες: Βαλαμβάνος Κ – Γεωργάκη Μ\nΟμιλητές:\nΣαμαρά Α: Ενδείξεις και αντενδείξεις laser στην οδοντιατρική\nΓαρτζούνη Ε: Φωτοβιοτροποποίηση στην αντιμετώπιση νοσημάτων του στόματος\nΚατουμάς Κ: Η χρήση των laser στην αντιμετώπιση των προκαρκινικών βλαβών \n15:30-16:30 ΣΤΡΟΓΓΥΛΟ ΤΡΑΠΕΖΙ ΙX\nΠΡΟΛΗΨΗ ΚΑΙ ΚΑΡΚΙΝΟΣ ΤΟΥ ΣΤΟΜΑΤΟΣ\nΠροεδρεύοντες: Παπαϊωάννου Β – Στουφή Ε\nΟμιλητές:\nΓεωργακοπούλου Ε: Πρωτογενής πρόληψη – Ο ρόλος του οδοντιάτρου στη διακοπή του καπνίσματος\nΔιαμαντή Σ: Πρωτογενής πρόληψη – Ιός των ανθρωπίνων θηλωμάτων και ο ρόλος του εμβολίου\nΦόρα Ε: Δευτερογενής πρόληψη – Προκαρκινικές βλάβες: διάγνωση και αντιμετώπιση \n16:30-17:00 ΔΙΑΛΕΙΜΜΑ ΚΑΦΕ \nΣΥΝΕΔΡΙΑ ΑΝΑΡΤΗΜΕΝΩΝ ΑΝΑΚΟΙΝΩΣΕΩΝ Ι\n17:00-18:00 ΕΙΣΗΓΗΣΕΙΣ III-IV\nΕισήγηση ΙΙΙ: Κήττας Δ: «Καυσαλγία του στόματος»\nΕισήγηση ΙV: Γιαπιτζάκης Χ: «Γενετική των εξωδερμικών δυσπλασιών» \n18:00-19:00 ΣΤΡΟΓΓΥΛΟ ΤΡΑΠΕΖΙ X\nΟΣΤΕΟΝΕΚΡΩΣΗ ΤΩΝ ΓΝΑΘΩΝ\nΠροεδρεύοντες: Βάρδας Ε – Δούκα Μ\nΟμιλητές:\nΠαπαδοπούλου Ε: Νεότερα δεδομένα στην οστεονέκρωση των γνάθων\nΜελακόπουλος Ι – Καλφαρέντζος Ε – Μερκουρέα Σ: Διαχείριση ασθενών σε αντιοστεολυτική αγωγή – Συζήτηση περιστατικών \n19:00-19:30 ΛΗΞΗ ΣΥΝΕΔΡΙΟΥ – ΑΠΟΝΟΜΗ ΒΡΑΒΕΙΩΝ
URL:https://odvima.gr/event/1o-synedrio-stomatologias/
LOCATION:Royal Olympic Hotel\, Αθανασίου Διάκου 28\, Αθήνα\, Αττική\, 117 43\, Ελλάδα
ATTACH;FMTTYPE=image/jpeg:https://odvima.gr/wp-content/uploads/2022/12/ELES-2.jpg
ORGANIZER;CN="%CE%95%CE%BB%CE%BB%CE%B7%CE%BD%CE%B9%CE%BA%CE%AE%20%CE%95%CF%84%CE%B1%CE%B9%CF%81%CE%B5%CE%AF%CE%B1%20%CE%A3%CF%84%CE%BF%CE%BC%CE%B1%CF%84%CE%BF%CE%BB%CE%BF%CE%B3%CE%AF%CE%B1%CF%82":MAILTO:info@pathologyoral.gr
END:VEVENT
BEGIN:VEVENT
DTSTART;TZID=UTC:20230331T090000
DTEND;TZID=UTC:20230401T180000
DTSTAMP:20260419T202728
CREATED:20230317T124503Z
LAST-MODIFIED:20230317T124503Z
UID:7505-1680253200-1680372000@odvima.gr
SUMMARY:Προεμφυτευματική Χειρουργική. Τεχνικές αποκατάστασης του οστικού υποστρώματος για την τοποθέτηση εμφυτευμάτων
DESCRIPTION:Στις 31 Μαρτίου και 1 Απριλίου πραγματοποιείται στις εγκαταστάσεις της Εταιρείας Οδοντοστοματολογικής Ερεύνης διήμερο Σεμινάριο με τίτλο «Προεμφυτευματική Χειρουργική. Τεχνικές αποκατάστασης του οστικού υποστρώματος για την τοποθέτηση εμφυτευμάτων». Το σεμινάριο αυτό αποτελείται από ένα θεωρητικό μέρος\, που αφορά στην ανατομία του μέσου και κάτω τριτημορίου του προσώπου\, τις βασικές αρχές βιολογίας της ενσωμάτωσης του μοσχεύματος\, την ταξινόμηση των οστικών ελλειμμάτων και την ανάλυση των ιδιοτήτων των μοσχευμάτων και των οστικών υποκατάστατων που βρίσκονται στη διάθεση του επεμβαίνοντα\, με ιδιαίτερη έμφαση στη χρήση του αυτομοσχεύματος. \nΟι συμμετέχοντες θα ασκηθούν σε επεμβάσεις ανύψωσης του εδάφους του ιγμορείου σε κεφαλές προβάτων\, που πρέπει να σημειωθεί ότι αποτελούν το ιδανικό μοντέλο για την εκπαίδευση στην επέμβαση αυτή\, και σε λήψη block αυτομοσχεύματος από βόειες πλευρές\, ακινητοποίησή του με βίδες οστεοσύνθεσης και συρραφή του κρημνού μετά την επιμήκυνσή του με απελευθερωτικές τομές. Την τελευταία ημέρα οι συμμετέχοντες θα παρακολουθήσουν μια σειρά βιντεοσκοπημένων επεμβάσεων και θα υπάρχει η δυνατότητα διακοπής της προβολής και συζήτησης πάνω στο προβαλλόμενο περιστατικό. Προφανώς οι συμμετέχοντες θα ασκηθούν παράλληλα στη χρήση του πιεζοτόμου. \nΤο σεμινάριο αυτό απευθύνεται σε συναδέλφους\, οι οποίοι ήδη τοποθετούν εμφυτεύματα\, έχουν χειρουργική εμπειρία και θέλουν να επεκτείνουν το φάσμα της δράσης τους στην αντιμετώπιση περιστατικών με μειωμένο οστικό υπόστρωμα. \nΓια την καλύτερη και ουσιαστικότερη εκπαίδευση των ασκουμένων\, ο αριθμός των συμμετεχόντων είναι αυστηρά περιορισμένος στα 8 άτομα. \nΣΥΝΤΟΝΙΣΤΗΣ: Δ. Καλύβας\nΔΙΔΑΣΚΟΝΤΕΣ:\nΒήλος Γ.\, Στοματικός και Γναθοπροσωπικός Χειρουργός\, Ειδικευθείς στο Πανεπιστήμιο Birmingham Alabama\, Η.Π.Α.\nΚαλύβας Δ.\, Αναπληρωτής Καθηγητής Χειρουργικής Στόματος Πανεπιστημίου Αθηνών\nΠαπαβασιλείου Δ.-Α. \, Χειρουργός Στόματος\, Ειδικευθείσα στο Πανεπιστήμιο Αθηνών\nΠοδαρόπουλος Λ.\, Χειρουργός Στόματος\, Ειδικευθείς στο Πανεπιστήμιο Sheffield\, Η.Β.\nΣπανού Α.\, Χειρουργός Στόματος\, Ειδικευθείσα στο Πανεπιστήμιο Freibourg\, Γερμανία \nΠΡΟΓΡΑΜΜΑ \nΠαρασκευή 31 Μαρτίου 2023 \n09.00–09.30 Εισαγωγή. Δ. Καλύβας\n09.30–10.00 Ανατομία μέσου και κάτω τριτημορίου του προσώπου. Α. Σπανού\n10.00–10.30 Βιολογία της επούλωσης και της Κατευθυνόμενης Οστικής Αναγέννησης . Λ. Ποδαρόπουλος\n10.30 -11.45 Το αυτομόσχευμα στην Προεμφυτευματική Χειρουργική. Δ. Καλύβας\n11.45-12.00 Τα οστικά υποκατάστατα στην Προεμφυτευματική Χειρουργική. Θεωρία και πράξη. Λ. Ποδαρόπουλος \n12.00–12.30 Διάλειμμα – Καφές \n12.30–13.00 Διατήρηση δοντιού ή τοποθέτηση εμφυτεύματος. Αλγόριθμος για τη λήψη της απόφασης. Α. Σπανού\n13.00–13.45 Διατήρηση του μετεξακτικού φατνίου. Λ. Ποδαρόπουλος\n13.45-14.30 Εξωστοματικές λήψεις μοσχεύματος. Γ. Βήλος\n14.30-15.15 Ενδοστοματικές λήψεις μοσχεύματος – Τεχνικές. Δ. Καλύβας \n15.15-15.45 Διάλειμμα – Ελαφρύ γεύμα \n15.45-16.30 Προεμφυτευματική αποκατάσταση στην αισθητική ζώνη. Λ. Ποδαρόπουλος\n16.30-17.00 Προεμφυτευματική αποκατάσταση στις οπίσθιες περιοχές της άνω γνάθου. Δ. Καλύβας\n17.00-17.45 Προεμφυτευματική αποκατάσταση κάτω γνάθου. Δ. Καλύβας \nΣάββατο 1 Απριλίου 2023 \n09.00–09.45 Βασικές αρχές πιεζοχειρουργικής. Δ.-Α. Παπαβασιλείου\n09.45–12.00 Hands-on training. Δ. Καλύβας\, Λ. Ποδαρόπουλος\, Α. Σπανού\, Δ.-Α. Παπαβασιλείου \n12.00-12.30 Διάλειμμα – Καφές \n12.30-16.00 Παρακολούθηση χειρουργικών επεμβάσεων (video). Δ. Καλύβας\, Λ. Ποδαρόπουλος\n16.00-18.00 Συζήτηση – Αξιολόγηση. Δ. Καλύβας\, Λ. Ποδαρόπουλος
URL:https://odvima.gr/event/proemfytevmatiki-cheirourgiki-technikes-apokatastasis-tou-ostikou-ypostromatos-gia-tin-topothetisi-emfytevmaton/
LOCATION:Εταιρεία Οδοντοστοματολογικής Ερεύνης\, Μικράς Ασίας 70\, Αθήνα\, Αττικής\, 115 27\, Greece
ATTACH;FMTTYPE=image/jpeg:https://odvima.gr/wp-content/uploads/2023/03/EOE.jpg
ORGANIZER;CN="%CE%95%CF%84%CE%B1%CE%B9%CF%81%CE%B5%CE%AF%CE%B1%20%CE%9F%CE%B4%CE%BF%CE%BD%CF%84%CE%BF%CF%83%CF%84%CE%BF%CE%BC%CE%B1%CF%84%CE%BF%CE%BB%CE%BF%CE%B3%CE%B9%CE%BA%CE%AE%CF%82%20%CE%95%CF%81%CE%B5%CF%8D%CE%BD%CE%B7%CF%82":MAILTO:eoe@otenet.gr
END:VEVENT
BEGIN:VEVENT
DTSTART;TZID=UTC:20230401T090000
DTEND;TZID=UTC:20230401T130000
DTSTAMP:20260419T202728
CREATED:20230206T132414Z
LAST-MODIFIED:20230206T132723Z
UID:6924-1680339600-1680354000@odvima.gr
SUMMARY:Ημερίδα για παιδιά με σχιστίες: Διάγνωση\, αντιμετώπιση\, αποκατάσταση
DESCRIPTION:Ημερίδα για παιδιά που γεννιούνται με σχιστία διοργανώνουν το Σάββατο 1η Απριλίου 2023 και ώρα 9:00\, το Παιδιατρικό τμήμα Στοματικής και Γναθοπροσωπικής Χειρουργικής και το 1ο Ελληνικό κέντρο Σχιστίων της Κλινικής Άγιος Λουκάς. \nΚατά τη διάρκεια της ημερίδας θα αναλυθούν η διάγνωση\, η αντιμετώπιση και η αποκατάσταση της σχιστίας. \nΗ είσοδος θα είναι ελεύθερη. \nΗ ημερίδα θα πραγματοποιηθεί στην αίθουσα τελετών στην Κλινική Άγιος Λουκάς\, Πανόραμα Θεσσαλονίκης. \nΠΡΟΓΡΑΜΜΑ \n09:00 Έναρξη-Εγγραφές\n09:00 Μαριλένα Μάνθου\, Αν. Καθηγήτρια Ιστολογίας-Εμβρυολογίας Ιατρικής ΑΠΘ\n10:00 Αλέξανδρος Σωτηριάδης\, Καθηγητής Μαιευτικής Γυναικολογίας\, Εμβρυομητρικής Ιατρικής ΑΠΘ\n10:30 Βασιλική Κούρου\, Παιδίατρος-Νευρολόγος \n11:00 Διάλειμμα \n11:00 Σταματία Σταϊκούδη\, ΩΡΛ\, Ακουολόγος\n12:00 Νικόλαος Κεχαγιάς\, Msc\, PhD\, Στοματικός και Γναθοπροσωπικός Χειρουργός\n12:30 Αλεξάνδρα Παπαδοπούλου\, Επικ. Καθηγήτρια Ορθοδοντικής University of Sydney & University of Geneva \nΠληροφορίες: 6978 036401
URL:https://odvima.gr/event/imerida-gia-paidia-me-schisties-diagnosi-antimetopisi-apokatastasi/
LOCATION:Κλινική Άγιος Λουκάς\, Πανόραμα\, Θεσσαλονίκη\, 55236\, Ελλάδα
ATTACH;FMTTYPE=image/jpeg:https://odvima.gr/wp-content/uploads/2023/02/sxisties.jpg
END:VEVENT
BEGIN:VEVENT
DTSTART;TZID=UTC:20230401T090000
DTEND;TZID=UTC:20230401T160000
DTSTAMP:20260419T202728
CREATED:20221227T141440Z
LAST-MODIFIED:20230124T122244Z
UID:6437-1680339600-1680364800@odvima.gr
SUMMARY:Εκτεταμένες άμεσες και έμμεσες αποκαταστάσεις με σύνθετη ρητίνη σε οπίσθια δόντια
DESCRIPTION:Η Εταιρεία Σύγχρονης Οδοντιατρικής διοργανώνει το Σάββατο 1 Απριλίου 2023 πρακτικό σεμινάριο Οδοντικής Χειρουργικής με θέμα: «Εκτεταμένες άμεσες και έμμεσες αποκαταστάσεις με σύνθετη ρητίνη σε οπίσθια δόντια». Διδάσκοντες: Χαρίκλεια Παξιμαδά\, Επικ. Καθηγήτρια\, Γρηγορία Γκαβέλα\, Μεταδιδακτορική ερευν. στην Οδοντ. Χειρουργική ΕΚΠΑ\, Δημήτρης Καμπουρόπουλος\, DDS\, MSc Οδοντικής Χειρουργικής ΕΚΠΑ. \nΟι σύνθετες ρητίνες έχουν καθιερωθεί σαν το υλικό εκλογής και για εκτεταμένες αποκαταστάσεις στα οπίσθια δόντια\, αποτελώντας εναλλακτική αξιόπιστη λύση έναντι των κεραμικών. Η σύνθεση των νανόκοκκων και νανουβριδικών συνθέτων ρητινών καθώς και οι σύγχρονοι συγκολλητικοί παράγοντες διασφαλίζουν την αντοχή αλλά και την μακροβιότητα επενθέτων και υπερενθέτων τόσο σε ζωντανά όσο και σε ενδοδοντικά θεραπευμένα οπίσθια δόντια. Στο συγκεκριμένο Σεμινάριο\, στο Θεωρητικό μέρος\, θα συζητηθούν\, μέσα από κλινικά περιστατικά\, οι προυποθέσεις και οι αρχές παρασκευής των κοιλοτήτων για την κατασκευή των επενθέτων καθώς και ο τρόπος συγκόλλησής τους. Στο Πρακτικό μέρος\, οι συμμετέχοντες θα παρασκευάσουν και θα αποκαταστήσουν με σύνθετη ρητίνη επένθετο σε γομφίο. Θα παρασκευάσουν κοιλότητα για έμμεσο επένθετο και θα εφαρμόσουν την τεχνική της «άμεσης κάλυψης της οδοντίνης»\, ενώ θα παρακολουθήσουν επίδειξη των σταδίων συγκόλλησης επενθέτου. \nΠΡΟΓΡΑΜΜΑ\n09.00-10.00: Προσέλευση – Εγγραφές\n09.30-11.00: Θεωρητικό μέρος: Προϋποθέσεις και αρχές παρασκευής Επενθέτων και Υπερενθέτων σε ζωντανά και ενδοδοντικά θεραπευμένα δόντια\, προκειμένου να αποκατασταθούν με πολυμερή υλικά. Κλινικά στάδια παρασκευής\, διαμόρφωσης κοιλότητας και αποκατάστασης άμεσα με σύνθετη ρητίνη. Προετοιμασία της κοιλότητας\, αποτύπωση και συγκόλληση έμμεσων πολυμερών Επενθέτων Υπερενθέτων. Κλινική συμπεριφορά αυτών των αποκαταστάσεων.\n11.00-11.30: Διάλειμμα – Καφές\n11.30-13.30: Πρακτικό μέρος: Παρασκευή κοιλότητας επενθέτου σε γομφίο. Αποκατάσταση άμεσα με σύνθετη ρητίνη και διαστρωματική τεχνική\,διαμόρφωση\, λείανση και στίλβωση.\n13.30-14.00: Διάλειμμα-Ελαφρύ γεύμα\n14.00-16.00: Πρακτικό μέρος: (συνέχεια) Παρασκευή για έμμεσο επένθετο σε γομφίο. Εφαρμογή τεχνικής «άμεσης κάλυψης οδοντίνης». Αποτύπωση. Επίδειξη συγκόλλησης έμμεσου πολυμερούς επενθέτου. \nΑριθμός συμμετεχόντων: 25\nΚόστος Συμμετοχής: 150 ευρώ\nΔηλώσεις Συμμετοχής: Πολυάνθη Δουβίτσα 6972 712743\, Γιάννα Κνήνη 6977 582358\nΤόπος Διεξαγωγής: MEC\, Πλαστήρα 84 και Ιωσηφόγλου\, Ν. Σμύρνη\, Αθήνα
URL:https://odvima.gr/event/ektetamenes-ameses-kai-emmeses-apoka/
LOCATION:Αττικής
ATTACH;FMTTYPE=image/jpeg:https://odvima.gr/wp-content/uploads/2022/12/eso.jpg
END:VEVENT
BEGIN:VEVENT
DTSTART;TZID=UTC:20230401T093000
DTEND;TZID=UTC:20230401T140000
DTSTAMP:20260419T202728
CREATED:20230313T124033Z
LAST-MODIFIED:20230313T204539Z
UID:7361-1680341400-1680357600@odvima.gr
SUMMARY:Ημερίδα στην Αρχαία Ολυμπία για την καθημερινή κλινική οδοντιατρική πράξη
DESCRIPTION:Ο Οδοντιατρικός Σύλλογος Ηλείας\, σε συνεργασία με το Athens 2 ITI Study Club\, διοργανώνει ημερίδα με θεματολογία που αφορά στην καθημερινή κλινική οδοντιατρική πράξη. \nΗ ημερίδα θα πραγματοποιηθεί στην Αρχαία Ολυμπία την 1η Απριλίου 2023\, από 9:30 έως 14:00\, στο συνεδριακό κέντρο Σ.Π.Α.Π.\, με ομιλητές τους ITI Fellows and Registered Speakers κ.κ. Χαράλαμπο Αποστολίδη Στοματογναθοπροσωπικό Χειρουργό\, Μιχάλη Πάτρα Χειρ. Οδοντίατρο-Προσθετολόγο και Αλέξανδρο Γκρους Χειρ. Οδοντίατρο-Προσθετολόγο. \nΠρόγραμμα ημερίδας \n9:00-9:30 Προσέλευση – καφές \n9:30 -10:30 Χειρουργική στόματος για τον γενικό οδοντίατρο (Χ. Αποστολίδης) \n10:30-11:15 Αποτύπωση για επιεμφυτευματικές κινητές προσθέσεις και ενεργοποίηση μονήρων συνδέσμων Locators-Novaloc (Μ. Πάτρας) \n11:15-12:00 Διάλειμμα – Ελαφρύ γεύμα \n12:15-13:00 Προφίλ ανάδυσης επιεμφυτευματικών αποκαταστάσεων στην αισθητική ζώνη. Πώς και γιατί (Μ. Πάτρας) \n13:00-14:00 Διαχείριση ασθενών με συστηματικά νοσήματα στη χειρουργική στόματος (Μ. Αποστολίδης) \n13:00-14:00 Παράλληλο workshop (κλινική επίδειξη σε ομάδα 8-10 ατόμων) (Μ. Πάτρας) \n14:00-14:30 Ερωτήσεις – Συζήτηση \nΣτο workshop θα παρουσιαστούν οι κλινικοί χειρισμοί για:\nΑ) την τοποθέτηση και ενεργοποίηση μονήρων συνδέσμων Novaloc σε κινητές επιεμφυτευματικές οδοντοστοιχίες και \nΒ) τη διαμόρφωση των περιεμφυτευματικών ιστών στην αισθητική ζώνη με την κατασκευή μεταβατικής αποκατάστασης και τη διαδικασία μεταφοράς του προφίλ ανάδυσης στο οδοντοτεχνικό εργαστήριο με εξατομικευμένο άξονα αποτύπωσης\, ώστε αυτό να αντιγραφεί στην τελική προσθετική εργασία.
URL:https://odvima.gr/event/imerida-stin-archaia-olybia-gia-tin-kathimerini-kliniki-odontiatriki-praxi/
LOCATION:Συνεδριακό Κέντρο Σ.Π.Α.Π.\, Αρχαία Ολυμπία\, Ηλείας\, 270 65\, Ελλάδα
ATTACH;FMTTYPE=image/jpeg:https://odvima.gr/wp-content/uploads/2023/03/spap.jpg
ORGANIZER;CN="%CE%9F%CE%B4%CE%BF%CE%BD%CF%84%CE%B9%CE%B1%CF%84%CF%81%CE%B9%CE%BA%CF%8C%CF%82%20%CE%A3%CF%8D%CE%BB%CE%BB%CE%BF%CE%B3%CE%BF%CF%82%20%CE%97%CE%BB%CE%B5%CE%AF%CE%B1%CF%82":MAILTO:iliadentist@gmail.com
END:VEVENT
END:VCALENDAR