BEGIN:VCALENDAR
VERSION:2.0
PRODID:-//Οδοντιατρικό Βήμα - ECPv6.0.1.1//NONSGML v1.0//EN
CALSCALE:GREGORIAN
METHOD:PUBLISH
X-WR-CALNAME:Οδοντιατρικό Βήμα
X-ORIGINAL-URL:https://odvima.gr
X-WR-CALDESC:Events for Οδοντιατρικό Βήμα
REFRESH-INTERVAL;VALUE=DURATION:PT1H
X-Robots-Tag:noindex
X-PUBLISHED-TTL:PT1H
BEGIN:VTIMEZONE
TZID:UTC
BEGIN:STANDARD
TZOFFSETFROM:+0000
TZOFFSETTO:+0000
TZNAME:UTC
DTSTART:20230101T000000
END:STANDARD
END:VTIMEZONE
BEGIN:VEVENT
DTSTART;TZID=UTC:20230318T093000
DTEND;TZID=UTC:20230319T180000
DTSTAMP:20260420T024727
CREATED:20230216T134710Z
LAST-MODIFIED:20230309T124857Z
UID:6999-1679131800-1679248800@odvima.gr
SUMMARY:Διημερίδα Ενδοδοντίας από τον Οδοντιατρικό Σύλλογο Μεσσηνίας
DESCRIPTION:Ο Οδοντιατρικός Σύλλογος Μεσσηνίας διοργανώνει το Σάββατο 18 και Κυριακή 19 Μαρτίου 2023 διημερίδα Ενδοδοντίας με ομιλητή τον κ. Κωνσταντίνο Ιωαννίδη\, Διδάκτορα Πανεπιστημίου King’s College\, London\, Dental Institute\, Uk\, Επίκουρο Καθηγητή Ενδοδοντολογίας ΑΠΘ. Η διημερίδα θα πραγματοποιηθεί στο ξενοδοχείο «Elysian Luxury Hotel & Spa» στην Καλαμάτα. \nΕΠΙΣΤΗΜΟΝΙΚΟ ΠΡΟΓΡΑΜΜΑ \nΣΑΒΒΑΤΟ 18/03/2023\n9.30-11.30  Διάγνωση και Προετοιμασία για ενδοδοντική θεραπεία. Έλεγχος σηπτικού πεδίου\, διάνοιξη\, χημικομηχανική επεξεργασία και χρήση αντισηπτικών. \n11.30-12.00  Διάλειμμα για καφέ \n12.00-14.00  Έμφραξη και μυλική αποκατάσταση. Αξιολόγηση θεραπευτικού αποτελέσματος και διασφάλιση επιβίωσης \n14.00-15.00  Διάλειμμα για ελαφρύ γεύμα \n15.00-18.00  HANDS-ON Βιολογικά και μηχανικά προβλέψιμη προετοιμασία ριζικών σωλήνων με τη χρήση του συστήματος ProTaper – Gold\, Ultimate – \nΚΥΡΙΑΚΗ 19/03/2023 \n10.00-12.00  Οστικά- Καθοδηγούμενη Ενδοδοντία (Osseo-Driven Endodontics). Σχέδιο θεραπείας και επιλογή περιστατικών με ενδο-περιοδοντικές βλάβες\, συρρίγγια\, εμμένουσες ή/ και μεγάλες αλλοιώσεις \n12.00-12.30  Διάλειμμα για καφέ \n12.30-14.30  Αποκαταστατικά & amp; Συγκλεισιακά – Καθοδηγούμενη Ενδοδοντία (Restorative- Occlusion- Driven Endodontics). Σχέδιο θεραπείας και επιλογή περιστατικών με εκτεταμένες αποκαταστάσεις\, συγκλεισιακές υπερφορτίσεις\, απορροφήσεις\, ρωγμές και κατάγματα \nΟι προεγγραφές ξεκίνησαν! \nΚΟΣΤΟΣ ΣΥΜΜΕΤΟΧΗΣ ΣΤΟ ΘΕΩΡΗΤΙΚΟ ΜΕΡΟΣ:\nΚόστος προεγγραφής (έως 10 Μαρτίου): 40 ευρώ\nΚόστος εγγραφής (μετά την 10η Μαρτίου): 60 ευρώ \nΚΟΣΤΟΣ ΣΥΜΜΕΤΟΧΗΣ ΣΤΟ ΠΡΑΚΤΙΚΟ ΜΕΡΟΣ: 120 ευρώ \nΗ πληρωμή μπορεί να πραγματοποιηθεί και μέσω τραπέζης στον κάτωθι λογ/σμό:  ΕΘΝΙΚΗ ΤΡΑΠΕΖΑ \nΑΡΙΘΜΟΣ ΛΟΓ/ΣΜΟΥ: 220/296042-73\nIBAN: GR 6001102200000022029604273\nΔΙΚΑΙΟΥΧΟΣ: ΟΔΟΝΤΙΑΤΡΙΚΟΣ ΣΥΛΛΟΓΟΣ ΜΕΣΣΗΝΙΑΣ \nΟι προεγγαφές πραγματοποιούνται είτε τηλεφωνικά στο 2721022136\, είτε με μήνυμα ηλεκτρονικού ταχυδρομείου (info@odsm.gr) \nΗ επιστημονική εκδήλωση μοριοδοτείται\, σύμφωνα με το πρόγραμμα Συνεχιζόμενης Επιστημονικής Εκπαίδευσης Οδοντιάτρων (Σ.Ε.Ε.Ο.) της Ε.Ο.Ο. \n 
URL:https://odvima.gr/event/diimerida-endodontias-apo-ton-odontiatriko-syllogo-messinias/
LOCATION:Elysian Luxury Hotel & Spa\, Συνοικιά Κορδία\, Καλαμάτα\, Μεσσηνία\, 24100\, Ελλάδα
ATTACH;FMTTYPE=image/jpeg:https://odvima.gr/wp-content/uploads/2023/02/Kalamata.jpg
ORGANIZER;CN="%CE%9F%CE%B4%CE%BF%CE%BD%CF%84%CE%B9%CE%B1%CF%84%CF%81%CE%B9%CE%BA%CF%8C%CF%82%20%CE%A3%CF%8D%CE%BB%CE%BB%CE%BF%CE%B3%CE%BF%CF%82%20%CE%9C%CE%B5%CF%83%CF%83%CE%B7%CE%BD%CE%AF%CE%B1%CF%82":MAILTO:info@odsm.gr
END:VEVENT
END:VCALENDAR