BEGIN:VCALENDAR
VERSION:2.0
PRODID:-//Οδοντιατρικό Βήμα - ECPv6.0.1.1//NONSGML v1.0//EN
CALSCALE:GREGORIAN
METHOD:PUBLISH
X-ORIGINAL-URL:https://odvima.gr
X-WR-CALDESC:Events for Οδοντιατρικό Βήμα
REFRESH-INTERVAL;VALUE=DURATION:PT1H
X-Robots-Tag:noindex
X-PUBLISHED-TTL:PT1H
BEGIN:VTIMEZONE
TZID:UTC
BEGIN:STANDARD
TZOFFSETFROM:+0000
TZOFFSETTO:+0000
TZNAME:UTC
DTSTART:20230101T000000
END:STANDARD
END:VTIMEZONE
BEGIN:VEVENT
DTSTART;TZID=UTC:20230314T080000
DTEND;TZID=UTC:20230318T170000
DTSTAMP:20260420T204257
CREATED:20221207T120708Z
LAST-MODIFIED:20230124T122244Z
UID:6312-1678780800-1679158800@odvima.gr
SUMMARY:Τον Μάρτιο η έκθεση IDS 2023
DESCRIPTION:Η μεγαλύτερη εμπορική έκθεση στον κλάδο της Οδοντιατρικής η IDS επιστρέφει το 2023\, για 40η φορά\, γιορτάζοντας τα 100 της χρόνια.\nΜέχρι στιγμής περισσότεροι από 1.600 εκθέτες από 60 χώρες\, συμπεριλαμβανομένων 14 ομαδικών περιπτέρων από 12 χώρες\, έχουν εγγραφεί στη μεγαλύτερη εμπορική έκθεση στον κόσμο για την οδοντιατρική βιομηχανία\, την οδοντιατρική και την οδοντιατρική τεχνολογία\, η οποία διοργανώνεται από 14 έως 18 Μαρτίου 2023. Ως εκ τούτου\, ολόκληρη η οδοντιατρική βιομηχανία\, συμπεριλαμβανομένων όλων των ηγετών της διεθνούς αγοράς\, εκπροσωπείται στην IDS. \nΚαι στην επερχόμενη έκθεση\, όπως είχε γίνει και σε εκείνη του 2021\, θα παρέχεται η δυνατότητα ακόμα και σε όσους δεν ταξιδέψουν στην Κολωνία για να δουν από κοντά την έκθεση\, να περιηγηθούν στα περίπτερά της\, να ενημερωθούν για όλες τις τελευταίες τεχνολογίες και να δικτυωθούν μέσα απ’ την πλατφόρμα IDSconnect. \nΕκτός από τη μεγαλύτερη συμμετοχή από τη Γερμανία\, οι ισχυρότεροι διεθνείς εκθέτες προέρχονται αυτή τη στιγμή από την Ιταλία\, την Ν. Κορέα\, τη Γαλλία\, την Ελβετία\, την Ισπανία\, την Τουρκία και τις ΗΠΑ. Στην Κολωνία εκπροσωπούνται επίσης περίπτερα από την Αργεντινή\, τη Βραζιλία\, τη Βουλγαρία\, την Κίνα\, το Ισραήλ\, την Ιταλία\, την Ιαπωνία\, το Χονγκ Κονγκ\, την Κορέα\, τη Σιγκαπούρη κ.ά. Η IDS 2023 θα φιλοξενηθεί στις Αίθουσες 1\, 2\, 3\, 4\, 5\, 10 και 11 σε ένα εκθεσιακό χώρο που εκτείνεται σε περίπου 180.000 τετραγωνικά μέτρα. \nΕπιπλέον\, το IDSconnect παρέχει μια σειρά από ψηφιακές προσφορές που εμπλουτίζουν την επίσκεψη στην εμπορική έκθεση: από εκπαιδευτικές συνεδρίες\, διαδικτυακά σεμινάρια\, έως εταιρικές παρουσιάσεις προϊόντων. \nΔείτε εδώ αναλυτικά πληροφορίες για τους εκθέτες: www.english.ids-cologne.de/ids-cologne-exhibitors/list-of-exhibitors \nΗ IDS πραγματοποιείται στην Κολωνία κάθε δύο χρόνια και διοργανώνεται από την GFDI Gesellschaft zur Förderung der Dental-Industrie mbH\, την εμπορική επιχείρηση του Συνδέσμου Γερμανών Οδοντιατρικών Κατασκευαστών (VDDI)\, και διοργανώνεται από την Koelnmesse GmbH με έδρα τηνν Κολωνία. \nΗ εγγραφή και η παραγγελία των εισιτηρίων εισόδου για την IDS 2023 αποτελεί μέρος του προγραμματισμού της εμπορικής έκθεσης\, επειδή όλα τα εισιτήρια μπορούν να κρατηθούν αποκλειστικά online.
URL:https://odvima.gr/event/ton-martio-i-ekthesi-ids-2023/
LOCATION:Αττικής
ATTACH;FMTTYPE=image/jpeg:https://odvima.gr/wp-content/uploads/2022/12/IDS_100years.jpg
END:VEVENT
BEGIN:VEVENT
DTSTART;TZID=UTC:20230318T090000
DTEND;TZID=UTC:20230318T140000
DTSTAMP:20260420T204257
CREATED:20230221T102657Z
LAST-MODIFIED:20230221T102819Z
UID:7028-1679130000-1679148000@odvima.gr
SUMMARY:«Σύγχρονες απόψεις για τη θεραπεία πολφού νεογιλών και νεαρών μόνιμων δοντιών σε παιδιά και εφήβους»
DESCRIPTION:Η Στοματολογική Εταιρεία της Ελλάδος διοργανώνει ημερίδα με θέμα: «Σύγχρονες απόψεις για τη θεραπεία πολφού νεογιλών και νεαρών μόνιμων δοντιών σε παιδιά και εφήβους» το Σάββατο 18 Μαρτίου 2023 και ώρα 09:00-14:00 στο Επιστημονικό Κέντρο της Εταιρείας\, Καλλιρρόης 17\, Αθήνα. \nΣκοπός της Ημερίδας είναι να παρουσιαστούν οι πιο πρόσφατες εξελίξεις\, με αλλαγές στα υλικά και στην κλινική μεθοδολογία\, στην θεραπεία του πολφού των νεογιλών και των νεαρών μονίμων δοντιών με ανοικτό ακρορρίζιο\, σύμφωνα με διεθνείς μελέτες και τις κλινικές οδηγίες της Ευρωπαϊκής και της Αμερικανικής Ακαδημίας Παιδοδοντιατρικής και τις αντίστοιχες της Ενδοδοντολογίας. \nΘα συζητηθούν η άμεση και έμμεση κάλυψη του νεογιλού πολφού\, σε περιπτώσεις βαθιάς τερηδονικής βλάβης. Επίσης η πολφοτομή και η πολφεκτομή των νεογιλών και μονίμων τραυματισμένων αδιάπλαστων προσθίων δοντιών\, σε περιπτώσεις μη αντιστρεπτής πολφίτιδας ή νεκρού πολφού. Τέλος θα αναλυθούν εκτενώς οι σύγχρονες προσεγγίσεις\, με χρήση βιοενεργών υλικών και αντίστοιχων τεχνικών\, για τη συντηρητική θεραπεία του φλεγμαίνοντος/μολυσμένου αλλά ζωντανού πολφού των νεαρών μονίμων αδιάπλαστων οπισθίων δοντιών\, συχνά απαραίτητη σε βαθιά τερηδονική βλάβη. \nΠΡΟΓΡΑΜΜΑ\n09.00 – 09.30 Εγγραφές και παραλαβή υλικού\n09.30 – 10.15 \nΣύγχρονες απόψεις για την άμεση και έμμεση κάλυψη του νεογιλού πολφού.\nΝίκος Ν. Λυγιδάκης \n10.15 – 11.00 Πολφοτομή και πολφεκτομή στα νεογιλά δόντια. Πότε και Πώς. \nΝίκος Α. Λυγιδάκης\n11.00 – 11.30 Διάλειμμα-καφές\n11.30 – 12.15 \nΣυντηρητική θεραπεία φλεγμαίνοντα/ζωντανού πολφού σε νεαρά\nμόνιμα οπίσθια δόντια με βαθιά τερηδονική βλάβη.\nΓιώργος Τζανετάκης \n12.15 – 13.00 \nΚλινική αντιμετώπιση φλεγμαίνοντα/ζωντανού και νεκρού πολφού σε νεαρά μόνιμα πρόσθια δόντια μετά από τραυματισμό.\nΝίκος Α. Λυγιδάκης\n13.00 – 14.00 Συζήτηση \nΕισηγητές:\nΝίκος Α. Λυγιδάκης Υφηγητής Παιδοδοντιατρικής Παν/μίου Leeds\, UK\nΓιώργος Τζανετάκης Επίκουρος Καθηγητής Ενδοδοντίας\, ΕΚΠΑ\nΝίκος Ν. Λυγιδάκης Δρ. Παιδοδοντίατρος MPaedDentRCS (Engl) \nΧορηγούνται 4\,5 ΜΕΕΟ
URL:https://odvima.gr/event/sygchrones-apopseis-gia-ti-therapeia-polfou-neogilon-kai-nearon-monimon-dontion-se-paidia-kai-efivous-2/
LOCATION:Αττικής
ATTACH;FMTTYPE=image/jpeg:https://odvima.gr/wp-content/uploads/2022/10/see.jpg
ORGANIZER;CN="%CE%A3%CF%84%CE%BF%CE%BC%CE%B1%CF%84%CE%BF%CE%BB%CE%BF%CE%B3%CE%B9%CE%BA%CE%AE%20%CE%95%CF%84%CE%B1%CE%B9%CF%81%CE%B5%CE%AF%CE%B1%20%CF%84%CE%B7%CF%82%20%CE%95%CE%BB%CE%BB%CE%AC%CE%B4%CE%BF%CF%82":MAILTO:info@stomatologia.gr
END:VEVENT
BEGIN:VEVENT
DTSTART;TZID=UTC:20230318T090000
DTEND;TZID=UTC:20230318T140000
DTSTAMP:20260420T204257
CREATED:20230301T100848Z
LAST-MODIFIED:20230301T120105Z
UID:7082-1679130000-1679148000@odvima.gr
SUMMARY:Σενάρια\, Διλήμματα και Λύσεις για την Αισθητική Ζώνη
DESCRIPTION:Ο Οδοντιατρικός Σύλλογος Κορινθίας\, με την υποστήριξη της Intermed\, διοργανώνει επιστημονική ημερίδα με θέμα «Σενάρια\, Διλήμματα και Λύσεις για την Αισθητική Ζώνη»\, το Σάββατο 18 Μαρτίου 2023\,  στην αίθουσα εκδηλώσεων του Ιατρικού και Φαρμακευτικού Συλλόγου Κορινθίας. \nΠρόγραμμα ημερίδας \n9:00-9:30 Προσέλευση – Εγγραφές\n9:30 – 11:30: Σενάρια\, διλήμματα και λύσεις για την αισθητική ζώνη.\nΜέρος 1ο: Αισθητική οδοντιατρική και Προσθετική \n11:30-12:00 Διάλειμμα-καφές \n12:00-13:30 Σενάρια\, διλήμματα και λύσεις για την αισθητική ζώνη.\nΜέρος 2ο: Οδοντικά εμφυτεύματα\n13:30-14:00 Ερωτήσεις – Συζήτηση \nΕισηγητής: Μιχάλης Πάτρας\, Χειρουργός Οδοντίατρος\, εξειδίκευση στην Προσθετική\, μετεκπαιδευθείς στην Εμφυτευματολογία. \nΗ ημερίδα μοριοδοτείται από το Ινστιτούτο Επιστημονικών Θεμάτων της ΕΟΟ. \nΗ συμμετοχή είναι δωρεάν. \nΔηλώσεις συμμετοχής στη γραμματεία του ΟΣΚ στο τηλ: 27410 20439
URL:https://odvima.gr/event/senaria-dilimmata-kai-lyseis-gia-tin-aisthitiki-zoni/
LOCATION:Αίθουσα εκδηλώσεων του Ιατρικού και Φαρμακευτικού Συλλόγου Κορινθίας\, Αδειμάντου 66\, Κόρινθος\, Κορινθίας\, 20100\, Ελλάδα
ATTACH;FMTTYPE=image/jpeg:https://odvima.gr/wp-content/uploads/2023/03/OSK.jpg
ORGANIZER;CN="%CE%9F%CE%B4%CE%BF%CE%BD%CF%84%CE%B9%CE%B1%CF%84%CF%81%CE%B9%CE%BA%CF%8C%CF%82%20%CE%A3%CF%8D%CE%BB%CE%BB%CE%BF%CE%B3%CE%BF%CF%82%20%CE%9A%CE%BF%CF%81%CE%B9%CE%BD%CE%B8%CE%AF%CE%B1%CF%82":MAILTO:oskorinthias@gmail.com
END:VEVENT
BEGIN:VEVENT
DTSTART;TZID=UTC:20230318T090000
DTEND;TZID=UTC:20230318T153000
DTSTAMP:20260420T204257
CREATED:20230202T120426Z
LAST-MODIFIED:20230316T083102Z
UID:6915-1679130000-1679153400@odvima.gr
SUMMARY:Τo guide or not to guide in implantology? Δυνατότητες και προβληματισμοί στην υπολογιστικά καθοδηγούμενη τοποθέτηση εμφυτευμάτων
DESCRIPTION:Η 2η επιστημονική ημερίδα του Οδοντιατρικού Συλλόγου Αττικής με θέμα: «Τo guide or not to guide in implantology? Δυνατότητες και προβληματισμοί στην υπολογιστικά καθοδηγούμενη τοποθέτηση εμφυτευμάτων» θα διεξαχθεί το Σάββατο 18 Μαρτίου 2023\, στο ξενοδοχείο Novotel Athenes. \nΕΙΣΗΓΗΤΕΣ:\nΣπύρος Βασιλόπουλος\, Επίκ. Καθηγητής Περιοδοντολογίας\, ΕΚΠΑ\nΠαναγιώτης Λαμπρόπουλος\, Επιστημονικός Συνεργάτης Εργαστηρίου Προσθετικής\, ΕΚΠΑ\nΓιώργος Κωστάκης\, Επιστημονικός Συνεργάτης Κλινικής Στοματικής και Γναθοπροσωπικής Χειρουργικής\, ΕΚΠΑ\nΜεταπτυχιακοί φοιτητές Οδοντιατρικής Σχολής ΕΚΠΑ \nΣΥΝΤΟΝΙΣΤΕΣ:\nΦοίβος Μαδιανός\, Καθηγητής – Διευθυντής Εργαστηρίου Περιοδοντολογίας ΕΚΠΑ και Διευθυντής της Μονάδας Οστεοενσωματούμενων Εμφυτευμάτων ΕΚΠΑ\nΧρήστος Περισανίδης\, Καθηγητής και Διευθυντής της Κλινικής Στοματικής και Γναθοπροσωπικής Χειρουργικής ΕΚΠΑ\nΣτέφανος Κούρτης\, Αναπλ. Καθηγητής Ακίνητης Προσθετικής και Διευθυντής Εργαστηρίου Προσθετικής ΕΚΠΑ \nΕΓΓΡΑΦΕΣ: 9:00 – 9:30\nΔΙΑΡΚΕΙΑ ΗΜΕΡΙΔΑΣ: 9:30 – 15.30 \nΗ χρήση των οστεοενσωματούμενων εμφυτευμάτων έχει εδραιωθεί στην καθημερινή κλινική πράξη\, καθώς μπορεί να δώσει λύση τόσο σε αισθητικά όσο και λειτουργικά προβλήματα των ασθενών από την ολική ή μερική νωδότητα. Στόχος του κάθε κλινικού ήταν και παραμένει το όσο το δυνατόν πιο προβλέψιμο τελικό αποτέλεσμα με ασφάλεια για τον ασθενή. Στην προσπάθεια αυτή\, ο λεπτομερής προεγχειρητικός σχεδιασμός με αξιοποίηση της σύγχρονης ψηφιακής τεχνολογίας μπορεί να βοηθήσει σημαντικά τον κλινικό και να διευκολύνει τα επόμενα χειρουργικά στάδια. Με την χρήση των σύγχρονων υπολογιστικών προγραμμάτων μπορεί να αναγνωριστούν εκ των προτέρων τα σημεία προσοχής κατά την τοποθέτηση των εμφυτευμάτων και η χειρουργική διαδικασία να καθοδηγηθεί με ακρίβεια προς το προσδοκώμενο τελικό αποτέλεσμα. \nΌπως κάθε νέα τεχνολογία που εισάγεται στην κλινική πράξη\, απαιτείται εξοικείωση του κλινικού με τις νέες δυνατότητές ενώ υπάρχει πάντα μία καμπύλη μάθησης για κάθε νέα μέθοδο. Η άμεση και ολοκληρωτική εφαρμογή κάθε καινοτόμου τεχνικής χωρίς την απαραίτητη εκπαίδευση και εξοικείωση μπορεί να οδηγήσει σε αποτελέσματα αντίθετα από τα προσδοκώμενα. \nΣκοπός της Ημερίδας αυτής είναι να παρουσιαστούν οι δυνατότητες της νέας τεχνολογίας προεγχειρητικού σχεδιασμού και υπολογιστικά καθοδηγούμενης τοποθέτησης εμφυτευμάτων μαζί με τους προβληματισμούς και τους περιορισμούς της.
URL:https://odvima.gr/event/to-guide-or-not-to-guide-in-implantology-dynatotites-kai-provlimatismoi-stin-ypologistika-kathodigoumeni-topothetisi-emfytevmaton/
LOCATION:Novotel Athenes\, Μιχαήλ Βόδα 4\, Αθήνα\, Αττικής\, 10439
ATTACH;FMTTYPE=image/jpeg:https://odvima.gr/wp-content/uploads/2023/02/osa2.jpg
END:VEVENT
BEGIN:VEVENT
DTSTART;TZID=UTC:20230318T093000
DTEND;TZID=UTC:20230319T180000
DTSTAMP:20260420T204257
CREATED:20230216T134710Z
LAST-MODIFIED:20230309T124857Z
UID:6999-1679131800-1679248800@odvima.gr
SUMMARY:Διημερίδα Ενδοδοντίας από τον Οδοντιατρικό Σύλλογο Μεσσηνίας
DESCRIPTION:Ο Οδοντιατρικός Σύλλογος Μεσσηνίας διοργανώνει το Σάββατο 18 και Κυριακή 19 Μαρτίου 2023 διημερίδα Ενδοδοντίας με ομιλητή τον κ. Κωνσταντίνο Ιωαννίδη\, Διδάκτορα Πανεπιστημίου King’s College\, London\, Dental Institute\, Uk\, Επίκουρο Καθηγητή Ενδοδοντολογίας ΑΠΘ. Η διημερίδα θα πραγματοποιηθεί στο ξενοδοχείο «Elysian Luxury Hotel & Spa» στην Καλαμάτα. \nΕΠΙΣΤΗΜΟΝΙΚΟ ΠΡΟΓΡΑΜΜΑ \nΣΑΒΒΑΤΟ 18/03/2023\n9.30-11.30  Διάγνωση και Προετοιμασία για ενδοδοντική θεραπεία. Έλεγχος σηπτικού πεδίου\, διάνοιξη\, χημικομηχανική επεξεργασία και χρήση αντισηπτικών. \n11.30-12.00  Διάλειμμα για καφέ \n12.00-14.00  Έμφραξη και μυλική αποκατάσταση. Αξιολόγηση θεραπευτικού αποτελέσματος και διασφάλιση επιβίωσης \n14.00-15.00  Διάλειμμα για ελαφρύ γεύμα \n15.00-18.00  HANDS-ON Βιολογικά και μηχανικά προβλέψιμη προετοιμασία ριζικών σωλήνων με τη χρήση του συστήματος ProTaper – Gold\, Ultimate – \nΚΥΡΙΑΚΗ 19/03/2023 \n10.00-12.00  Οστικά- Καθοδηγούμενη Ενδοδοντία (Osseo-Driven Endodontics). Σχέδιο θεραπείας και επιλογή περιστατικών με ενδο-περιοδοντικές βλάβες\, συρρίγγια\, εμμένουσες ή/ και μεγάλες αλλοιώσεις \n12.00-12.30  Διάλειμμα για καφέ \n12.30-14.30  Αποκαταστατικά & amp; Συγκλεισιακά – Καθοδηγούμενη Ενδοδοντία (Restorative- Occlusion- Driven Endodontics). Σχέδιο θεραπείας και επιλογή περιστατικών με εκτεταμένες αποκαταστάσεις\, συγκλεισιακές υπερφορτίσεις\, απορροφήσεις\, ρωγμές και κατάγματα \nΟι προεγγραφές ξεκίνησαν! \nΚΟΣΤΟΣ ΣΥΜΜΕΤΟΧΗΣ ΣΤΟ ΘΕΩΡΗΤΙΚΟ ΜΕΡΟΣ:\nΚόστος προεγγραφής (έως 10 Μαρτίου): 40 ευρώ\nΚόστος εγγραφής (μετά την 10η Μαρτίου): 60 ευρώ \nΚΟΣΤΟΣ ΣΥΜΜΕΤΟΧΗΣ ΣΤΟ ΠΡΑΚΤΙΚΟ ΜΕΡΟΣ: 120 ευρώ \nΗ πληρωμή μπορεί να πραγματοποιηθεί και μέσω τραπέζης στον κάτωθι λογ/σμό:  ΕΘΝΙΚΗ ΤΡΑΠΕΖΑ \nΑΡΙΘΜΟΣ ΛΟΓ/ΣΜΟΥ: 220/296042-73\nIBAN: GR 6001102200000022029604273\nΔΙΚΑΙΟΥΧΟΣ: ΟΔΟΝΤΙΑΤΡΙΚΟΣ ΣΥΛΛΟΓΟΣ ΜΕΣΣΗΝΙΑΣ \nΟι προεγγαφές πραγματοποιούνται είτε τηλεφωνικά στο 2721022136\, είτε με μήνυμα ηλεκτρονικού ταχυδρομείου (info@odsm.gr) \nΗ επιστημονική εκδήλωση μοριοδοτείται\, σύμφωνα με το πρόγραμμα Συνεχιζόμενης Επιστημονικής Εκπαίδευσης Οδοντιάτρων (Σ.Ε.Ε.Ο.) της Ε.Ο.Ο. \n 
URL:https://odvima.gr/event/diimerida-endodontias-apo-ton-odontiatriko-syllogo-messinias/
LOCATION:Elysian Luxury Hotel & Spa\, Συνοικιά Κορδία\, Καλαμάτα\, Μεσσηνία\, 24100\, Ελλάδα
ATTACH;FMTTYPE=image/jpeg:https://odvima.gr/wp-content/uploads/2023/02/Kalamata.jpg
ORGANIZER;CN="%CE%9F%CE%B4%CE%BF%CE%BD%CF%84%CE%B9%CE%B1%CF%84%CF%81%CE%B9%CE%BA%CF%8C%CF%82%20%CE%A3%CF%8D%CE%BB%CE%BB%CE%BF%CE%B3%CE%BF%CF%82%20%CE%9C%CE%B5%CF%83%CF%83%CE%B7%CE%BD%CE%AF%CE%B1%CF%82":MAILTO:info@odsm.gr
END:VEVENT
END:VCALENDAR