BEGIN:VCALENDAR
VERSION:2.0
PRODID:-//Οδοντιατρικό Βήμα - ECPv6.0.1.1//NONSGML v1.0//EN
CALSCALE:GREGORIAN
METHOD:PUBLISH
X-ORIGINAL-URL:https://odvima.gr
X-WR-CALDESC:Events for Οδοντιατρικό Βήμα
REFRESH-INTERVAL;VALUE=DURATION:PT1H
X-Robots-Tag:noindex
X-PUBLISHED-TTL:PT1H
BEGIN:VTIMEZONE
TZID:UTC
BEGIN:STANDARD
TZOFFSETFROM:+0000
TZOFFSETTO:+0000
TZNAME:UTC
DTSTART:20230101T000000
END:STANDARD
END:VTIMEZONE
BEGIN:VEVENT
DTSTART;TZID=UTC:20230220T130000
DTEND;TZID=UTC:20230220T140000
DTSTAMP:20260419T231427
CREATED:20221215T100312Z
LAST-MODIFIED:20230124T122244Z
UID:6403-1676898000-1676901600@odvima.gr
SUMMARY:Η έγκυος στο οδοντιατρείο: ως ιατρός\, ως ασθενής
DESCRIPTION:Webinar της Στοματολογικής Εταιρείας Ελλάδας με τους εξής ομιλητές: \n\nE. Βολτίδη\, Οδοντίατρος\, MSc\, ειδικευθείσα στην Προσθετική και στη Γναθοπροσωπική Προσθετική και Οδοντιατρική Ογκολογία στις ΗΠΑΔ.\nΔ. Μπαλαφούτας\, Γυναικολόγος – Μαιευτήρας\, Διδάκτωρ ΕΚΠΑ\, Ακαδημαϊκός Υπότροφος Β’ Μαιευτικής – Γυναικολογικής Κλινικής ΕΚΠΑ
URL:https://odvima.gr/event/i-egkyos-sto-odontiatreio-os-iatros-os/
LOCATION:Αττικής
ATTACH;FMTTYPE=image/jpeg:https://odvima.gr/wp-content/uploads/2022/12/see-web.jpg
ORGANIZER;CN="%CE%A3%CF%84%CE%BF%CE%BC%CE%B1%CF%84%CE%BF%CE%BB%CE%BF%CE%B3%CE%B9%CE%BA%CE%AE%20%CE%95%CF%84%CE%B1%CE%B9%CF%81%CE%B5%CE%AF%CE%B1%20%CF%84%CE%B7%CF%82%20%CE%95%CE%BB%CE%BB%CE%AC%CE%B4%CE%BF%CF%82":MAILTO:info@stomatologia.gr
END:VEVENT
END:VCALENDAR