BEGIN:VCALENDAR
VERSION:2.0
PRODID:-//Οδοντιατρικό Βήμα - ECPv6.0.1.1//NONSGML v1.0//EN
CALSCALE:GREGORIAN
METHOD:PUBLISH
X-ORIGINAL-URL:https://odvima.gr
X-WR-CALDESC:Events for Οδοντιατρικό Βήμα
REFRESH-INTERVAL;VALUE=DURATION:PT1H
X-Robots-Tag:noindex
X-PUBLISHED-TTL:PT1H
BEGIN:VTIMEZONE
TZID:UTC
BEGIN:STANDARD
TZOFFSETFROM:+0000
TZOFFSETTO:+0000
TZNAME:UTC
DTSTART:20220101T000000
END:STANDARD
END:VTIMEZONE
BEGIN:VEVENT
DTSTART;VALUE=DATE:20221022
DTEND;VALUE=DATE:20221024
DTSTAMP:20260420T100653
CREATED:20221010T114653Z
LAST-MODIFIED:20230124T122243Z
UID:5343-1666396800-1666569599@odvima.gr
SUMMARY:24ο Πανελλήνιο Συμπόσιο Ενδοδοντίας
DESCRIPTION:Η Ελληνική Ενδοδοντική Εταιρεία διοργανώνει το 24ο Πανελλήνιο Συμπόσιο Ενδοδοντίας 2022\, στο Ξενοδοχείο Divani Caravel\, στις 22-23 Οκτωβρίου 2022. \nΤο Συμπόσιο είναι αφιερωμένο στη μνήμη του ιδρυτή της ΕΕΕ\, Σωτήρη Συκαρά.
URL:https://odvima.gr/event/24o-panellinio-sybosio-endodontias/
LOCATION:Divani Caravel\, Λεωφ. Βασιλέως Ἀλεξάνδρου 2\, Αθήνα\, Αττικής\, 16121\, Ελλάδα
ATTACH;FMTTYPE=image/jpeg:https://odvima.gr/wp-content/uploads/2022/10/Endo-afisa.jpg
END:VEVENT
END:VCALENDAR