BEGIN:VCALENDAR
VERSION:2.0
PRODID:-//Οδοντιατρικό Βήμα - ECPv6.0.1.1//NONSGML v1.0//EN
CALSCALE:GREGORIAN
METHOD:PUBLISH
X-ORIGINAL-URL:https://odvima.gr
X-WR-CALDESC:Events for Οδοντιατρικό Βήμα
REFRESH-INTERVAL;VALUE=DURATION:PT1H
X-Robots-Tag:noindex
X-PUBLISHED-TTL:PT1H
BEGIN:VTIMEZONE
TZID:UTC
BEGIN:STANDARD
TZOFFSETFROM:+0000
TZOFFSETTO:+0000
TZNAME:UTC
DTSTART:20220101T000000
END:STANDARD
END:VTIMEZONE
BEGIN:VEVENT
DTSTART;VALUE=DATE:20221015
DTEND;VALUE=DATE:20221017
DTSTAMP:20260420T172120
CREATED:20220919T093944Z
LAST-MODIFIED:20230124T122243Z
UID:3902-1665792000-1665964799@odvima.gr
SUMMARY:Συνέδριο Dental Duets & Solo
DESCRIPTION:Η Ακαδημία Κλινικής Οδοντιατρικής διοργανώνει το συνέδριο Dental Duets & Solo στις 15-16 Οκτωβρίου 2022\, στο Ίδρυμα Ευγενίδου στην Αθήνα. \nΤο πρόγραμμα\nΣάββατο 15 Οκτωβρίου 2022 \n9.30-11.00 Γενική οδοντιατρική και ορθοδοντική: συνέργεια και όχι απλή συνεργασία \nΧριστόδουλος Λάσπος – Δημήτρης Μαυρέας \n11.00-11.30 Διάλειμμα καφέ \n11.30-13.00 Πέριο–Προσθετική – Takes Two to Tango \nΑχιλλέας Πέτσας – Χαράλαμπος Παπαχαραλάμπους \n13.00-14.00 Ελαφρύ γεύμα \n14.00-15.30 Συμβατική ή ψηφιακή προσέγγιση στην ενσωμάτωση της Ολικής Οδοντοστοιχίας στο δυναμικό περιβάλλον της; \nΜια ιστορία\, δύο διαφορετικά σενάρια \nΘεόδωρος Τασόπουλος – Όλγα Νάκα \n15.30-16.00 Διάλειμμα καφέ \n16.00-17.30 Wear is the problem – Contemporary concepts for redesigning the worn dentition \nBrian Millar – Fariha Hussain \nΚυριακή 16 Οκτωβρίου 2022 \n9.30-11.00 Έξυπνες λύσεις στην άμεση φόρτιση. Μέρος 1ο \nΚωνσταντίνος Νικολόπουλος \n11.00-11.30 Διάλειμμα καφέ \n11.30-13.00 Έξυπνες λύσεις στην άμεση φόρτιση. Μέρος 2ο \nΚωνσταντίνος Νικολόπουλος \n13.00-14.00 Ελαφρύ γεύμα \n14.00-15.30 Έξυπνες λύσεις στην άμεση φόρτιση. Μέρος 3ο \nΚωνσταντίνος Νικολόπουλος \nΠληροφορίες στο www.akod.gr
URL:https://odvima.gr/event/synedrio-dental-duets-solo/
LOCATION:Ίδρυμα Ευγενίδου
END:VEVENT
END:VCALENDAR