BEGIN:VCALENDAR
VERSION:2.0
PRODID:-//Οδοντιατρικό Βήμα - ECPv6.0.1.1//NONSGML v1.0//EN
CALSCALE:GREGORIAN
METHOD:PUBLISH
X-WR-CALNAME:Οδοντιατρικό Βήμα
X-ORIGINAL-URL:https://odvima.gr/en
X-WR-CALDESC:Events for Οδοντιατρικό Βήμα
REFRESH-INTERVAL;VALUE=DURATION:PT1H
X-Robots-Tag:noindex
X-PUBLISHED-TTL:PT1H
BEGIN:VTIMEZONE
TZID:UTC
BEGIN:STANDARD
TZOFFSETFROM:+0000
TZOFFSETTO:+0000
TZNAME:UTC
DTSTART:20230101T000000
END:STANDARD
END:VTIMEZONE
BEGIN:VEVENT
DTSTART;TZID=UTC:20231123T090000
DTEND;TZID=UTC:20231125T170000
DTSTAMP:20260419T173652
CREATED:20230712T093554Z
LAST-MODIFIED:20231123T101531Z
UID:8538-1700730000-1700931600@odvima.gr
SUMMARY:7o Πανελλήνιο Συνέδριο της ΕΕΝΟ-ΟΕΦ
DESCRIPTION:Η Ελληνική Εταιρεία Νοσοκομειακής Οδοντιατρικής και Οδοντιατρικής Ειδικής Φροντίδας (ΕΕΝΟ-ΟΕΦ) είναι στην ευχάριστη θέση να σας προσκαλέσει στο 7ο Πανελλήνιο Συνέδριό της που θα διοργανώσει σε συνεργασία με το Οδοντιατρικό Τμήμα-Ειδική Μονάδα ΑμεΑ και τη Νοσηλευτική Υπηρεσία του ΓΝ «Ασκληπιείο Βούλας» με κεντρικό θέμα: «Η Οδοντιατρική Ειδικής Φροντίδας ως πεδίο διεπιστημονικής συνεργασίας». Το συνέδριο θα διεξαχθεί στην Αθήνα στο Γενικό Νοσοκομείο «Ασκληπιείο Βούλας» στις 23-25 Νοεμβρίου 2023 και θα περιλαμβάνει κατευθυνόμενο και ελεύθερο πρόγραμμα. \nΤο κατευθυνόμενο πρόγραμμα θα έχει ως στόχο την πρακτική ανάπτυξη θεμάτων που έχουν σχέση με τη σύγχρονη άσκηση της Οδοντιατρικής Ειδικής Φροντίδας τόσο σε νοσοκομειακό περιβάλλον όσο και στην πρωτοβάθμια περίθαλψη και θα αναδεικνύει την αναγκαιότητα της συνεργασίας ιατρών διαφόρων ειδικοτήτων\, νοσηλευτών και άλλων λειτουργών υγείας προκειμένου να επιτυγχάνεται σφαιρική και αποτελεσματική αντιμετώπιση. \nΤο ελεύθερο πρόγραμμα φιλοδοξεί να αποτελέσει πάλι βήμα παρουσίασης και καταγραφής του έργου εκείνων που ασχολούνται με τη δημόσια και ιδιωτική οδοντιατρική φροντίδα ασθενών με αναπηρία\, βεβαρημένο ιατρικό ιστορικό και ιδιαίτερα προβλήματα. Η διαδραστική συμμετοχή των συνέδρων κατά τη διάρκεια όλου του προγράμματος\, κατευθυνόμενου και ελεύθερου\, αποτελούν διαχρονική μέριμνα της ΕΕΝΟ-ΟΕΦ. \nΟι ενδιαφερόμενοι πρέπει να αποστείλουν περίληψη 200-250 λέξεις στο email eeno.gr@gmail.com με θέμα «Εργασία για το 7ο Συνέδριο» σύμφωνα με τις οδηγίες που είναι αναρτημένες στην ιστοσελίδα της Εταιρείας. Καταληκτική ημερομηνία υποβολής περίληψης η 30/9/2023. Για κάθε εργασία που θα γίνει δεκτή για ανακοίνωση\, θα υπάρξει ειδοποίηση για καταβολή του ποσού των 50 ευρώ έως 20/10/23\, προκειμένου να συμπεριληφθεί στο πρόγραμμα. Το ποσόν αυτό περιλαμβάνει και το δικαίωμα παρακολούθησης του συγγραφέως που θα την παρουσιάσει. \nΗ συμμετοχή των οδοντιάτρων και ιατρών ορίζεται στο ποσόν των 50 ευρώ και περιλαμβάνει την παρακολούθηση του Συνεδρίου\, την παραλαβή του συνεδριακού υλικού και τού πιστοποιητικού συμμετοχής\, καθώς και την συμμετοχή στον καφέ στο διάλειμμα και στη δεξίωση υποδοχής. Η συμμετοχή των προπτυχιακών φοιτητών (με επίδειξη της φοιτητικής ταυτότητας)\, των ειδικευομένων\, των νοσηλευτών και των λοιπών λειτουργών υγείας είναι ελεύθερη. \nΠληροφορίες: Με αποστολή e-mail στο eeno.gr@gmail.com ή τηλεφωνικά στο τηλ. 6977041898\, 18.00-20.00 καθημερινά (κ. Αθανάσιος Σπηλιωτόπουλος). \nΑναλυτικό πρόγραμμα ΕΔΩ
URL:https://odvima.gr/en/event/7o-panellinio-synendrio-tis-eeno-oef/
LOCATION:Ασκληπιείο Βούλας\, Λεωφ. Βασιλέως Παύλου 1\, Βούλα\, Αττικής\, 166 73\, Ελλάδα
ATTACH;FMTTYPE=image/jpeg:https://odvima.gr/wp-content/uploads/2023/11/ΕΕΝΟ-ΟΕΦ.jpg
ORGANIZER;CN="%CE%95%CE%BB%CE%BB%CE%B7%CE%BD%CE%B9%CE%BA%CE%AE%20%CE%95%CF%84%CE%B1%CE%B9%CF%81%CE%B5%CE%AF%CE%B1%20%CE%9D%CE%BF%CF%83%CE%BF%CE%BA%CE%BF%CE%BC%CE%B5%CE%B9%CE%B1%CE%BA%CE%AE%CF%82%20%CE%9F%CE%B4%CE%BF%CE%BD%CF%84%CE%B9%CE%B1%CF%84%CF%81%CE%B9%CE%BA%CE%AE%CF%82%20%CE%BA%CE%B1%CE%B9%20%CE%9F%CE%B4%CE%BF%CE%BD%CF%84%CE%B9%CE%B1%CF%84%CF%81%CE%B9%CE%BA%CE%AE%CF%82%20%CE%95%CE%B9%CE%B4%CE%B9%CE%BA%CE%AE%CF%82%20%CE%A6%CF%81%CE%BF%CE%BD%CF%84%CE%AF%CE%B4%CE%B1%CF%82":MAILTO:eeno.gr@gmail.com
END:VEVENT
BEGIN:VEVENT
DTSTART;TZID=UTC:20231124T090000
DTEND;TZID=UTC:20231126T170000
DTSTAMP:20260419T173652
CREATED:20230322T085210Z
LAST-MODIFIED:20231117T100540Z
UID:7637-1700816400-1701018000@odvima.gr
SUMMARY:14ο Συμπόσιο Περιοδοντολογίας
DESCRIPTION:Τέσσερα χρόνια μετά το τελευταίο Συμπόσιο Περιοδοντολογίας\, τη σημαντικότερη επιστημονική εκδήλωση που διοργανώνει η Ελληνική Εταιρεία Περιοδοντολογίας & Οδοντικών Εμφυτευμάτων ανά τριετία\, έρχεται τον Νοέμβριο το 14ο Συμπόσιο Περιοδοντολογίας. Φέτος ειδικά με ένα χρόνο καθυστέρηση λόγω της πανδημίας ο στόχος της παρουσίασης των τελευταίων εξελίξεων στην οδοντιατρική κοινότητα γίνεται ακόμη πιο επίκαιρος. \nΤο συμπόσιο θα πραγματοποιηθεί στις 24\, 25 και 26 Νοεμβρίου 2023 στο Μέγαρο Διεθνές Συνεδριακό Κέντρο Αθηνών και θα έχει θέμα: «Predictable tissue management around teeth and implants. A critical reassessment» \nΕνάμιση χρόνο μετά το Europerio10 στην Κοπεγχάγη\, όπου η ελληνική παρουσία ήταν επιτυχημένη από κάθε άποψη\, η Ελληνική Εταιρεία Περιοδοντολογίας και Οδοντικών Εμφυτευμάτων προσεγγίζει το θέμα του προβλέψιμου θεραπευτικού αποτελέσματος και δίνει την ευκαιρία μίας κριτικής επαναξιολόγησης μεθόδων\, τεχνικών και υλικών. \nΤην επιστημονική εκδήλωση\, στην οποία θα συμμετέχουν 7 ομιλητές διεθνούς φήμης: Darko Bozic\, Tali Chachartchi\, Georgios Kotsakis\, Ioannis Polyzois\, Anton Sculean\, Andreas Stavropoulos και Lewis Winning. \nΈνα ακόμη αξιοσημείωτο χαρακτηριστικό του 14ου Συμποσίου είναι το γεγονός ότι για πρώτη φορά διοργανώνεται ένα Pre-Symposium Peri-implantitis hands-on σεμινάριο\, με τη χορηγία της Novabone στις 23 Νοεμβρίου και ώρα 16:00-20:00\, στο Crowne Plaza στην Αθήνα. Το συγκεκριμένο κλινικό σεμινάριο έχει πραγματοποιηθεί πολλές φορές με τεράστια επιτυχία από τον Καθηγητή του Πανεπιστημίου Rutgers Γεώργιο Κοτσάκη στις ΗΠΑ και θα είναι η πρώτη φορά που λαμβάνει χώρα στην Ελλάδα. Σε αυτό το τετράωρης διάρκειας κλινικό σεμινάριο οι συμμετέχοντες θα έχουν την ευκαιρία να μάθουν για όλα τα πρωτόκολλα θεραπείας περιεμφυτευματίτιδας\, που προτείνει ο καθηγητής Georgios Kotsakis\, βάσει επιστημονικής τεκμηρίωσης. Επίσης θα υπάρξει η δυνατότητα επίδειξης και χρήσης νέων εργαλείων. Στην συνέχεια οι συμμετέχοντες θα έχουν την ευκαιρία\, μετά από ζωντανή επίδειξη και βίντεο\, να εργαστούν πάνω σε γουρουνοκεφαλές στην διαχείριση των σκληρών ιστών και στις νέες περιεμφυτευματικές χειρουργικές θεραπείες καθώς και στην διαχείριση μαλακών ιστών όπως η αύξηση κερατινοποιημένων ιστών αλλά και σε τεχνικές ραφής του περιοστέου (periosteal sling sutures).
URL:https://odvima.gr/en/event/14o-sybosio-periodontologias/
LOCATION:Μέγαρο Διεθνές Συνεδριακό Κέντρο Αθηνών\, Βασ. Σοφίας & Κόκκαλη 1\, Αθήνα\, Αττικής\, 11521\, Ελλάδα
ATTACH;FMTTYPE=image/jpeg:https://odvima.gr/wp-content/uploads/2023/03/EPE.jpg
ORGANIZER;CN="%CE%95%CE%BB%CE%BB%CE%B7%CE%BD%CE%B9%CE%BA%CE%AE%20%CE%95%CF%84%CE%B1%CE%B9%CF%81%CE%B5%CE%AF%CE%B1%20%CE%A0%CE%B5%CF%81%CE%B9%CE%BF%CE%B4%CE%BF%CE%BD%CF%84%CE%BF%CE%BB%CE%BF%CE%B3%CE%AF%CE%B1%CF%82%20%CE%BA%CE%B1%CE%B9%20%CE%9F%CE%B4%CE%BF%CE%BD%CF%84%CE%B9%CE%BA%CF%8E%CE%BD%20%CE%95%CE%BC%CF%86%CF%85%CF%84%CE%B5%CF%85%CE%BC%CE%AC%CF%84%CF%89%CE%BD":MAILTO:helperio@periodontology.gr
END:VEVENT
BEGIN:VEVENT
DTSTART;TZID=UTC:20231125T193000
DTEND;TZID=UTC:20231125T230000
DTSTAMP:20260419T173653
CREATED:20231030T132345Z
LAST-MODIFIED:20231030T132345Z
UID:9256-1700940600-1700953200@odvima.gr
SUMMARY:6η Πολιτιστική Εκδήλωση του Ομίλου Ο.Λ.Κ.
DESCRIPTION:O Όμιλος Οδοντιάτρων Λογοτεχνών-Καλλιτεχνών σας προσκαλεί στην 6η Πολιτιστική Εκδήλωση του Ομίλου\, «Πρόσφυγες και Μετανάστες στο σταυροδρόμι της Μεσογείου»\, που θα γίνει το Σάββατο 25 Νοεμβρίου 2023 και ώρα 7:30μμ στο Ίδρυμα Β. & Μ. Θεοχαράκη (Βασ. Σοφίας 9 & Μέρλιν 1\, Αθήνα) \nΠΡΟΓΡΑΜΜΑ\nΠρώτο μέρος:\nΣυντονίστρια: Μαρία Λάμπρου\nΈναρξη: Γεράσιμος Δουβίτσας\nΠαρεμβάσεις Μελών:\nΔημήτρης Μαυραειδόπουλος (Διαβάζει η Μαρία Λάμπρου)\,\nΣταυρούλα Ζώρζου\, \nΆγγελός Γαλάνης (Απαγγέλει η Ελίνα Γεωργίλη)\,\nΓεράσιμος Δουβίτσας (Απαγγέλει η Ελίνα Γεωργίλη) \nΔεύτερο μέρος:\nΣυντονιστής: Άγγελος Γαλάνης\nΚύρια Εισήγηση: Ορώντας εξαναγκασμένες ανθρώπων ροές καθαπερανεί κατά μίτον εξυφασμένας\nΓιώργος Ρούσκας\, ποιητής\, κριτικός λογοτεχνίας
URL:https://odvima.gr/en/event/6i-politistiki-ekdilosi-tou-omilou-o-l-k/
LOCATION:Ίδρυμα Β. & Μ. Θεοχαράκη\, Βασιλίσσης Σοφίας 9 &\, Μέρλιν 1\, Αθήνα\, Αττικής\, 106 71\, Ελλάδα
ATTACH;FMTTYPE=image/jpeg:https://odvima.gr/wp-content/uploads/2023/10/ΟΟΛΚ.jpg
ORGANIZER;CN="%CE%8C%CE%BC%CE%B9%CE%BB%CE%BF%CF%82%20%CE%9F%CE%B4%CE%BF%CE%BD%CF%84%CE%B9%CE%AC%CF%84%CF%81%CF%89%CE%BD%20%CE%9B%CE%BF%CE%B3%CE%BF%CF%84%CE%B5%CF%87%CE%BD%CF%8E%CE%BD%20%CE%9A%CE%B1%CE%BB%CE%BB%CE%B9%CF%84%CE%B5%CF%87%CE%BD%CF%8E%CE%BD":MAILTO:omilosolk@gmail.com
END:VEVENT
END:VCALENDAR