BEGIN:VCALENDAR
VERSION:2.0
PRODID:-//Οδοντιατρικό Βήμα - ECPv6.0.1.1//NONSGML v1.0//EN
CALSCALE:GREGORIAN
METHOD:PUBLISH
X-WR-CALNAME:Οδοντιατρικό Βήμα
X-ORIGINAL-URL:https://odvima.gr/en
X-WR-CALDESC:Events for Οδοντιατρικό Βήμα
REFRESH-INTERVAL;VALUE=DURATION:PT1H
X-Robots-Tag:noindex
X-PUBLISHED-TTL:PT1H
BEGIN:VTIMEZONE
TZID:UTC
BEGIN:STANDARD
TZOFFSETFROM:+0000
TZOFFSETTO:+0000
TZNAME:UTC
DTSTART:20230101T000000
END:STANDARD
END:VTIMEZONE
BEGIN:VEVENT
DTSTART;TZID=UTC:20230608T080000
DTEND;TZID=UTC:20230610T170000
DTSTAMP:20260419T150955
CREATED:20230315T105317Z
LAST-MODIFIED:20230529T084101Z
UID:7454-1686211200-1686416400@odvima.gr
SUMMARY:Στην Αθήνα η Dentsply Sirona World Summit 2023
DESCRIPTION:Το φετινό Διεθνές Εμφυτευματικό Συνέδριο της DentsplySirona Implants θα διεξαχθεί στην Αθήνα\, 8-10 Ιουνίου 2023\, και έχει ως κεντρικό θέμα και μότο τη φράση «εκεί που συναντιούνται η ιστορία\, το μέλλον και η επιστήμη». \nΈνα συνέδριο με καταξιωμένους διεθνείς ομιλητές που θα εστιάσει στις τελευταίες καινοτομίες στην εμφυτευματολογία\, στην  οστική αναγέννηση και τις προσθετικές λύσεις. \nΔείτε αναλυτικά το κόστος εγγραφών και το πλήρες πρόγραμμα εδώ.
URL:https://odvima.gr/en/event/dentsply-sirona-world-summit/
LOCATION:Hotel Athenaeum InterContinental\, Λεωφ. Ανδρέα Συγγρού 89-93\, Αθήνα\, Αττική\, 117 45
ATTACH;FMTTYPE=image/jpeg:https://odvima.gr/wp-content/uploads/2023/03/Dentsply-Sirona-Summit.jpg
ORGANIZER;CN="Dentsply%20Sirona":MAILTO:contact@dentsplysirona.com
END:VEVENT
END:VCALENDAR