BEGIN:VCALENDAR
VERSION:2.0
PRODID:-//Οδοντιατρικό Βήμα - ECPv6.0.1.1//NONSGML v1.0//EN
CALSCALE:GREGORIAN
METHOD:PUBLISH
X-ORIGINAL-URL:https://odvima.gr/en
X-WR-CALDESC:Events for Οδοντιατρικό Βήμα
REFRESH-INTERVAL;VALUE=DURATION:PT1H
X-Robots-Tag:noindex
X-PUBLISHED-TTL:PT1H
BEGIN:VTIMEZONE
TZID:UTC
BEGIN:STANDARD
TZOFFSETFROM:+0000
TZOFFSETTO:+0000
TZNAME:UTC
DTSTART:20230101T000000
END:STANDARD
END:VTIMEZONE
BEGIN:VEVENT
DTSTART;TZID=UTC:20230531T200000
DTEND;TZID=UTC:20230531T213000
DTSTAMP:20260421T225522
CREATED:20230519T085800Z
LAST-MODIFIED:20230519T091127Z
UID:8175-1685563200-1685568600@odvima.gr
SUMMARY:Διαχείριση Μαλακών Ιστών Επιβοηθούμενη από το PRF
DESCRIPTION:Live ΔΩΡΕΑΝ WEBINAR την Τετάρτη 31 Μαΐου με ομιλήτρια την κ. Κλεοπάτρα Νακοπούλου και θέμα: «Αιμοπεταλιακά συμπληρώματα (PLATELET RICH FIBRIN) στα πλαίσια της προ προσθετικής θεραπείας και της βελτίωσης της περί στοματικής περιοχής μετά το πέρας της προσθετικής αποκατάστασης» \nΕδώ και αρκετές δεκαετίες\, η αναγεννητική ιατρική προσπαθεί να βελτιώσει τις συμβατικές μεθόδους οδοντιατρικής\, στοματικής και κρανιοπροσωπικής αποκατάστασης για εκατομμύρια ανθρώπους ετησίως. Αρκετές στρατηγικές μηχανικής οστικών ιστών είναι πλέον άμεσα διαθέσιμες στην κλινική πράξη. Η χρήση αυτόλογων προϊόντων\, οι αυξητικοί παράγοντες και οι συνδυαστικές προσεγγίσεις συζητούνται ως τρόποι βελτίωσης της φαρέτρας του χειρουργού. Τα συμπυκνώματα αιμοπεταλίων για χειρουργική χρήση αποτελούν καινοτόμα εργαλεία της αναγεννητικής ιατρικής και δοκιμάστηκαν ευρέως στη στοματική και γναθοπροσωπική χειρουργική καθώς και στη αναγεννητική και αισθητική ιατρική. \nΤο PRF είναι ένα συμπύκνωμα αίματος δεύτερης γενιάς το οποίο είναι πλούσιο σε αιμοπετάλια και ινική και προέρχεται από ανθρώπινο περιφερικό αίμα\, ικανό να διεγείρει την αναγέννηση των ιστών. Μια στερεή και υγρή μήτρα με βάση το PRF μπορεί να ληφθεί με φυγοκέντρηση σύμφωνα με ειδικά πρωτόκολλα \, όπως το χαμηλής ταχύτητας (LSCC)\, χωρίς την προσθήκη αντιπηκτικών ή άλλων χημικών ουσιών. Περιέχει μεγαλύτερο αριθμό λευκοκυττάρων\, αυξητικών παραγόντων και βλαστοκυττάρων σε σύγκριση με το PRP. Στην περιοδοντολογία και τη χειρουργική του στόματος\, το PRF χρησιμοποιείται για την προώθηση της επούλωσης μαλακών και σκληρών ιστών. Το PRF αποδείχθηκε ότι μειώνει το μετεγχειρητικό πόνο\, βελτιώνει τη δημιουργία μαλακών ιστών και προλαμβάνει την απώλεια διαστάσεων του οστού\, ιδίως κατά την πρώιμη χρονική περίοδο των 2-3 μηνών. \nΤα οφέλη της επούλωσης των τραυμάτων από τα παρασκευάσματα ινώδους πλούσιου σε αιμοπετάλια και ινική σε συνδυασμό με το χαμηλό προφίλ κινδύνου και τη δυνατότητα μιας απλής διαδικασίας παρασκευής θα πρέπει να ενθαρρύνουν περισσότερους κλινικούς οδοντιάτρους και ιατρούς να ενσωματώσουν το PRF ως θεραπευτική επιλογή στην πρακτική τους για την επιτάχυνση της επούλωσης και τη μείωση των ανεπιθύμητων ενεργειών μετεγχειρητικά. \nΥΠΟ ΤΗΝ ΑΙΓΙΔΑ ΤΗΣ ΠΡΟΣΘΕΤΙΚΗΣ ΕΤΑΙΡΕΙΑΣ ΕΛΛΑΔΟΣ \nΠερισσότερες πληροφορίες-εγγραφές ΕΔΩ
URL:https://odvima.gr/en/event/diacheirisi-malakon-iston-epivoithoumeni-apo-to-prf/
LOCATION:Αττικής
ATTACH;FMTTYPE=image/jpeg:https://odvima.gr/wp-content/uploads/2023/05/prf.jpg
ORGANIZER;CN="%CE%95%CE%BB%CE%BB%CE%B7%CE%BD%CE%B9%CE%BA%CE%AE%20%CE%A0%CF%81%CE%BF%CF%83%CE%B8%CE%B5%CF%84%CE%B9%CE%BA%CE%AE%20%CE%95%CF%84%CE%B1%CE%B9%CF%81%CE%B5%CE%AF%CE%B1":MAILTO:grprosthsociety@gmail.com
END:VEVENT
END:VCALENDAR